BEGIN:VCALENDAR
VERSION:2.0
PRODID:-//EVB Training - Weiterbildungen - Umschulungen - Coaching - Sprachen - ECPv6.15.17//NONSGML v1.0//EN
CALSCALE:GREGORIAN
METHOD:PUBLISH
X-WR-CALNAME:EVB Training - Weiterbildungen - Umschulungen - Coaching - Sprachen
X-ORIGINAL-URL:https://evbtraining.de
X-WR-CALDESC:Veranstaltungen für EVB Training - Weiterbildungen - Umschulungen - Coaching - Sprachen
REFRESH-INTERVAL;VALUE=DURATION:PT1H
X-Robots-Tag:noindex
X-PUBLISHED-TTL:PT1H
BEGIN:VTIMEZONE
TZID:Europe/Berlin
BEGIN:DAYLIGHT
TZOFFSETFROM:+0100
TZOFFSETTO:+0200
TZNAME:CEST
DTSTART:20230326T010000
END:DAYLIGHT
BEGIN:STANDARD
TZOFFSETFROM:+0200
TZOFFSETTO:+0100
TZNAME:CET
DTSTART:20231029T010000
END:STANDARD
BEGIN:DAYLIGHT
TZOFFSETFROM:+0100
TZOFFSETTO:+0200
TZNAME:CEST
DTSTART:20240331T010000
END:DAYLIGHT
BEGIN:STANDARD
TZOFFSETFROM:+0200
TZOFFSETTO:+0100
TZNAME:CET
DTSTART:20241027T010000
END:STANDARD
BEGIN:DAYLIGHT
TZOFFSETFROM:+0100
TZOFFSETTO:+0200
TZNAME:CEST
DTSTART:20250330T010000
END:DAYLIGHT
BEGIN:STANDARD
TZOFFSETFROM:+0200
TZOFFSETTO:+0100
TZNAME:CET
DTSTART:20251026T010000
END:STANDARD
END:VTIMEZONE
BEGIN:VEVENT
DTSTART;TZID=Europe/Berlin:20240626T140000
DTEND;TZID=Europe/Berlin:20240626T160000
DTSTAMP:20260420T075505
CREATED:20240625T111454Z
LAST-MODIFIED:20240717T122057Z
UID:10000278-1719410400-1719417600@evbtraining.de
SUMMARY:WEBINAR- Gewerbliche Umschulungen  – 26.06.2024 um 14:00 Uhr
DESCRIPTION:Der Beruf „Fachkraft für Lagerlogistik“ ist ein von der IHK anerkannter Ausbildungsberuf. Die Chancen auf dem Arbeitsmarkt für Absolventen einer Umschulung in der Lagerlogistik sind sehr gut. Durch die ständige Liefer- und Verkaufsbereitschaft der Unternehmen und der immer kürzer werdenden Lieferzeiten wird die Lagerlogistik immer gefragt sein. Der hohe Grad der Technologisierung der Lagerlogistik\, der sich gerade durchsetzt\, setzt eine fundierte Ausbildung und ständige Weiterbildung voraus. Fachkräfte für Lagerlogistik übernehmen vielseitige Aufgaben\, die weit über die Einlagerung von Waren und die Zusammenstellung von Bestellungen hinausreichen z.B. Arbeiten am PC oder Kontaktaufnahme mit Lieferanten etc. \n\n\nDer Beruf „Fachlagerist/in“ ist ein von der IHK anerkannter Ausbildungsberuf. Die Chancen auf dem Arbeitsmarkt für Absolventen einer Umschulung in der Lagerlogistik sind sehr gut. Durch die ständige Liefer- und Verkaufsbereitschaft der Unternehmen und der immer kürzer werdenden Lieferzeiten wird die Lagerlogistik immer gefragt sein. Der hohe Grad der Technologisierung der Lagerlogistik\, der sich gerade durchsetzt\, setzt eine fundierte Ausbildung und ständige Weiterbildung voraus. \nDie Inhalte der Umschulungen orientieren sich an der Ausbildungsverordnung und dem Rahmenlehrplan. Ein Bestandteil der Umschulung beinhaltet eine Praxisphase. Das Gelernte kann somit im Praktikum umgesetzt und vertieft werden. Dieser Kurs wird durch die IHK-Prüfung abgeschlossen. \nSobald du das untenstehende Formular ausgefüllt hast\, erhältst du den Zoom-Link per E-Mail zugesandt. \n 
URL:https://evbtraining.de/webinar/webinar-2606/
CATEGORIES:Deutsch,Infoveranstaltung,Umschulungen
ATTACH;FMTTYPE=image/png:https://evbtraining.de/wp-content/uploads/2024/07/Webinar_Large_de.png
ORGANIZER;CN="EVB Training GmbH":MAILTO:info@evbtraining.de
END:VEVENT
BEGIN:VEVENT
DTSTART;TZID=Europe/Berlin:20240626T190000
DTEND;TZID=Europe/Berlin:20240626T210000
DTSTAMP:20260420T075505
CREATED:20240625T105553Z
LAST-MODIFIED:20240625T105623Z
UID:10000276-1719428400-1719435600@evbtraining.de
SUMMARY:WEBINAR- Umschulungen IT - auf Ukrainisch/Russich - 26.06.2024 um 19:00 Uhr
DESCRIPTION:Traumjob durch berufliche Umschulung\n\n Sei bereit für eine neue Karriere als Fachinformatiker/in! \n\n\n\n Willst du in die Welt der IT eintauchen? Dann ist unsere Umschulung zum/zur Fachinformatiker/in bei der IHK genau das Richtige für dich! Mit Spezialisierungen in Systemintegration und Anwendungsentwicklung bieten wir dir das perfekte Sprungbrett für deine IT-Karriere.\n\n\n\nUnsere Vorteile für dich:\n Individuelles Mentoring\, um dein volles Potenzial zu entfalten\n Unterstützung bei der Praktikums- und Jobsuche für einen reibungslosen Start in die Arbeitswelt\n Vorbereitung auf die IHK Probeprüfung\, damit du bestens vorbereitet bist\n Und viele weitere Vorteile\, die auf dich warten!\n 150 Euro Weiterbildungsgeld pro Monat erhalten!\n\n\n\n 100% Förderung durch das Jobcenter oder die Agentur für Arbeit – starte deine Umschulung ohne finanzielle Sorgen!\n\n\n\n Nimm teil an unserem kostenfreien Webinar\, um mehr über unsere Umschulung zu erfahren und deine Fragen zu stellen.\n\nSobald du das untenstehende Formular ausgefüllt hast\, erhältst du den Zoom-Link per E-Mail zugesandt. \n 
URL:https://evbtraining.de/webinar/webinar-2606-ru/
CATEGORIES:Infoveranstaltung,Russisch,Ukrainisch,Umschulungen
ATTACH;FMTTYPE=image/png:https://evbtraining.de/wp-content/uploads/2024/04/Webinar_USFI_ukr-1.png
ORGANIZER;CN="Beratung Russisch":MAILTO:Beratung-ukr@evbtraining.de
END:VEVENT
BEGIN:VEVENT
DTSTART;TZID=Europe/Berlin:20240627T140000
DTEND;TZID=Europe/Berlin:20240627T160000
DTSTAMP:20260420T075505
CREATED:20240625T111742Z
LAST-MODIFIED:20240625T111742Z
UID:10000279-1719496800-1719504000@evbtraining.de
SUMMARY:WEBINAR-Qualifizierungsprogramm für internationale Lehrkräfte auf Türkisch - 27.06.2014 um 14:00 Uhr
DESCRIPTION:Qualifizierungsprogramm für internationale Lehrkräfte\nWenn deine Leidenschaft die Arbeit mit Kindern ist\, dann bist du bei uns genau richtig. \n  \nBerufliches Profil optimieren\nbis zu 100 % Förderung\n20 Schulungsstandorte in Deutschland\nTeilnahme auch von zu Hause aus möglich \n  \nSobald du das untenstehende Formular ausgefüllt hast\, erhältst du den Zoom-Link per E-Mail zugesandt.
URL:https://evbtraining.de/webinar/webinar-2706-tr/
CATEGORIES:Infoveranstaltung,Türkçe,Weiterbildungen
ATTACH;FMTTYPE=image/png:https://evbtraining.de/wp-content/uploads/2024/04/Webinar_Qintl_tr-1.png
ORGANIZER;CN="Beratung T%C3%BCrkce":MAILTO:beratung-tr@evbtraining.de
LOCATION:https://us06web.zoom.us/j/89189357530
END:VEVENT
BEGIN:VEVENT
DTSTART;TZID=Europe/Berlin:20240627T140000
DTEND;TZID=Europe/Berlin:20240627T160000
DTSTAMP:20260420T075505
CREATED:20240625T111935Z
LAST-MODIFIED:20240625T111935Z
UID:10000280-1719496800-1719504000@evbtraining.de
SUMMARY:WEBINAR-Qualifizierungsprogramm für internationale Lehrkräfte auf Arabisch - 27.06.2014 um 14:00 Uhr
DESCRIPTION:Qualifizierungsprogramm für internationale Lehrkräfte\nWenn deine Leidenschaft die Arbeit mit Kindern ist\, dann bist du bei uns genau richtig. \n  \nBerufliches Profil optimieren\nbis zu 100 % Förderung\n20 Schulungsstandorte in Deutschland\nTeilnahme auch von zu Hause aus möglich \n  \nSobald du das untenstehende Formular ausgefüllt hast\, erhältst du den Zoom-Link per E-Mail zugesandt.
URL:https://evbtraining.de/webinar/webinar-2706-ar/
CATEGORIES:Arabisch,Infoveranstaltung,Weiterbildungen
ATTACH;FMTTYPE=image/png:https://evbtraining.de/wp-content/uploads/2024/04/Webinar_Qintl_ar-1.png
ORGANIZER;CN="Beratung Arabisch":MAILTO:beratung-ar@evbtraining.de
LOCATION:https://us06web.zoom.us/j/89189357530
END:VEVENT
BEGIN:VEVENT
DTSTART;TZID=Europe/Berlin:20240627T140000
DTEND;TZID=Europe/Berlin:20240627T160000
DTSTAMP:20260420T075505
CREATED:20240625T112311Z
LAST-MODIFIED:20240717T122230Z
UID:10000282-1719496800-1719504000@evbtraining.de
SUMMARY:WEBINAR- Umschulungen Kaufmann/-frau  – 27.06.2024 um 14:00 Uhr
DESCRIPTION:Der Beruf „Kaufmann/-frau für Büromanagement” bietet eine vielseitige und fundierte Ausbildung in der alle relevanten Kompetenzen und Wissensgebiete abgedeckt werden. Dies umfasst unter anderem Themen wie Büroorganisation und -kommunikation\, kaufmännische Steuerung\, Informationsverarbeitung sowie spezialisierte Module wie Personalwirtschaft oder Assistenz und Sekretariat. \n\n\n\n\nWährend des Praktikums haben die Teilnehmerinnen und Teilnehmer die Möglichkeit\, das im Kurs erworbene Wissen direkt anzuwenden und in einem realen Arbeitsumfeld zu vertiefen. Diese praktische Erfahrung ist unerlässlich\, um die Brücke zwischen Theorie und Praxis zu schlagen und die Absolventen optimal auf den Berufsalltag vorzubereiten. \nDie Umschulung schließt mit der IHK-Prüfung ab\, welche die Teilnehmenden offiziell als Kaufleute für Büromanagement zertifiziert. Diese Qualifikation wird von Arbeitgebern geschätzt und öffnet Türen in verschiedenen Branchen und Unternehmen. Absolventen dieses Kurses sind somit bestens ausgerüstet\, um eine erfolgreiche Karriere in der Büroverwaltung und -organisation zu beginnen\, und besitzen das nötige Fachwissen\, um in einem modernen Büroumfeld effizient und professionell zu agieren.” \n\nSobald du das untenstehende Formular ausgefüllt hast\, erhältst du den Zoom-Link per E-Mail zugesandt. \n 
URL:https://evbtraining.de/webinar/webinar-2706/
CATEGORIES:Deutsch,Infoveranstaltung,Umschulungen
ORGANIZER;CN="Beratung Deutsch":MAILTO:beratung-de@evbtraining.de
END:VEVENT
BEGIN:VEVENT
DTSTART;TZID=Europe/Berlin:20240627T190000
DTEND;TZID=Europe/Berlin:20240627T210000
DTSTAMP:20260420T075505
CREATED:20240625T110149Z
LAST-MODIFIED:20240625T110149Z
UID:10000277-1719514800-1719522000@evbtraining.de
SUMMARY:WEBINAR-Qualifizierungsprogramm für internationale Lehrkräfte auf Ukrainisch/Russisch - 27.06.2014 um 19:00 Uhr
DESCRIPTION:Qualifizierungsprogramm für internationale Lehrkräfte\nWenn deine Leidenschaft die Arbeit mit Kindern ist\, dann bist du bei uns genau richtig. \n  \nBerufliches Profil optimieren\nbis zu 100 % Förderung\n20 Schulungsstandorte in Deutschland\nTeilnahme auch von zu Hause aus möglich \n  \nSobald du das untenstehende Formular ausgefüllt hast\, erhältst du den Zoom-Link per E-Mail zugesandt.
URL:https://evbtraining.de/webinar/webinar-2706-ru/
CATEGORIES:Infoveranstaltung,Russisch,Ukrainisch,Weiterbildungen
ATTACH;FMTTYPE=image/png:https://evbtraining.de/wp-content/uploads/2024/04/Webinar_Qintl_ukr-1.png
ORGANIZER;CN="Beratung Russisch":MAILTO:Beratung-ukr@evbtraining.de
LOCATION:https://us06web.zoom.us/j/89189357530
END:VEVENT
BEGIN:VEVENT
DTSTART;TZID=Europe/Berlin:20240627T190000
DTEND;TZID=Europe/Berlin:20240627T210000
DTSTAMP:20260420T075505
CREATED:20240625T112053Z
LAST-MODIFIED:20240625T113540Z
UID:10000281-1719514800-1719522000@evbtraining.de
SUMMARY:WEBINAR-Qualifizierungsprogramm für internationale Lehrkräfte auf Persisch - 27.06.2014 um 19:00 Uhr
DESCRIPTION:Qualifizierungsprogramm für internationale Lehrkräfte\nWenn deine Leidenschaft die Arbeit mit Kindern ist\, dann bist du bei uns genau richtig. \n  \nBerufliches Profil optimieren\nbis zu 100 % Förderung\n20 Schulungsstandorte in Deutschland\nTeilnahme auch von zu Hause aus möglich \n  \nSobald du das untenstehende Formular ausgefüllt hast\, erhältst du den Zoom-Link per E-Mail zugesandt.
URL:https://evbtraining.de/webinar/webinar-2706-fa/
CATEGORIES:Infoveranstaltung,Persisch,Weiterbildungen
ATTACH;FMTTYPE=image/png:https://evbtraining.de/wp-content/uploads/2024/04/Webinar_Qintl_fa-1.png
ORGANIZER;CN="Beratung Farsi":MAILTO:beratung-fa@evbtraining.de
LOCATION:https://us06web.zoom.us/j/89189357530
END:VEVENT
BEGIN:VEVENT
DTSTART;TZID=Europe/Berlin:20240628T140000
DTEND;TZID=Europe/Berlin:20240628T160000
DTSTAMP:20260420T075505
CREATED:20240625T112707Z
LAST-MODIFIED:20240625T112707Z
UID:10000283-1719583200-1719590400@evbtraining.de
SUMMARY:WEBINAR- Umschulungen IT –  28.06.2024 um 14:00 Uhr
DESCRIPTION:Traumjob durch berufliche Umschulung\n\n Sei bereit für eine neue Karriere als Fachinformatiker/in! \n\n\n Willst du in die Welt der IT eintauchen? Dann ist unsere Umschulung zum/zur Fachinformatiker/in bei der IHK genau das Richtige für dich! Mit Spezialisierungen in Systemintegration und Anwendungsentwicklung bieten wir dir das perfekte Sprungbrett für deine IT-Karriere.\n\n\nUnsere Vorteile für dich:\n Individuelles Mentoring\, um dein volles Potenzial zu entfalten\n Unterstützung bei der Praktikums- und Jobsuche für einen reibungslosen Start in die Arbeitswelt\n Vorbereitung auf die IHK Probeprüfung\, damit du bestens vorbereitet bist\n Und viele weitere Vorteile\, die auf dich warten!\n 150 Euro Weiterbildungsgeld pro Monat erhalten!\n\n\n\n 100% Förderung durch das Jobcenter oder die Agentur für Arbeit – starte deine Umschulung ohne finanzielle Sorgen!\n\n\n\n Nimm teil an unserem kostenfreien Webinar\, um mehr über unsere Umschulung zu erfahren und deine Fragen zu stellen.\n\nSobald du das untenstehende Formular ausgefüllt hast\, erhältst du den Zoom-Link per E-Mail zugesandt. \n  \n  \n 
URL:https://evbtraining.de/webinar/webinar-2806/
CATEGORIES:Deutsch,Infoveranstaltung,Umschulungen
ATTACH;FMTTYPE=image/png:https://evbtraining.de/wp-content/uploads/2024/04/Webinar_USFI_de-1-e1742221135613.png
LOCATION:https://evbtraining.de/webinar/webinar-2806/
END:VEVENT
BEGIN:VEVENT
DTSTART;TZID=Europe/Berlin:20240628T170000
DTEND;TZID=Europe/Berlin:20240628T190000
DTSTAMP:20260420T075505
CREATED:20240625T113056Z
LAST-MODIFIED:20240625T113056Z
UID:10000285-1719594000-1719601200@evbtraining.de
SUMMARY:WEBINAR- Umschulungen IT – auf Türkisch – 28.06.2024 um 17:00 Uhr
DESCRIPTION:Traumjob durch berufliche Umschulung\n\n Sei bereit für eine neue Karriere als Fachinformatiker/in! \n\n\n Willst du in die Welt der IT eintauchen? Dann ist unsere Umschulung zum/zur Fachinformatiker/in bei der IHK genau das Richtige für dich! Mit Spezialisierungen in Systemintegration und Anwendungsentwicklung bieten wir dir das perfekte Sprungbrett für deine IT-Karriere.\n\n\nUnsere Vorteile für dich:\n Individuelles Mentoring\, um dein volles Potenzial zu entfalten\n Unterstützung bei der Praktikums- und Jobsuche für einen reibungslosen Start in die Arbeitswelt\n Vorbereitung auf die IHK Probeprüfung\, damit du bestens vorbereitet bist\n Und viele weitere Vorteile\, die auf dich warten!\n 150 Euro Weiterbildungsgeld pro Monat erhalten!\n\n\n\n 100% Förderung durch das Jobcenter oder die Agentur für Arbeit – starte deine Umschulung ohne finanzielle Sorgen!\n\n\n\n Nimm teil an unserem kostenfreien Webinar\, um mehr über unsere Umschulung zu erfahren und deine Fragen zu stellen.\n\nSobald du das untenstehende Formular ausgefüllt hast\, erhältst du den Zoom-Link per E-Mail zugesandt. \n  \n 
URL:https://evbtraining.de/webinar/webinar-2806-tr/
CATEGORIES:Infoveranstaltung,Türkçe,Umschulungen
ATTACH;FMTTYPE=image/png:https://evbtraining.de/wp-content/uploads/2024/04/Webinar_USFI_tr-1.png
ORGANIZER;CN="Beratung T%C3%BCrkce":MAILTO:beratung-tr@evbtraining.de
END:VEVENT
BEGIN:VEVENT
DTSTART;TZID=Europe/Berlin:20240628T180000
DTEND;TZID=Europe/Berlin:20240628T200000
DTSTAMP:20260420T075505
CREATED:20240625T112905Z
LAST-MODIFIED:20240625T112905Z
UID:10000284-1719597600-1719604800@evbtraining.de
SUMMARY:WEBINAR- Umschulungen IT – auf Arabisch – 28.06.2024 um 18:00 Uhr
DESCRIPTION:Traumjob durch berufliche Umschulung\n\n Sei bereit für eine neue Karriere als Fachinformatiker/in! \n\n\n\n Willst du in die Welt der IT eintauchen? Dann ist unsere Umschulung zum/zur Fachinformatiker/in bei der IHK genau das Richtige für dich! Mit Spezialisierungen in Systemintegration und Anwendungsentwicklung bieten wir dir das perfekte Sprungbrett für deine IT-Karriere.\n\n\n\nUnsere Vorteile für dich:\n Individuelles Mentoring\, um dein volles Potenzial zu entfalten\n Unterstützung bei der Praktikums- und Jobsuche für einen reibungslosen Start in die Arbeitswelt\n Vorbereitung auf die IHK Probeprüfung\, damit du bestens vorbereitet bist\n Und viele weitere Vorteile\, die auf dich warten!\n 150 Euro Weiterbildungsgeld pro Monat erhalten!\n\n\n\n 100% Förderung durch das Jobcenter oder die Agentur für Arbeit – starte deine Umschulung ohne finanzielle Sorgen!\n\n\n\n Nimm teil an unserem kostenfreien Webinar\, um mehr über unsere Umschulung zu erfahren und deine Fragen zu stellen.\n\n\nSobald du das untenstehende Formular ausgefüllt hast\, erhältst du den Zoom-Link per E-Mail zugesandt. \n  \n 
URL:https://evbtraining.de/webinar/webinar-2806-ar/
CATEGORIES:Arabisch,Infoveranstaltung,Umschulungen
ATTACH;FMTTYPE=image/png:https://evbtraining.de/wp-content/uploads/2024/04/Webinar_USFI_ar-2.png
ORGANIZER;CN="Beratung Arabisch":MAILTO:beratung-ar@evbtraining.de
END:VEVENT
BEGIN:VEVENT
DTSTART;TZID=Europe/Berlin:20240628T190000
DTEND;TZID=Europe/Berlin:20240628T210000
DTSTAMP:20260420T075505
CREATED:20240625T113305Z
LAST-MODIFIED:20240625T113305Z
UID:10000286-1719601200-1719608400@evbtraining.de
SUMMARY:WEBINAR- Umschulungen IT – auf Persisch – 28.06.2024 um 19:00 Uhr
DESCRIPTION:Traumjob durch berufliche Umschulung\n\n Sei bereit für eine neue Karriere als Fachinformatiker/in! \n\n\n\n Willst du in die Welt der IT eintauchen? Dann ist unsere Umschulung zum/zur Fachinformatiker/in bei der IHK genau das Richtige für dich! Mit Spezialisierungen in Systemintegration und Anwendungsentwicklung bieten wir dir das perfekte Sprungbrett für deine IT-Karriere.\n\n\n\nUnsere Vorteile für dich:\n Individuelles Mentoring\, um dein volles Potenzial zu entfalten\n Unterstützung bei der Praktikums- und Jobsuche für einen reibungslosen Start in die Arbeitswelt\n Vorbereitung auf die IHK Probeprüfung\, damit du bestens vorbereitet bist\n Und viele weitere Vorteile\, die auf dich warten!\n 150 Euro Weiterbildungsgeld pro Monat erhalten!\n\n\n\n 100% Förderung durch das Jobcenter oder die Agentur für Arbeit – starte deine Umschulung ohne finanzielle Sorgen!\n\n\n\n Nimm teil an unserem kostenfreien Webinar\, um mehr über unsere Umschulung zu erfahren und deine Fragen zu stellen.\n\nSobald du das untenstehende Formular ausgefüllt hast\, erhältst du den Zoom-Link per E-Mail zugesandt. \n  \n 
URL:https://evbtraining.de/webinar/webinar-2806-fa/
CATEGORIES:Infoveranstaltung,Persisch,Umschulungen
ORGANIZER;CN="Beratung Farsi":MAILTO:beratung-fa@evbtraining.de
LOCATION:https://us06web.zoom.us/j/86520332591
END:VEVENT
END:VCALENDAR