BEGIN:VCALENDAR
VERSION:2.0
PRODID:-//EVB Training - Weiterbildungen - Umschulungen - Coaching - Sprachen - ECPv6.15.17//NONSGML v1.0//EN
CALSCALE:GREGORIAN
METHOD:PUBLISH
X-WR-CALNAME:EVB Training - Weiterbildungen - Umschulungen - Coaching - Sprachen
X-ORIGINAL-URL:https://evbtraining.de
X-WR-CALDESC:Veranstaltungen für EVB Training - Weiterbildungen - Umschulungen - Coaching - Sprachen
REFRESH-INTERVAL;VALUE=DURATION:PT1H
X-Robots-Tag:noindex
X-PUBLISHED-TTL:PT1H
BEGIN:VTIMEZONE
TZID:Europe/Berlin
BEGIN:DAYLIGHT
TZOFFSETFROM:+0100
TZOFFSETTO:+0200
TZNAME:CEST
DTSTART:20230326T010000
END:DAYLIGHT
BEGIN:STANDARD
TZOFFSETFROM:+0200
TZOFFSETTO:+0100
TZNAME:CET
DTSTART:20231029T010000
END:STANDARD
BEGIN:DAYLIGHT
TZOFFSETFROM:+0100
TZOFFSETTO:+0200
TZNAME:CEST
DTSTART:20240331T010000
END:DAYLIGHT
BEGIN:STANDARD
TZOFFSETFROM:+0200
TZOFFSETTO:+0100
TZNAME:CET
DTSTART:20241027T010000
END:STANDARD
BEGIN:DAYLIGHT
TZOFFSETFROM:+0100
TZOFFSETTO:+0200
TZNAME:CEST
DTSTART:20250330T010000
END:DAYLIGHT
BEGIN:STANDARD
TZOFFSETFROM:+0200
TZOFFSETTO:+0100
TZNAME:CET
DTSTART:20251026T010000
END:STANDARD
END:VTIMEZONE
BEGIN:VEVENT
DTSTART;TZID=Europe/Berlin:20240618T140000
DTEND;TZID=Europe/Berlin:20240618T160000
DTSTAMP:20260420T030442
CREATED:20240605T125806Z
LAST-MODIFIED:20240605T132139Z
UID:10000267-1718719200-1718726400@evbtraining.de
SUMMARY:WEBINAR-Schulbegleiter*in / Integrationsassistent*in – auf Arabisch – 18.06.2024 um 14:00 Uhr
DESCRIPTION:Schulbegleiter*innen leisten einen wichtigen Betrag zur schulischen Teilhabe junger Menschen! \nBerufliches Profil optimieren\nbis zu 100 % Förderung\n20 Schulungsstandorte in Deutschland\nTeilnahme auch von zu Hause aus möglich \n  \nSobald du das untenstehende Formular ausgefüllt hast\, erhältst du den Zoom-Link per E-Mail zugesandt. \n  \n  \n 
URL:https://evbtraining.de/webinar/webinar-1806-ar/
CATEGORIES:Arabisch,Infoveranstaltung,Schulbegleiter,Weiterbildungen
ATTACH;FMTTYPE=image/png:https://evbtraining.de/wp-content/uploads/2024/03/Webinar_SB_ar-e1711108863780.png
END:VEVENT
BEGIN:VEVENT
DTSTART;TZID=Europe/Berlin:20240618T140000
DTEND;TZID=Europe/Berlin:20240618T160000
DTSTAMP:20260420T030442
CREATED:20240605T132333Z
LAST-MODIFIED:20240605T132416Z
UID:10000268-1718719200-1718726400@evbtraining.de
SUMMARY:WEBINAR-Schulbegleiter*in / Integrationsassistent*in – auf Türkisch – 18.06.2024 um 14:00 Uhr
DESCRIPTION:Schulbegleiter*innen leisten einen wichtigen Betrag zur schulischen Teilhabe junger Menschen! \nBerufliches Profil optimieren\nbis zu 100 % Förderung\n20 Schulungsstandorte in Deutschland\nTeilnahme auch von zu Hause aus möglich \n  \nSobald du das untenstehende Formular ausgefüllt hast\, erhältst du den Zoom-Link per E-Mail zugesandt. \n 
URL:https://evbtraining.de/webinar/webinar-1806-tr/
CATEGORIES:Infoveranstaltung,Schulbegleiter,Türkçe,Weiterbildungen
ATTACH;FMTTYPE=image/png:https://evbtraining.de/wp-content/uploads/2024/03/Webinar_SB_tr-e1711108804171.png
END:VEVENT
BEGIN:VEVENT
DTSTART;TZID=Europe/Berlin:20240618T140000
DTEND;TZID=Europe/Berlin:20240618T160000
DTSTAMP:20260420T030442
CREATED:20240605T132557Z
LAST-MODIFIED:20240605T132557Z
UID:10000269-1718719200-1718726400@evbtraining.de
SUMMARY:WEBINAR-Schulbegleiter*in / Integrationsassistent*in – auf Persisch – 18.06.2024 um 14:00 Uhr
DESCRIPTION:Schulbegleiter*innen leisten einen wichtigen Betrag zur schulischen Teilhabe junger Menschen! \nBerufliches Profil optimieren\nbis zu 100 % Förderung\n20 Schulungsstandorte in Deutschland\nTeilnahme auch von zu Hause aus möglich \nSobald du das untenstehende Formular ausgefüllt hast\, erhältst du den Zoom-Link per E-Mail zugesandt. \n  \n 
URL:https://evbtraining.de/webinar/webinar-1806-fa/
CATEGORIES:Infoveranstaltung,Persisch,Schulbegleiter,Weiterbildungen
ATTACH;FMTTYPE=image/png:https://evbtraining.de/wp-content/uploads/2024/03/Webinar_SB_fa-e1711108822199.png
END:VEVENT
BEGIN:VEVENT
DTSTART;TZID=Europe/Berlin:20240618T140000
DTEND;TZID=Europe/Berlin:20240618T160000
DTSTAMP:20260420T030442
CREATED:20240605T132940Z
LAST-MODIFIED:20240605T132940Z
UID:10000270-1718719200-1718726400@evbtraining.de
SUMMARY:WEBINAR-Schulbegleiter*in - Integrationsassistent*in  – 18.06.2024 um 14:00 Uhr
DESCRIPTION:Schulbegleiter*innen leisten einen wichtigen Betrag zur schulischen Teilhabe junger Menschen! \nBerufliches Profil optimieren\nbis zu 100 % Förderung\n20 Schulungsstandorte in Deutschland\nTeilnahme auch von zu Hause aus möglich \nSobald du das untenstehende Formular ausgefüllt hast\, erhältst du den Zoom-Link per E-Mail zugesandt. \n  \n 
URL:https://evbtraining.de/webinar/webinar-1806/
CATEGORIES:Deutsch,Infoveranstaltung,Schulbegleiter,Weiterbildungen
ATTACH;FMTTYPE=image/png:https://evbtraining.de/wp-content/uploads/2024/03/Webinar_SB_de-e1728639320942.png
END:VEVENT
BEGIN:VEVENT
DTSTART;TZID=Europe/Berlin:20240618T190000
DTEND;TZID=Europe/Berlin:20240618T210000
DTSTAMP:20260420T030442
CREATED:20240605T124803Z
LAST-MODIFIED:20240605T131946Z
UID:10000265-1718737200-1718744400@evbtraining.de
SUMMARY:WEBINAR-Schulbegleiter*in / Integrationsassistent*in – auf Ukrainisch/Russich – 18.06.2024 um 19:00 Uhr
DESCRIPTION:Schulbegleiter*innen leisten einen wichtigen Betrag zur schulischen Teilhabe junger Menschen! \nBerufliches Profil optimieren\nbis zu 100 % Förderung\n20 Schulungsstandorte in Deutschland\nTeilnahme auch von zu Hause aus möglich \n  \nSobald du das untenstehende Formular ausgefüllt hast\, erhältst du den Zoom-Link per E-Mail zugesandt. \n 
URL:https://evbtraining.de/webinar/webinar-1806-ukr/
CATEGORIES:Infoveranstaltung,Russisch,Schulbegleiter,Ukrainisch,Weiterbildungen
ATTACH;FMTTYPE=image/png:https://evbtraining.de/wp-content/uploads/2024/03/Webinar_SB_ukr-e1711108779574.png
END:VEVENT
BEGIN:VEVENT
DTSTART;TZID=Europe/Berlin:20240619T140000
DTEND;TZID=Europe/Berlin:20240619T160000
DTSTAMP:20260420T030442
CREATED:20240605T133403Z
LAST-MODIFIED:20240605T133403Z
UID:10000271-1718805600-1718812800@evbtraining.de
SUMMARY:WEBINAR-Pädagogische ergänzungskraftalltagshelfer*in in der OGS – 19.06.2024 um 14:00 Uhr
DESCRIPTION:Die Weiterbildung zur pädagogischen Ergänzungskraft/Alltagshelfer*in OGS qualifiziert dich für eine Tätigkeit im Nachmittagsbereich an der Schule und in der außerschulischen Betreuung von Kindern und Jugendlichen. \nWenn du gerne mit Kindern und Jugendlichen arbeiten möchtest und das Ziel hast\, an einer Schule zu arbeiten\, ist diese Weiterbildung für dich die richtige. \nDann mach mit bei unserem Weiterbildungsprogramm “Weiterbildung zur pädagogischen Ergänzungskraft/Alltagshelfer*in OGS“. \nNach erfolgreichem Abschluss unserer Weiterbildung stehen dir vielfältige Einsatzmöglichkeiten offen\, darunter: \n\nPädagogische Ergänzungskraft\nHortbetreuer*in\nOGS-Betreuer*in\nIntegrationskraft\nSchulbegleiter*in\n\nSobald du das untenstehende Formular ausgefüllt hast\, erhältst du den Zoom-Link per E-Mail zugesandt.
URL:https://evbtraining.de/webinar/webinar-1906/
CATEGORIES:Deutsch,Infoveranstaltung,Weiterbildungen
ATTACH;FMTTYPE=image/jpeg:https://evbtraining.de/wp-content/uploads/2024/03/Facebook-Post-Vorlage-OGS-de-e1728643159227.jpg
ORGANIZER;CN="Beratung Deutsch":MAILTO:beratung-de@evbtraining.de
END:VEVENT
BEGIN:VEVENT
DTSTART;TZID=Europe/Berlin:20240619T140000
DTEND;TZID=Europe/Berlin:20240619T160000
DTSTAMP:20260420T030442
CREATED:20240605T133554Z
LAST-MODIFIED:20240605T133554Z
UID:10000272-1718805600-1718812800@evbtraining.de
SUMMARY:WEBINAR-Pädagogische ergänzungskraftalltagshelfer’in in der OGS auf Türkisch – 19.06.2024 um 14:00 Uhr
DESCRIPTION:Die Weiterbildung zur pädagogischen Ergänzungskraft/Alltagshelfer*in OGS qualifiziert dich für eine Tätigkeit im Nachmittagsbereich an der Schule und in der außerschulischen Betreuung von Kindern und Jugendlichen. \nWenn du gerne mit Kindern und Jugendlichen arbeiten möchtest und das Ziel hast\, an einer Schule zu arbeiten\, ist diese Weiterbildung für dich die richtige. \nDann mach mit bei unserem Weiterbildungsprogramm “Weiterbildung zur pädagogischen Ergänzungskraft/Alltagshelfer*in OGS“. \nNach erfolgreichem Abschluss unserer Weiterbildung stehen dir vielfältige Einsatzmöglichkeiten offen\, darunter: \n\nPädagogische Ergänzungskraft\nHortbetreuer*in\nOGS-Betreuer*in\nIntegrationskraft\nSchulbegleiter*in\n\nSobald du das untenstehende Formular ausgefüllt hast\, erhältst du den Zoom-Link per E-Mail zugesandt.
URL:https://evbtraining.de/webinar/webinar-1906-tr/
CATEGORIES:Infoveranstaltung,Türkçe,Weiterbildungen
ATTACH;FMTTYPE=image/jpeg:https://evbtraining.de/wp-content/uploads/2024/03/Facebook-Post-Vorlage-OGS-tr.jpg
ORGANIZER;CN="Beratung T%C3%BCrkce":MAILTO:beratung-tr@evbtraining.de
END:VEVENT
BEGIN:VEVENT
DTSTART;TZID=Europe/Berlin:20240619T140000
DTEND;TZID=Europe/Berlin:20240619T160000
DTSTAMP:20260420T030442
CREATED:20240605T133951Z
LAST-MODIFIED:20240605T133951Z
UID:10000273-1718805600-1718812800@evbtraining.de
SUMMARY:WEBINAR-Pädagogische ergänzungskraftalltagshelfer’in in der OGS auf Arabisch – 19.06.2024 um 14:00 Uhr
DESCRIPTION:Die Weiterbildung zur pädagogischen Ergänzungskraft/Alltagshelfer*in OGS qualifiziert dich für eine Tätigkeit im Nachmittagsbereich an der Schule und in der außerschulischen Betreuung von Kindern und Jugendlichen. \nWenn du gerne mit Kindern und Jugendlichen arbeiten möchtest und das Ziel hast\, an einer Schule zu arbeiten\, ist diese Weiterbildung für dich die richtige. \nDann mach mit bei unserem Weiterbildungsprogramm “Weiterbildung zur pädagogischen Ergänzungskraft/Alltagshelfer*in OGS“. \nNach erfolgreichem Abschluss unserer Weiterbildung stehen dir vielfältige Einsatzmöglichkeiten offen\, darunter: \n\nPädagogische Ergänzungskraft\nHortbetreuer*in\nOGS-Betreuer*in\nIntegrationskraft\nSchulbegleiter*in\n\nSobald du das untenstehende Formular ausgefüllt hast\, erhältst du den Zoom-Link per E-Mail zugesandt.
URL:https://evbtraining.de/webinar/webinar-1906-ar/
CATEGORIES:Arabisch,Infoveranstaltung,Weiterbildungen
ATTACH;FMTTYPE=image/jpeg:https://evbtraining.de/wp-content/uploads/2024/03/Facebook-Post-Vorlage-OGS-ar.jpg
ORGANIZER;CN="Beratung Arabisch":MAILTO:beratung-ar@evbtraining.de
END:VEVENT
BEGIN:VEVENT
DTSTART;TZID=Europe/Berlin:20240619T190000
DTEND;TZID=Europe/Berlin:20240619T210000
DTSTAMP:20260420T030442
CREATED:20240605T134237Z
LAST-MODIFIED:20240605T134237Z
UID:10000275-1718823600-1718830800@evbtraining.de
SUMMARY:WEBINAR-Pädagogische ergänzungskraftalltagshelfer’in in der OGS auf Ukrainisch/Russisch – 19.06.2024 um 19:00 Uhr
DESCRIPTION:Die Weiterbildung zur pädagogischen Ergänzungskraft/Alltagshelfer*in OGS qualifiziert dich für eine Tätigkeit im Nachmittagsbereich an der Schule und in der außerschulischen Betreuung von Kindern und Jugendlichen. \nWenn du gerne mit Kindern und Jugendlichen arbeiten möchtest und das Ziel hast\, an einer Schule zu arbeiten\, ist diese Weiterbildung für dich die richtige. \nDann mach mit bei unserem Weiterbildungsprogramm “Weiterbildung zur pädagogischen Ergänzungskraft/Alltagshelfer*in OGS“. \nNach erfolgreichem Abschluss unserer Weiterbildung stehen dir vielfältige Einsatzmöglichkeiten offen\, darunter: \n\nPädagogische Ergänzungskraft\nHortbetreuer*in\nOGS-Betreuer*in\nIntegrationskraft\nSchulbegleiter*in\n\nSobald du das untenstehende Formular ausgefüllt hast\, erhältst du den Zoom-Link per E-Mail zugesandt.
URL:https://evbtraining.de/webinar/webinar-1906-ukr/
CATEGORIES:Infoveranstaltung,Russisch,Ukrainisch,Weiterbildungen
ATTACH;FMTTYPE=image/jpeg:https://evbtraining.de/wp-content/uploads/2024/03/Facebook-Post-Vorlage-OGS-ukr.jpg
ORGANIZER;CN="Beratung Russisch":MAILTO:Beratung-ukr@evbtraining.de
END:VEVENT
END:VCALENDAR