BEGIN:VCALENDAR
VERSION:2.0
PRODID:-//EVB Training - Weiterbildungen - Umschulungen - Coaching - Sprachen - ECPv6.15.17//NONSGML v1.0//EN
CALSCALE:GREGORIAN
METHOD:PUBLISH
X-WR-CALNAME:EVB Training - Weiterbildungen - Umschulungen - Coaching - Sprachen
X-ORIGINAL-URL:https://evbtraining.de
X-WR-CALDESC:Veranstaltungen für EVB Training - Weiterbildungen - Umschulungen - Coaching - Sprachen
REFRESH-INTERVAL;VALUE=DURATION:PT1H
X-Robots-Tag:noindex
X-PUBLISHED-TTL:PT1H
BEGIN:VTIMEZONE
TZID:Europe/Berlin
BEGIN:DAYLIGHT
TZOFFSETFROM:+0100
TZOFFSETTO:+0200
TZNAME:CEST
DTSTART:20230326T010000
END:DAYLIGHT
BEGIN:STANDARD
TZOFFSETFROM:+0200
TZOFFSETTO:+0100
TZNAME:CET
DTSTART:20231029T010000
END:STANDARD
BEGIN:DAYLIGHT
TZOFFSETFROM:+0100
TZOFFSETTO:+0200
TZNAME:CEST
DTSTART:20240331T010000
END:DAYLIGHT
BEGIN:STANDARD
TZOFFSETFROM:+0200
TZOFFSETTO:+0100
TZNAME:CET
DTSTART:20241027T010000
END:STANDARD
BEGIN:DAYLIGHT
TZOFFSETFROM:+0100
TZOFFSETTO:+0200
TZNAME:CEST
DTSTART:20250330T010000
END:DAYLIGHT
BEGIN:STANDARD
TZOFFSETFROM:+0200
TZOFFSETTO:+0100
TZNAME:CET
DTSTART:20251026T010000
END:STANDARD
END:VTIMEZONE
BEGIN:VEVENT
DTSTART;TZID=Europe/Berlin:20240506T140000
DTEND;TZID=Europe/Berlin:20240506T160000
DTSTAMP:20260419T215238
CREATED:20240422T101426Z
LAST-MODIFIED:20240422T101426Z
UID:10000209-1715004000-1715011200@evbtraining.de
SUMMARY:WEBINAR-Schulbegleiter*in / Integrationsassistent*in – auf Arabisch – 06.05.2024 um 14:00 Uhr
DESCRIPTION:Schulbegleiter*innen leisten einen wichtigen Betrag zur schulischen Teilhabe junger Menschen! \n 	Berufliches Profil optimieren\n 	bis zu 100 % Förderung\n 	20 Schulungsstandorte in Deutschland\n 	Teilnahme auch von zu Hause aus möglich
URL:https://evbtraining.de/webinar/webinar-0605-ar/
CATEGORIES:Arabisch,Infoveranstaltung,Schulbegleiter,Weiterbildungen
ATTACH;FMTTYPE=image/png:https://evbtraining.de/wp-content/uploads/2024/03/Webinar_SB_ar-e1711108863780.png
ORGANIZER;CN="Beratung Arabisch":MAILTO:beratung-ar@evbtraining.de
LOCATION:https://us06web.zoom.us/j/86390281249
END:VEVENT
BEGIN:VEVENT
DTSTART;TZID=Europe/Berlin:20240508T190000
DTEND;TZID=Europe/Berlin:20240508T210000
DTSTAMP:20260419T215238
CREATED:20240405T154115Z
LAST-MODIFIED:20240508T101841Z
UID:10000184-1715194800-1715202000@evbtraining.de
SUMMARY:WEBINAR-Weiterbildung zur Kitahelfer*in / Erziehungshelfer*in auf Ukrainisch/Russisch – 08.05.2024 um 19:00 Uhr
DESCRIPTION:🌟 WEBINAR: Weiterbildung zur Kitahelfer*in / Erziehungshelfer*in auf Ukrainisch/Russisch🌟 \nEntdecke deine Leidenschaft für die Arbeit mit Kindern! Unsere Weiterbildung bietet dir die Qualifikationen für eine erfolgreiche Tätigkeit in Kindertagesstätten. Werde Teil der Zukunft unserer jüngsten Generation! \n🌈 *Was dich erwartet:*\n– Weiterbildung zum/zur Kitahelfer*in / Erziehungshelfer*in \n🎓 *Vielfältige Berufschancen nach Abschluss:*\n– Pädagogische Hilfskraft\n– Erziehungshelfer*in\n– Kitahelfer*in\n– Sozialassistent*in\n– u.v.m. \nMelde dich jetzt an und sichere dir deinen Platz! 💼 \nSobald du das untenstehende Formular ausgefüllt hast\, erhältst du den Zoom-Link per E-Mail zugesandt. \n  \n\n	Hinweis: Für diesen Inhalt ist JavaScript erforderlich.\nKeine Felder gefunden.\n\n    \n\n\n        \n        \n        \n 
URL:https://evbtraining.de/webinar/webinar-0805-ukr/
CATEGORIES:Infoveranstaltung,Russisch,Ukrainisch,Weiterbildungen
ORGANIZER;CN="Beratung Russisch":MAILTO:Beratung-ukr@evbtraining.de
LOCATION:https://us06web.zoom.us/j/86499272395
END:VEVENT
BEGIN:VEVENT
DTSTART;TZID=Europe/Berlin:20240509T190000
DTEND;TZID=Europe/Berlin:20240509T210000
DTSTAMP:20260419T215238
CREATED:20240508T102226Z
LAST-MODIFIED:20240508T103626Z
UID:10000212-1715281200-1715288400@evbtraining.de
SUMMARY:WEBINAR-Pädagogischen Hilfskraft im Bereich Soziale Arbeit auf Ukrainisch/Russisch – 09.05.2024 um 19:00 Uhr
DESCRIPTION:WEITERBILDUNG ZUR\nPÄDAGOGISCHEN HILFSKRAFT IM BEREICH SOZIALE ARBEIT\n\n\n\n{𝐖𝐞𝐢𝐭𝐞𝐫𝐛𝐢𝐥𝐝𝐮𝐧𝐠 für 0\,-€ }\n\n Entdecke neue berufliche Möglichkeiten in der Sozialen Arbeit! \n\n\n\nUnser Weiterbildungsprogramm “Weiterbildung zur pädagogischen Hilfskraft” bietet dir die perfekte Gelegenheit\, deine Kenntnisse zu erweitern und praktische Erfahrungen zu sammeln. Bewirb dich jetzt und starte deine Karriere in einem vielfältigen Arbeitsfeld!  Weitere Informationen auf unserer Website. \n\n\n\n𝐔𝐧𝐬𝐞𝐫𝐞 𝐕𝐨𝐫𝐭𝐞𝐢𝐥𝐞:\n+Laptop (Ausleihe möglich)\n+mit Praktikum\n+Inkl. 5 Bescheinigungen und Zertifikate\n+Unterstützung bei der Jobsuche\n\n\nSobald du das untenstehende Formular ausgefüllt hast\, erhältst du den Zoom-Link per E-Mail zugesandt. \n\n	Hinweis: Für diesen Inhalt ist JavaScript erforderlich.\nKeine Felder gefunden.
URL:https://evbtraining.de/webinar/webinar-0905-ukr/
CATEGORIES:Infoveranstaltung,Russisch,Ukrainisch,Weiterbildungen
ATTACH;FMTTYPE=image/png:https://evbtraining.de/wp-content/uploads/2024/03/Webinar_WPH_ukr-1-e1711107973531.png
ORGANIZER;CN="Beratung Russisch":MAILTO:Beratung-ukr@evbtraining.de
LOCATION:https://evbtraining.de/webinar/webinar-0905-ukr/
END:VEVENT
END:VCALENDAR