BEGIN:VCALENDAR
VERSION:2.0
PRODID:-//EVB Training - Weiterbildungen - Umschulungen - Coaching - Sprachen - ECPv6.15.17//NONSGML v1.0//EN
CALSCALE:GREGORIAN
METHOD:PUBLISH
X-ORIGINAL-URL:https://evbtraining.de
X-WR-CALDESC:Veranstaltungen für EVB Training - Weiterbildungen - Umschulungen - Coaching - Sprachen
REFRESH-INTERVAL;VALUE=DURATION:PT1H
X-Robots-Tag:noindex
X-PUBLISHED-TTL:PT1H
BEGIN:VTIMEZONE
TZID:Europe/Berlin
BEGIN:DAYLIGHT
TZOFFSETFROM:+0100
TZOFFSETTO:+0200
TZNAME:CEST
DTSTART:20230326T010000
END:DAYLIGHT
BEGIN:STANDARD
TZOFFSETFROM:+0200
TZOFFSETTO:+0100
TZNAME:CET
DTSTART:20231029T010000
END:STANDARD
BEGIN:DAYLIGHT
TZOFFSETFROM:+0100
TZOFFSETTO:+0200
TZNAME:CEST
DTSTART:20240331T010000
END:DAYLIGHT
BEGIN:STANDARD
TZOFFSETFROM:+0200
TZOFFSETTO:+0100
TZNAME:CET
DTSTART:20241027T010000
END:STANDARD
BEGIN:DAYLIGHT
TZOFFSETFROM:+0100
TZOFFSETTO:+0200
TZNAME:CEST
DTSTART:20250330T010000
END:DAYLIGHT
BEGIN:STANDARD
TZOFFSETFROM:+0200
TZOFFSETTO:+0100
TZNAME:CET
DTSTART:20251026T010000
END:STANDARD
END:VTIMEZONE
BEGIN:VEVENT
DTSTART;TZID=Europe/Berlin:20240820T140000
DTEND;TZID=Europe/Berlin:20240820T160000
DTSTAMP:20260420T060402
CREATED:20240717T130247Z
LAST-MODIFIED:20240818T171554Z
UID:10000307-1724162400-1724169600@evbtraining.de
SUMMARY:WEBINAR-Qualifizierungsprogramm für internationale Lehrkräfte - 20.08.2024 um 14:00 Uhr
DESCRIPTION:Qualifizierungsprogramm für internationale Lehrkräfte\nWenn deine Leidenschaft die Arbeit mit Kindern ist\, dann bist du bei uns genau richtig. \n  \nBerufliches Profil optimieren\nbis zu 100 % Förderung\n20 Schulungsstandorte in Deutschland\nTeilnahme auch von zu Hause aus möglich \n  \nSobald du das untenstehende Formular ausgefüllt hast\, erhältst du den Zoom-Link per E-Mail zugesandt. \n  \nZoom Link:      https://us06web.zoom.us/j/81752978121
URL:https://evbtraining.de/webinar/webinar-0708/
LOCATION:https://us06web.zoom.us/j/82708344523
CATEGORIES:Deutsch,Infoveranstaltung,Weiterbildungen
ATTACH;FMTTYPE=image/png:https://evbtraining.de/wp-content/uploads/2024/04/Webinar_Qintl_de-1-e1728642900860.png
ORGANIZER;CN="Beratung Deutsch":MAILTO:beratung-de@evbtraining.de
END:VEVENT
BEGIN:VEVENT
DTSTART;TZID=Europe/Berlin:20240820T140000
DTEND;TZID=Europe/Berlin:20240820T160000
DTSTAMP:20260420T060402
CREATED:20240717T133931Z
LAST-MODIFIED:20240819T001631Z
UID:10000309-1724162400-1724169600@evbtraining.de
SUMMARY:WEBINAR-Qualifizierungsprogramm für internationale Lehrkräfte auf Arabisch - 20.08.2024 um 14:00 Uhr
DESCRIPTION:Qualifizierungsprogramm für internationale Lehrkräfte\nWenn deine Leidenschaft die Arbeit mit Kindern ist\, dann bist du bei uns genau richtig. \n  \nBerufliches Profil optimieren\nbis zu 100 % Förderung\n20 Schulungsstandorte in Deutschland\nTeilnahme auch von zu Hause aus möglich \nSobald du das untenstehende Formular ausgefüllt hast\, erhältst du den Zoom-Link per E-Mail zugesandt. \nZoom Link:   https://us06web.zoom.us/j/82308522137 \n 
URL:https://evbtraining.de/webinar/webinar-0708-ar/
LOCATION:https://us06web.zoom.us/j/89189357530
CATEGORIES:Arabisch,Infoveranstaltung,Weiterbildungen
ATTACH;FMTTYPE=image/png:https://evbtraining.de/wp-content/uploads/2024/04/Webinar_Qintl_ar-1.png
ORGANIZER;CN="Beratung Arabisch":MAILTO:beratung-ar@evbtraining.de
END:VEVENT
BEGIN:VEVENT
DTSTART;TZID=Europe/Berlin:20240820T140000
DTEND;TZID=Europe/Berlin:20240820T160000
DTSTAMP:20260420T060402
CREATED:20240717T134123Z
LAST-MODIFIED:20240818T171203Z
UID:10000310-1724162400-1724169600@evbtraining.de
SUMMARY:WEBINAR-Qualifizierungsprogramm für internationale Lehrkräfte auf Türkisch - 20.08.2024 um 14:00 Uhr
DESCRIPTION:Qualifizierungsprogramm für internationale Lehrkräfte\nWenn deine Leidenschaft die Arbeit mit Kindern ist\, dann bist du bei uns genau richtig. \n  \nBerufliches Profil optimieren\nbis zu 100 % Förderung\n20 Schulungsstandorte in Deutschland\nTeilnahme auch von zu Hause aus möglich \nSobald du das untenstehende Formular ausgefüllt hast\, erhältst du den Zoom-Link per E-Mail zugesandt. \nZoom Link:   https://us06web.zoom.us/j/83295052796
URL:https://evbtraining.de/webinar/webinar-0708-tr/
LOCATION:https://us06web.zoom.us/j/81563573358
CATEGORIES:Infoveranstaltung,Türkçe,Weiterbildungen
ATTACH;FMTTYPE=image/png:https://evbtraining.de/wp-content/uploads/2024/04/Webinar_Qintl_tr-1.png
ORGANIZER;CN="Beratung T%C3%BCrkce":MAILTO:beratung-tr@evbtraining.de
END:VEVENT
END:VCALENDAR