BEGIN:VCALENDAR
VERSION:2.0
PRODID:-//EVB Training - Weiterbildungen - Umschulungen - Coaching - Sprachen - ECPv6.15.17//NONSGML v1.0//EN
CALSCALE:GREGORIAN
METHOD:PUBLISH
X-WR-CALNAME:EVB Training - Weiterbildungen - Umschulungen - Coaching - Sprachen
X-ORIGINAL-URL:https://evbtraining.de
X-WR-CALDESC:Veranstaltungen für EVB Training - Weiterbildungen - Umschulungen - Coaching - Sprachen
REFRESH-INTERVAL;VALUE=DURATION:PT1H
X-Robots-Tag:noindex
X-PUBLISHED-TTL:PT1H
BEGIN:VTIMEZONE
TZID:Europe/Berlin
BEGIN:DAYLIGHT
TZOFFSETFROM:+0100
TZOFFSETTO:+0200
TZNAME:CEST
DTSTART:20230326T010000
END:DAYLIGHT
BEGIN:STANDARD
TZOFFSETFROM:+0200
TZOFFSETTO:+0100
TZNAME:CET
DTSTART:20231029T010000
END:STANDARD
BEGIN:DAYLIGHT
TZOFFSETFROM:+0100
TZOFFSETTO:+0200
TZNAME:CEST
DTSTART:20240331T010000
END:DAYLIGHT
BEGIN:STANDARD
TZOFFSETFROM:+0200
TZOFFSETTO:+0100
TZNAME:CET
DTSTART:20241027T010000
END:STANDARD
BEGIN:DAYLIGHT
TZOFFSETFROM:+0100
TZOFFSETTO:+0200
TZNAME:CEST
DTSTART:20250330T010000
END:DAYLIGHT
BEGIN:STANDARD
TZOFFSETFROM:+0200
TZOFFSETTO:+0100
TZNAME:CET
DTSTART:20251026T010000
END:STANDARD
END:VTIMEZONE
BEGIN:VEVENT
DTSTART;TZID=Europe/Berlin:20240627T140000
DTEND;TZID=Europe/Berlin:20240627T160000
DTSTAMP:20260420T083819
CREATED:20240625T111742Z
LAST-MODIFIED:20240625T111742Z
UID:10000279-1719496800-1719504000@evbtraining.de
SUMMARY:WEBINAR-Qualifizierungsprogramm für internationale Lehrkräfte auf Türkisch - 27.06.2014 um 14:00 Uhr
DESCRIPTION:Qualifizierungsprogramm für internationale Lehrkräfte\nWenn deine Leidenschaft die Arbeit mit Kindern ist\, dann bist du bei uns genau richtig. \n  \nBerufliches Profil optimieren\nbis zu 100 % Förderung\n20 Schulungsstandorte in Deutschland\nTeilnahme auch von zu Hause aus möglich \n  \nSobald du das untenstehende Formular ausgefüllt hast\, erhältst du den Zoom-Link per E-Mail zugesandt.
URL:https://evbtraining.de/webinar/webinar-2706-tr/
LOCATION:https://us06web.zoom.us/j/89189357530
CATEGORIES:Infoveranstaltung,Türkçe,Weiterbildungen
ATTACH;FMTTYPE=image/png:https://evbtraining.de/wp-content/uploads/2024/04/Webinar_Qintl_tr-1.png
ORGANIZER;CN="Beratung T%C3%BCrkce":MAILTO:beratung-tr@evbtraining.de
END:VEVENT
BEGIN:VEVENT
DTSTART;TZID=Europe/Berlin:20240627T140000
DTEND;TZID=Europe/Berlin:20240627T160000
DTSTAMP:20260420T083819
CREATED:20240625T111935Z
LAST-MODIFIED:20240625T111935Z
UID:10000280-1719496800-1719504000@evbtraining.de
SUMMARY:WEBINAR-Qualifizierungsprogramm für internationale Lehrkräfte auf Arabisch - 27.06.2014 um 14:00 Uhr
DESCRIPTION:Qualifizierungsprogramm für internationale Lehrkräfte\nWenn deine Leidenschaft die Arbeit mit Kindern ist\, dann bist du bei uns genau richtig. \n  \nBerufliches Profil optimieren\nbis zu 100 % Förderung\n20 Schulungsstandorte in Deutschland\nTeilnahme auch von zu Hause aus möglich \n  \nSobald du das untenstehende Formular ausgefüllt hast\, erhältst du den Zoom-Link per E-Mail zugesandt.
URL:https://evbtraining.de/webinar/webinar-2706-ar/
LOCATION:https://us06web.zoom.us/j/89189357530
CATEGORIES:Arabisch,Infoveranstaltung,Weiterbildungen
ATTACH;FMTTYPE=image/png:https://evbtraining.de/wp-content/uploads/2024/04/Webinar_Qintl_ar-1.png
ORGANIZER;CN="Beratung Arabisch":MAILTO:beratung-ar@evbtraining.de
END:VEVENT
BEGIN:VEVENT
DTSTART;TZID=Europe/Berlin:20240627T190000
DTEND;TZID=Europe/Berlin:20240627T210000
DTSTAMP:20260420T083819
CREATED:20240625T110149Z
LAST-MODIFIED:20240625T110149Z
UID:10000277-1719514800-1719522000@evbtraining.de
SUMMARY:WEBINAR-Qualifizierungsprogramm für internationale Lehrkräfte auf Ukrainisch/Russisch - 27.06.2014 um 19:00 Uhr
DESCRIPTION:Qualifizierungsprogramm für internationale Lehrkräfte\nWenn deine Leidenschaft die Arbeit mit Kindern ist\, dann bist du bei uns genau richtig. \n  \nBerufliches Profil optimieren\nbis zu 100 % Förderung\n20 Schulungsstandorte in Deutschland\nTeilnahme auch von zu Hause aus möglich \n  \nSobald du das untenstehende Formular ausgefüllt hast\, erhältst du den Zoom-Link per E-Mail zugesandt.
URL:https://evbtraining.de/webinar/webinar-2706-ru/
LOCATION:https://us06web.zoom.us/j/89189357530
CATEGORIES:Infoveranstaltung,Russisch,Ukrainisch,Weiterbildungen
ATTACH;FMTTYPE=image/png:https://evbtraining.de/wp-content/uploads/2024/04/Webinar_Qintl_ukr-1.png
ORGANIZER;CN="Beratung Russisch":MAILTO:Beratung-ukr@evbtraining.de
END:VEVENT
BEGIN:VEVENT
DTSTART;TZID=Europe/Berlin:20240627T190000
DTEND;TZID=Europe/Berlin:20240627T210000
DTSTAMP:20260420T083819
CREATED:20240625T112053Z
LAST-MODIFIED:20240625T113540Z
UID:10000281-1719514800-1719522000@evbtraining.de
SUMMARY:WEBINAR-Qualifizierungsprogramm für internationale Lehrkräfte auf Persisch - 27.06.2014 um 19:00 Uhr
DESCRIPTION:Qualifizierungsprogramm für internationale Lehrkräfte\nWenn deine Leidenschaft die Arbeit mit Kindern ist\, dann bist du bei uns genau richtig. \n  \nBerufliches Profil optimieren\nbis zu 100 % Förderung\n20 Schulungsstandorte in Deutschland\nTeilnahme auch von zu Hause aus möglich \n  \nSobald du das untenstehende Formular ausgefüllt hast\, erhältst du den Zoom-Link per E-Mail zugesandt.
URL:https://evbtraining.de/webinar/webinar-2706-fa/
LOCATION:https://us06web.zoom.us/j/89189357530
CATEGORIES:Infoveranstaltung,Persisch,Weiterbildungen
ATTACH;FMTTYPE=image/png:https://evbtraining.de/wp-content/uploads/2024/04/Webinar_Qintl_fa-1.png
ORGANIZER;CN="Beratung Farsi":MAILTO:beratung-fa@evbtraining.de
END:VEVENT
END:VCALENDAR