BEGIN:VCALENDAR
VERSION:2.0
PRODID:-//EVB Training - Weiterbildungen - Umschulungen - Coaching - Sprachen - ECPv6.15.17//NONSGML v1.0//EN
CALSCALE:GREGORIAN
METHOD:PUBLISH
X-WR-CALNAME:EVB Training - Weiterbildungen - Umschulungen - Coaching - Sprachen
X-ORIGINAL-URL:https://evbtraining.de
X-WR-CALDESC:Veranstaltungen für EVB Training - Weiterbildungen - Umschulungen - Coaching - Sprachen
REFRESH-INTERVAL;VALUE=DURATION:PT1H
X-Robots-Tag:noindex
X-PUBLISHED-TTL:PT1H
BEGIN:VTIMEZONE
TZID:Europe/Berlin
BEGIN:DAYLIGHT
TZOFFSETFROM:+0100
TZOFFSETTO:+0200
TZNAME:CEST
DTSTART:20230326T010000
END:DAYLIGHT
BEGIN:STANDARD
TZOFFSETFROM:+0200
TZOFFSETTO:+0100
TZNAME:CET
DTSTART:20231029T010000
END:STANDARD
BEGIN:DAYLIGHT
TZOFFSETFROM:+0100
TZOFFSETTO:+0200
TZNAME:CEST
DTSTART:20240331T010000
END:DAYLIGHT
BEGIN:STANDARD
TZOFFSETFROM:+0200
TZOFFSETTO:+0100
TZNAME:CET
DTSTART:20241027T010000
END:STANDARD
BEGIN:DAYLIGHT
TZOFFSETFROM:+0100
TZOFFSETTO:+0200
TZNAME:CEST
DTSTART:20250330T010000
END:DAYLIGHT
BEGIN:STANDARD
TZOFFSETFROM:+0200
TZOFFSETTO:+0100
TZNAME:CET
DTSTART:20251026T010000
END:STANDARD
END:VTIMEZONE
BEGIN:VEVENT
DTSTART;TZID=Europe/Berlin:20240429T140000
DTEND;TZID=Europe/Berlin:20240429T160000
DTSTAMP:20260420T083845
CREATED:20240422T095904Z
LAST-MODIFIED:20240426T092223Z
UID:10000206-1714399200-1714406400@evbtraining.de
SUMMARY:WEBINAR-Qualifizierungsprogramm für internationale Lehrkräfte auf Arabisch - 29.04.2024 um 14:00 Uhr
DESCRIPTION:🌍📚👩‍🏫 هل أنت جاهز للعودة للعمل بالمدارس؟ هل أنت معلم حاصل على شهادتك من خارج ألمانيا وتود العودة للعمل ضمن المدارس في ألمانيا ؟ في هذه الحالة برنامج المعلمين هو الخيار الممتاز لتحقيق غايتك ! \n\n✔️ حسن من سيرتك الذاتية ومن فرص العمل كأستاذ مساعد ضمن المدارس \n✔️ تمتع بالدعم المالي من الجوب سنتر او ال Agentur für Arbeit \n✔️ بكل ألمانيا وأينما كنت \n✔️ يمكنك حضور الدروس من المنزل \n✔️ يمكنك الحصول على لابتوب للإعارة خلال الدورة التعليمية كاملة \n\n📅 ندوة تعريفية بتاريخ : 29.04.2024 عند الساعة ١٤ \n\nهل انت مهتم ؟ تعرف على المزيد واضمن مقعدك ضمن الندوة التعريفية! \n\n🔗 https://evbtraining.de/webinar/webinar-2904-ar \n\n#معلمين اجانب #كورس #برنامج تعليمي #اصبح معلم #تعليم # : \n\n\n  \n🌍📚👩‍🏫 Bereit\, wieder als Lehrkraft in Deutschland durchzustarten? \nDu bist eine Lehrkraft aus dem Ausland und möchtest deine Leidenschaft für die Arbeit mit Kindern in Deutschland wieder entfalten? Dann ist unser Qualifizierungsprogramm für internationale Lehrkräfte genau das Richtige für dich! \n✔️ Optimiere dein berufliches Profil und eröffne dir neue Möglichkeiten als Lehrkraft in Deutschland. \n✔️ Profitiere von bis zu 100 % Förderung für deine Weiterbildung. \n✔️ Deutschlandweit sind wir überall für dich da. \n✔️ Du kannst sogar von zu Hause aus teilnehmen! \n✔️ Als besonderen Vorteil bieten wir Laptop-Ausleihe für die Dauer des Programms an! \n📅 Webinar Datum: 29. April 2024 um 14:00 Uhr \nInteressiert? Erfahre mehr und sichere dir deinen Platz für unser Webinar! \n🔗 https://evbtraining.de/webinar/webinar-2904-ar \n 
URL:https://evbtraining.de/webinar/webinar-2904-ar/
LOCATION:https://us06web.zoom.us/j/83505877630
CATEGORIES:Arabisch,Infoveranstaltung,Weiterbildungen
ATTACH;FMTTYPE=image/png:https://evbtraining.de/wp-content/uploads/2024/04/Webinar_Qintl_ar-1.png
ORGANIZER;CN="Beratung Arabisch":MAILTO:beratung-ar@evbtraining.de
END:VEVENT
BEGIN:VEVENT
DTSTART;TZID=Europe/Berlin:20240429T140000
DTEND;TZID=Europe/Berlin:20240429T160000
DTSTAMP:20260420T083845
CREATED:20240424T110132Z
LAST-MODIFIED:20240426T092100Z
UID:10000211-1714399200-1714406400@evbtraining.de
SUMMARY:WEBINAR-Qualifizierungsprogramm für internationale Lehrkräfte auf Persisch - 29.04.2024 um 14:00 Uhr
DESCRIPTION:برای شروع دوباره تدریس در آلمان آماده اید؟\nآیا شما یک معلم خارج از کشور هستید و می خواهید اشتیاق خود را برای کار با کودکان در آلمان دوباره کشف کنید؟ سپس برنامه صلاحیت ما برای معلمان بین المللی برای شما مناسب است!\n پروفایل حرفه ای خود را بهینه کنید و فرصت های جدیدی را به عنوان معلم در آلمان باز کنید.\n از بودجه 100% برای آموزش بیشتر خود بهره مند شوید.\n ما در همه جای آلمان در کنار شما هستیم.\n حتی می توانید از خانه شرکت کنید!\n به عنوان یک مزیت ویژه، قرض گرفتن لپ تاپ را در طول مدت برنامه فراهم می کنیم!\n تاریخ وبینار: 24 آوریل 2024 ساعت 14:00\nآیا علاقه مند هستید اطلاعات بیشتری کسب کنید پس خود را در وبینار ما ثبت نام کنید!\n\n https://evbtraining.de/webinar/webinar-2904-fa\n\n\n\n#معلمان بین المللی #تحصیلات تکمیلی #برنامه صلاحیت #معلم بودن #آموزش #وبینار البته\n#evbtraining\n#معلم\n#آلمان #مدرسه #وبینار\n#معلم #بورسیه\n#ترویج #آموزش\nآلمانی #آماده سازی\n#دستیار معلم\n#معلم #معلم #برنامه معلم #آموزش #معلم #درسهای من #انفورماتیک #عصراطلاعاتی #اطلاعات #معلم #آموزش #آلمان
URL:https://evbtraining.de/webinar/webinar-2904-fa/
LOCATION:https://us06web.zoom.us/j/81050435679
CATEGORIES:Infoveranstaltung,Persisch,Weiterbildungen
ATTACH;FMTTYPE=image/png:https://evbtraining.de/wp-content/uploads/2024/04/Webinar_Qintl_fa-1.png
ORGANIZER;CN="Beratung Farsi":MAILTO:beratung-fa@evbtraining.de
END:VEVENT
END:VCALENDAR