BEGIN:VCALENDAR
VERSION:2.0
PRODID:-//EVB Training - Weiterbildungen - Umschulungen - Coaching - Sprachen - ECPv6.15.20//NONSGML v1.0//EN
CALSCALE:GREGORIAN
METHOD:PUBLISH
X-ORIGINAL-URL:https://evbtraining.de
X-WR-CALDESC:Veranstaltungen für EVB Training - Weiterbildungen - Umschulungen - Coaching - Sprachen
REFRESH-INTERVAL;VALUE=DURATION:PT1H
X-Robots-Tag:noindex
X-PUBLISHED-TTL:PT1H
BEGIN:VTIMEZONE
TZID:Europe/Berlin
BEGIN:DAYLIGHT
TZOFFSETFROM:+0100
TZOFFSETTO:+0200
TZNAME:CEST
DTSTART:20220327T010000
END:DAYLIGHT
BEGIN:STANDARD
TZOFFSETFROM:+0200
TZOFFSETTO:+0100
TZNAME:CET
DTSTART:20221030T010000
END:STANDARD
BEGIN:DAYLIGHT
TZOFFSETFROM:+0100
TZOFFSETTO:+0200
TZNAME:CEST
DTSTART:20230326T010000
END:DAYLIGHT
BEGIN:STANDARD
TZOFFSETFROM:+0200
TZOFFSETTO:+0100
TZNAME:CET
DTSTART:20231029T010000
END:STANDARD
BEGIN:DAYLIGHT
TZOFFSETFROM:+0100
TZOFFSETTO:+0200
TZNAME:CEST
DTSTART:20240331T010000
END:DAYLIGHT
BEGIN:STANDARD
TZOFFSETFROM:+0200
TZOFFSETTO:+0100
TZNAME:CET
DTSTART:20241027T010000
END:STANDARD
END:VTIMEZONE
BEGIN:VEVENT
DTSTART;TZID=Europe/Berlin:20231206T140000
DTEND;TZID=Europe/Berlin:20231206T160000
DTSTAMP:20260423T065735
CREATED:20231124T154100Z
LAST-MODIFIED:20231125T103014Z
UID:10000013-1701871200-1701878400@evbtraining.de
SUMMARY:WEBINAR-Qualifizierungsprogramm für internationale Lehrkräfte-06.12.2023 um 14:00 Uhr
DESCRIPTION:Vermisst du den Schulalltag?\nSehnst du dich nach der Arbeit mit Kindern und Jugendlichen?\nFehlt deinem ausländischen Abschluss die notwendige Anerkennung?\n\nDann mach mit bei unserem Weiterbildungsprogramm “Qualifizierungsprogramm für internationale Lehrkräfte“.\nWir qualifizieren dich für eine unterstützende Tätigkeit im schulischen Bereich und helfen dir beim Einstieg in den Schulbetrieb.
URL:https://evbtraining.de/webinar/webinar-0612/
LOCATION:https://evbtraining.de/webinar/webinar-0612/
CATEGORIES:Deutsch,Infoveranstaltung,Weiterbildungen
ATTACH;FMTTYPE=image/jpeg:https://evbtraining.de/wp-content/uploads/2023/11/veranstaltung-evb-QiL-de.jpg
ORGANIZER;CN="EVB Training GmbH":MAILTO:info@evbtraining.de
END:VEVENT
BEGIN:VEVENT
DTSTART;TZID=Europe/Berlin:20231206T140000
DTEND;TZID=Europe/Berlin:20231206T160000
DTSTAMP:20260423T065735
CREATED:20231125T102020Z
LAST-MODIFIED:20231125T102320Z
UID:10000014-1701871200-1701878400@evbtraining.de
SUMMARY:WEBINAR-Qualifizierungsprogramm für internationale Lehrkräfte auf Arabisch - 06.12.2023 um 14:00 Uhr
DESCRIPTION:Vermisst du den Schulalltag?\nSehnst du dich nach der Arbeit mit Kindern und Jugendlichen?\nFehlt deinem ausländischen Abschluss die notwendige Anerkennung?\n\nDann mach mit bei unserem Weiterbildungsprogramm “Qualifizierungsprogramm für internationale Lehrkräfte“.\nWir qualifizieren dich für eine unterstützende Tätigkeit im schulischen Bereich und helfen dir beim Einstieg in den Schulbetrieb.
URL:https://evbtraining.de/webinar/webinar-0612-ar/
LOCATION:https://evbtraining.de/webinar/webinar-0612-ar/
CATEGORIES:Arabisch,Infoveranstaltung,Weiterbildungen
ATTACH;FMTTYPE=image/jpeg:https://evbtraining.de/wp-content/uploads/2023/11/veranstaltung-evb-sp-qil-ar.jpg
ORGANIZER;CN="Beratung Arabisch":MAILTO:beratung-ar@evbtraining.de
END:VEVENT
BEGIN:VEVENT
DTSTART;TZID=Europe/Berlin:20231206T140000
DTEND;TZID=Europe/Berlin:20231206T160000
DTSTAMP:20260423T065735
CREATED:20231125T103602Z
LAST-MODIFIED:20231125T103727Z
UID:10000015-1701871200-1701878400@evbtraining.de
SUMMARY:WEBINAR-Qualifizierungsprogramm für internationale Lehrkräfte auf Türkisch - 06.12.2023 um 14:00 Uhr
DESCRIPTION:Vermisst du den Schulalltag?\nSehnst du dich nach der Arbeit mit Kindern und Jugendlichen?\nFehlt deinem ausländischen Abschluss die notwendige Anerkennung?\n\nDann mach mit bei unserem Weiterbildungsprogramm “Qualifizierungsprogramm für internationale Lehrkräfte“.\nWir qualifizieren dich für eine unterstützende Tätigkeit im schulischen Bereich und helfen dir beim Einstieg in den Schulbetrieb.
URL:https://evbtraining.de/webinar/webinar-0612-tr/
LOCATION:https://evbtraining.de/webinar/webinar-0612-tr/
CATEGORIES:Infoveranstaltung,Türkçe,Weiterbildungen
ATTACH;FMTTYPE=image/jpeg:https://evbtraining.de/wp-content/uploads/2023/11/veranstaltung-evb-sp-qil-tr.jpg
ORGANIZER;CN="EVB Training GmbH":MAILTO:info@evbtraining.de
END:VEVENT
BEGIN:VEVENT
DTSTART;TZID=Europe/Berlin:20231206T140000
DTEND;TZID=Europe/Berlin:20231206T160000
DTSTAMP:20260423T065735
CREATED:20231125T141301Z
LAST-MODIFIED:20231129T110718Z
UID:10000016-1701871200-1701878400@evbtraining.de
SUMMARY:WEBINAR-Qualifizierungsprogramm für internationale Lehrkräfte auf Farsi - 06.12.2023 um 14:00 Uhr
DESCRIPTION:Vermisst du den Schulalltag?\nSehnst du dich nach der Arbeit mit Kindern und Jugendlichen?\nFehlt deinem ausländischen Abschluss die notwendige Anerkennung?\n\nDann mach mit bei unserem Weiterbildungsprogramm “Qualifizierungsprogramm für internationale Lehrkräfte“.\nWir qualifizieren dich für eine unterstützende Tätigkeit im schulischen Bereich und helfen dir beim Einstieg in den Schulbetrieb.
URL:https://evbtraining.de/webinar/webinar-0612-fa/
LOCATION:https://evbtraining.de/webinar/webinar-0612-fa/
CATEGORIES:Infoveranstaltung,Persisch,Weiterbildungen
ATTACH;FMTTYPE=image/jpeg:https://evbtraining.de/wp-content/uploads/2023/11/veranstaltung-evb-sp-qil-fa.jpg
ORGANIZER;CN="Beratung Farsi":MAILTO:beratung-fa@evbtraining.de
END:VEVENT
BEGIN:VEVENT
DTSTART;TZID=Europe/Berlin:20231206T190000
DTEND;TZID=Europe/Berlin:20231206T190000
DTSTAMP:20260423T065735
CREATED:20231129T110756Z
LAST-MODIFIED:20231206T174057Z
UID:10000017-1701889200-1701889200@evbtraining.de
SUMMARY:WEBINAR-Qualifizierungsprogramm für internationale Lehrkräfte auf Russisch/Ukrainisch - 06.12.2023 um 19:00 Uhr
DESCRIPTION:Vermisst du den Schulalltag?\nSehnst du dich nach der Arbeit mit Kindern und Jugendlichen?\nFehlt deinem ausländischen Abschluss die notwendige Anerkennung?\n\nDann mach mit bei unserem Weiterbildungsprogramm “Qualifizierungsprogramm für internationale Lehrkräfte“.\nWir qualifizieren dich für eine unterstützende Tätigkeit im schulischen Bereich und helfen dir beim Einstieg in den Schulbetrieb.
URL:https://evbtraining.de/webinar/webinar-0612-ru/
LOCATION:https://us06web.zoom.us/j/83791357315
CATEGORIES:Infoveranstaltung,Russisch,Ukrainisch,Weiterbildungen
ATTACH;FMTTYPE=image/jpeg:https://evbtraining.de/wp-content/uploads/2023/11/veranstaltung-evb-sp-qil-ru-ukr.jpg
ORGANIZER;CN="Beratung Russisch":MAILTO:Beratung-ukr@evbtraining.de
END:VEVENT
BEGIN:VEVENT
DTSTART;TZID=Europe/Berlin:20231213T140000
DTEND;TZID=Europe/Berlin:20231213T160000
DTSTAMP:20260423T065735
CREATED:20231206T112840Z
LAST-MODIFIED:20231213T121949Z
UID:10000020-1702476000-1702483200@evbtraining.de
SUMMARY:WEBINAR-Qualifizierungsprogramm für internationale Lehrkräfte-13.12.2023 um 14:00 Uhr
DESCRIPTION:Vermisst du den Schulalltag?\nSehnst du dich nach der Arbeit mit Kindern und Jugendlichen?\nFehlt deinem ausländischen Abschluss die notwendige Anerkennung?\n\nDann mach mit bei unserem Weiterbildungsprogramm “Qualifizierungsprogramm für internationale Lehrkräfte“.\nWir qualifizieren dich für eine unterstützende Tätigkeit im schulischen Bereich und helfen dir beim Einstieg in den Schulbetrieb.
URL:https://evbtraining.de/webinar/webinar-1312/
LOCATION:https://us06web.zoom.us/j/81832898418
CATEGORIES:Deutsch,Infoveranstaltung,Weiterbildungen
ATTACH;FMTTYPE=image/jpeg:https://evbtraining.de/wp-content/uploads/2023/11/veranstaltung-evb-QiL-de.jpg
ORGANIZER;CN="EVB Training GmbH":MAILTO:info@evbtraining.de
END:VEVENT
BEGIN:VEVENT
DTSTART;TZID=Europe/Berlin:20231213T140000
DTEND;TZID=Europe/Berlin:20231213T160000
DTSTAMP:20260423T065735
CREATED:20231206T114113Z
LAST-MODIFIED:20231206T114113Z
UID:10000021-1702476000-1702483200@evbtraining.de
SUMMARY:WEBINAR-Qualifizierungsprogramm für internationale Lehrkräfte auf Arabisch - 13.12.2023 um 14:00 Uhr
DESCRIPTION:Vermisst du den Schulalltag?\nSehnst du dich nach der Arbeit mit Kindern und Jugendlichen?\nFehlt deinem ausländischen Abschluss die notwendige Anerkennung?\n\nDann mach mit bei unserem Weiterbildungsprogramm “Qualifizierungsprogramm für internationale Lehrkräfte“.\nWir qualifizieren dich für eine unterstützende Tätigkeit im schulischen Bereich und helfen dir beim Einstieg in den Schulbetrieb.
URL:https://evbtraining.de/webinar/webinar-1312-ar/
LOCATION:https://evbtraining.de/webinar/webinar-1312-ar/
CATEGORIES:Arabisch,Infoveranstaltung,Weiterbildungen
ATTACH;FMTTYPE=image/jpeg:https://evbtraining.de/wp-content/uploads/2023/11/veranstaltung-evb-sp-qil-ar.jpg
ORGANIZER;CN="Beratung Arabisch":MAILTO:beratung-ar@evbtraining.de
END:VEVENT
BEGIN:VEVENT
DTSTART;TZID=Europe/Berlin:20231213T140000
DTEND;TZID=Europe/Berlin:20231213T160000
DTSTAMP:20260423T065735
CREATED:20231206T114213Z
LAST-MODIFIED:20231206T114213Z
UID:10000022-1702476000-1702483200@evbtraining.de
SUMMARY:WEBINAR-Qualifizierungsprogramm für internationale Lehrkräfte auf Türkisch - 13.12.2023 um 14:00 Uhr
DESCRIPTION:Vermisst du den Schulalltag?\nSehnst du dich nach der Arbeit mit Kindern und Jugendlichen?\nFehlt deinem ausländischen Abschluss die notwendige Anerkennung?\n\nDann mach mit bei unserem Weiterbildungsprogramm “Qualifizierungsprogramm für internationale Lehrkräfte“.\nWir qualifizieren dich für eine unterstützende Tätigkeit im schulischen Bereich und helfen dir beim Einstieg in den Schulbetrieb.
URL:https://evbtraining.de/webinar/webinar-1312-tr/
LOCATION:https://evbtraining.de/webinar/webinar-1312-tr/
CATEGORIES:Infoveranstaltung,Türkçe,Weiterbildungen
ATTACH;FMTTYPE=image/jpeg:https://evbtraining.de/wp-content/uploads/2023/11/veranstaltung-evb-sp-qil-tr.jpg
ORGANIZER;CN="EVB Training GmbH":MAILTO:info@evbtraining.de
END:VEVENT
BEGIN:VEVENT
DTSTART;TZID=Europe/Berlin:20231213T140000
DTEND;TZID=Europe/Berlin:20231213T160000
DTSTAMP:20260423T065735
CREATED:20231206T114705Z
LAST-MODIFIED:20231206T114705Z
UID:10000023-1702476000-1702483200@evbtraining.de
SUMMARY:WEBINAR-Qualifizierungsprogramm für internationale Lehrkräfte auf Farsi - 13.12.2023 um 14:00 Uhr
DESCRIPTION:Vermisst du den Schulalltag?\nSehnst du dich nach der Arbeit mit Kindern und Jugendlichen?\nFehlt deinem ausländischen Abschluss die notwendige Anerkennung?\n\nDann mach mit bei unserem Weiterbildungsprogramm “Qualifizierungsprogramm für internationale Lehrkräfte“.\nWir qualifizieren dich für eine unterstützende Tätigkeit im schulischen Bereich und helfen dir beim Einstieg in den Schulbetrieb.
URL:https://evbtraining.de/webinar/webinar-1312-fa/
LOCATION:https://evbtraining.de/webinar/webinar-1312-fa/
CATEGORIES:Infoveranstaltung,Persisch,Weiterbildungen
ATTACH;FMTTYPE=image/jpeg:https://evbtraining.de/wp-content/uploads/2023/11/veranstaltung-evb-sp-qil-fa.jpg
ORGANIZER;CN="Beratung Farsi":MAILTO:beratung-fa@evbtraining.de
END:VEVENT
BEGIN:VEVENT
DTSTART;TZID=Europe/Berlin:20231213T190000
DTEND;TZID=Europe/Berlin:20231213T190000
DTSTAMP:20260423T065735
CREATED:20231206T114733Z
LAST-MODIFIED:20231207T123132Z
UID:10000024-1702494000-1702494000@evbtraining.de
SUMMARY:WEBINAR-Qualifizierungsprogramm für internationale Lehrkräfte auf Russisch/Ukrainisch - 13.12.2023 um 19:00 Uhr
DESCRIPTION:Vermisst du den Schulalltag?\nSehnst du dich nach der Arbeit mit Kindern und Jugendlichen?\nFehlt deinem ausländischen Abschluss die notwendige Anerkennung?\n\nDann mach mit bei unserem Weiterbildungsprogramm “Qualifizierungsprogramm für internationale Lehrkräfte“.\nWir qualifizieren dich für eine unterstützende Tätigkeit im schulischen Bereich und helfen dir beim Einstieg in den Schulbetrieb.
URL:https://evbtraining.de/webinar/webinar-1312-ru/
LOCATION:https://evbtraining.de/webinar/webinar-1312-ru/
CATEGORIES:Infoveranstaltung,Russisch,Ukrainisch,Weiterbildungen
ATTACH;FMTTYPE=image/jpeg:https://evbtraining.de/wp-content/uploads/2023/11/veranstaltung-evb-sp-qil-ru-ukr.jpg
ORGANIZER;CN="Beratung Russisch":MAILTO:Beratung-ukr@evbtraining.de
END:VEVENT
BEGIN:VEVENT
DTSTART;TZID=Europe/Berlin:20231220T140000
DTEND;TZID=Europe/Berlin:20231220T160000
DTSTAMP:20260423T065735
CREATED:20231214T130149Z
LAST-MODIFIED:20231214T130310Z
UID:10000030-1703080800-1703088000@evbtraining.de
SUMMARY:WEBINAR-Qualifizierungsprogramm für internationale Lehrkräfte - 20.12.2023 um 14:00 Uhr
DESCRIPTION:Vermisst du den Schulalltag?\nSehnst du dich nach der Arbeit mit Kindern und Jugendlichen?\nFehlt deinem ausländischen Abschluss die notwendige Anerkennung?\n\nDann mach mit bei unserem Weiterbildungsprogramm “Qualifizierungsprogramm für internationale Lehrkräfte“.\nWir qualifizieren dich für eine unterstützende Tätigkeit im schulischen Bereich und helfen dir beim Einstieg in den Schulbetrieb.
URL:https://evbtraining.de/webinar/webinar-2012/
LOCATION:https://us06web.zoom.us/j/84133722721
CATEGORIES:Deutsch,Infoveranstaltung,Weiterbildungen
ATTACH;FMTTYPE=image/jpeg:https://evbtraining.de/wp-content/uploads/2023/11/veranstaltung-evb-QiL-de.jpg
ORGANIZER;CN="EVB Training GmbH":MAILTO:info@evbtraining.de
END:VEVENT
BEGIN:VEVENT
DTSTART;TZID=Europe/Berlin:20231220T140000
DTEND;TZID=Europe/Berlin:20231220T160000
DTSTAMP:20260423T065735
CREATED:20231214T130601Z
LAST-MODIFIED:20231214T130601Z
UID:10000031-1703080800-1703088000@evbtraining.de
SUMMARY:WEBINAR-Qualifizierungsprogramm für internationale Lehrkräfte auf Türkisch - 20.12.2023 um 14:00 Uhr
DESCRIPTION:Vermisst du den Schulalltag?\nSehnst du dich nach der Arbeit mit Kindern und Jugendlichen?\nFehlt deinem ausländischen Abschluss die notwendige Anerkennung?\n\nDann mach mit bei unserem Weiterbildungsprogramm “Qualifizierungsprogramm für internationale Lehrkräfte“.\nWir qualifizieren dich für eine unterstützende Tätigkeit im schulischen Bereich und helfen dir beim Einstieg in den Schulbetrieb.
URL:https://evbtraining.de/webinar/webinar-2012-tr/
LOCATION:https://us06web.zoom.us/j/84886338680
CATEGORIES:Infoveranstaltung,Türkçe,Weiterbildungen
ATTACH;FMTTYPE=image/jpeg:https://evbtraining.de/wp-content/uploads/2023/11/veranstaltung-evb-sp-qil-tr.jpg
ORGANIZER;CN="EVB Training GmbH":MAILTO:info@evbtraining.de
END:VEVENT
BEGIN:VEVENT
DTSTART;TZID=Europe/Berlin:20231220T140000
DTEND;TZID=Europe/Berlin:20231220T160000
DTSTAMP:20260423T065735
CREATED:20231214T131451Z
LAST-MODIFIED:20231214T133218Z
UID:10000033-1703080800-1703088000@evbtraining.de
SUMMARY:WEBINAR-Qualifizierungsprogramm für internationale Lehrkräfte auf Farsi - 20.12.2023 um 14:00 Uhr
DESCRIPTION:Vermisst du den Schulalltag?\nSehnst du dich nach der Arbeit mit Kindern und Jugendlichen?\nFehlt deinem ausländischen Abschluss die notwendige Anerkennung?\n\nDann mach mit bei unserem Weiterbildungsprogramm “Qualifizierungsprogramm für internationale Lehrkräfte“.\nWir qualifizieren dich für eine unterstützende Tätigkeit im schulischen Bereich und helfen dir beim Einstieg in den Schulbetrieb.
URL:https://evbtraining.de/webinar/webinar-2012-fa/
LOCATION:https://us06web.zoom.us/j/83334670028
CATEGORIES:Infoveranstaltung,Persisch,Weiterbildungen
ATTACH;FMTTYPE=image/jpeg:https://evbtraining.de/wp-content/uploads/2023/11/veranstaltung-evb-sp-qil-fa.jpg
ORGANIZER;CN="Beratung Farsi":MAILTO:beratung-fa@evbtraining.de
END:VEVENT
BEGIN:VEVENT
DTSTART;TZID=Europe/Berlin:20231220T140000
DTEND;TZID=Europe/Berlin:20231220T160000
DTSTAMP:20260423T065735
CREATED:20231214T133331Z
LAST-MODIFIED:20231214T133539Z
UID:10000034-1703080800-1703088000@evbtraining.de
SUMMARY:WEBINAR-Qualifizierungsprogramm für internationale Lehrkräfte auf Arabisch - 20.12.2023 um 14:00 Uhr
DESCRIPTION:Vermisst du den Schulalltag?\nSehnst du dich nach der Arbeit mit Kindern und Jugendlichen?\nFehlt deinem ausländischen Abschluss die notwendige Anerkennung?\n\nDann mach mit bei unserem Weiterbildungsprogramm “Qualifizierungsprogramm für internationale Lehrkräfte“.\nWir qualifizieren dich für eine unterstützende Tätigkeit im schulischen Bereich und helfen dir beim Einstieg in den Schulbetrieb.
URL:https://evbtraining.de/webinar/webinar-2012-ar/
LOCATION:https://us06web.zoom.us/j/88313663446
CATEGORIES:Arabisch,Infoveranstaltung,Weiterbildungen
ATTACH;FMTTYPE=image/jpeg:https://evbtraining.de/wp-content/uploads/2023/11/veranstaltung-evb-sp-qil-ar.jpg
ORGANIZER;CN="Beratung Arabisch":MAILTO:beratung-ar@evbtraining.de
END:VEVENT
BEGIN:VEVENT
DTSTART;TZID=Europe/Berlin:20231220T190000
DTEND;TZID=Europe/Berlin:20231220T210000
DTSTAMP:20260423T065735
CREATED:20231214T130902Z
LAST-MODIFIED:20231214T131130Z
UID:10000032-1703098800-1703106000@evbtraining.de
SUMMARY:WEBINAR-Qualifizierungsprogramm für internationale Lehrkräfte auf Russisch/Ukrainisch - 20.12.2023 um 19:00 Uhr
DESCRIPTION:Vermisst du den Schulalltag?\nSehnst du dich nach der Arbeit mit Kindern und Jugendlichen?\nFehlt deinem ausländischen Abschluss die notwendige Anerkennung?\n\nDann mach mit bei unserem Weiterbildungsprogramm “Qualifizierungsprogramm für internationale Lehrkräfte“.\nWir qualifizieren dich für eine unterstützende Tätigkeit im schulischen Bereich und helfen dir beim Einstieg in den Schulbetrieb.
URL:https://evbtraining.de/webinar/webinar-2012-2/
LOCATION:https://us06web.zoom.us/j/84335484710
CATEGORIES:Infoveranstaltung,Russisch,Ukrainisch,Weiterbildungen
ATTACH;FMTTYPE=image/jpeg:https://evbtraining.de/wp-content/uploads/2023/11/veranstaltung-evb-sp-qil-ru-ukr.jpg
ORGANIZER;CN="Beratung Russisch":MAILTO:Beratung-ukr@evbtraining.de
END:VEVENT
END:VCALENDAR