BEGIN:VCALENDAR
VERSION:2.0
PRODID:-//EVB Training - Weiterbildungen - Umschulungen - Coaching - Sprachen - ECPv6.15.20//NONSGML v1.0//EN
CALSCALE:GREGORIAN
METHOD:PUBLISH
X-ORIGINAL-URL:https://evbtraining.de
X-WR-CALDESC:Veranstaltungen für EVB Training - Weiterbildungen - Umschulungen - Coaching - Sprachen
REFRESH-INTERVAL;VALUE=DURATION:PT1H
X-Robots-Tag:noindex
X-PUBLISHED-TTL:PT1H
BEGIN:VTIMEZONE
TZID:Europe/Berlin
BEGIN:DAYLIGHT
TZOFFSETFROM:+0100
TZOFFSETTO:+0200
TZNAME:CEST
DTSTART:20230326T010000
END:DAYLIGHT
BEGIN:STANDARD
TZOFFSETFROM:+0200
TZOFFSETTO:+0100
TZNAME:CET
DTSTART:20231029T010000
END:STANDARD
BEGIN:DAYLIGHT
TZOFFSETFROM:+0100
TZOFFSETTO:+0200
TZNAME:CEST
DTSTART:20240331T010000
END:DAYLIGHT
BEGIN:STANDARD
TZOFFSETFROM:+0200
TZOFFSETTO:+0100
TZNAME:CET
DTSTART:20241027T010000
END:STANDARD
BEGIN:DAYLIGHT
TZOFFSETFROM:+0100
TZOFFSETTO:+0200
TZNAME:CEST
DTSTART:20250330T010000
END:DAYLIGHT
BEGIN:STANDARD
TZOFFSETFROM:+0200
TZOFFSETTO:+0100
TZNAME:CET
DTSTART:20251026T010000
END:STANDARD
END:VTIMEZONE
BEGIN:VEVENT
DTSTART;TZID=Europe/Berlin:20240904T190000
DTEND;TZID=Europe/Berlin:20240904T200000
DTSTAMP:20260423T091923
CREATED:20240717T134347Z
LAST-MODIFIED:20240904T083840Z
UID:10000311-1725476400-1725480000@evbtraining.de
SUMMARY:WEBINAR-Qualifizierungsprogramm für internationale Lehrkräfte auf Ukrainisch/Russisch - 04.09.2024 um 19:00 Uhr
DESCRIPTION:Qualifizierungsprogramm für internationale Lehrkräfte\nWenn deine Leidenschaft die Arbeit mit Kindern ist\, dann bist du bei uns genau richtig. \n  \nBerufliches Profil optimieren\nbis zu 100 % Förderung\n20 Schulungsstandorte in Deutschland\nTeilnahme auch von zu Hause aus möglich \nSobald du das untenstehende Formular ausgefüllt hast\, erhältst du den Zoom-Link per E-Mail zugesandt. \nZoom Link:   https://us06web.zoom.us/j/86499272395
URL:https://evbtraining.de/webinar/webinar-0708-ru/
CATEGORIES:Infoveranstaltung,Russisch,Ukrainisch,Weiterbildungen
ATTACH;FMTTYPE=image/png:https://evbtraining.de/wp-content/uploads/2024/04/Webinar_Qintl_ukr-1.png
ORGANIZER;CN="Beratung Russisch":MAILTO:Beratung-ukr@evbtraining.de
LOCATION:https://us06web.zoom.us/j/81563573358
END:VEVENT
BEGIN:VEVENT
DTSTART;TZID=Europe/Berlin:20240905T140000
DTEND;TZID=Europe/Berlin:20240905T150000
DTSTAMP:20260423T091923
CREATED:20240602T132052Z
LAST-MODIFIED:20240904T090442Z
UID:10000244-1725544800-1725548400@evbtraining.de
SUMMARY:WEBINAR- Einzelsprachtraining für den Beruf – auf Persisch – 05.09.2024 um 14:00 Uhr
DESCRIPTION:Einzelsprachtraining für den Beruf\n\n\n\n\nUnser Karrierecoaching und  Einzelsprachtraining sind dein Ticket zu neuen Horizonten. Wir fördern dich individuell nach deinen Wünschen und Vorstellungen. \n\n\n\n\nBei uns stehen individuelle Betreuung und maßgeschneidertes Lernen im Fokus. \n\n\n\n\n  \nSobald du das untenstehende Formular ausgefüllt hast\, erhältst du den Zoom-Link per E-Mail zugesandt. \n\n\n\n\nZoom Link:   https://us06web.zoom.us/j/83295052796
URL:https://evbtraining.de/webinar/webinar-0506-fa/
CATEGORIES:Infoveranstaltung,Persisch,Umschulungen
ATTACH;FMTTYPE=image/png:https://evbtraining.de/wp-content/uploads/2024/06/Webinar_Einzel_fa-2.png
LOCATION:https://evbtraining.de/webinar/webinar-0506-fa/
END:VEVENT
BEGIN:VEVENT
DTSTART;TZID=Europe/Berlin:20240905T140000
DTEND;TZID=Europe/Berlin:20240905T150000
DTSTAMP:20260423T091923
CREATED:20240717T121054Z
LAST-MODIFIED:20240904T085148Z
UID:10000304-1725544800-1725548400@evbtraining.de
SUMMARY:WEBINAR-Schulbegleiter*in / Integrationsassistent*in – auf Arabisch – 05.09.2024 um 14:00 Uhr
DESCRIPTION:Schulbegleiter*innen leisten einen wichtigen Betrag zur schulischen Teilhabe junger Menschen! \nBerufliches Profil optimieren\nbis zu 100 % Förderung\n20 Schulungsstandorte in Deutschland\nTeilnahme auch von zu Hause aus möglich \n  \nSobald du das untenstehende Formular ausgefüllt hast\, erhältst du den Zoom-Link per E-Mail zugesandt. \n  \nZoom Link:   https://us06web.zoom.us/j/82308522137 \n 
URL:https://evbtraining.de/webinar/webinar-3107-ar/
CATEGORIES:Arabisch,Infoveranstaltung,Schulbegleiter,Weiterbildungen
ATTACH;FMTTYPE=image/png:https://evbtraining.de/wp-content/uploads/2024/03/Webinar_SB_ar-e1711108863780.png
ORGANIZER;CN="Beratung Arabisch":MAILTO:beratung-ar@evbtraining.de
END:VEVENT
BEGIN:VEVENT
DTSTART;TZID=Europe/Berlin:20240905T140000
DTEND;TZID=Europe/Berlin:20240905T150000
DTSTAMP:20260423T091923
CREATED:20240717T121235Z
LAST-MODIFIED:20240904T085136Z
UID:10000305-1725544800-1725548400@evbtraining.de
SUMMARY:WEBINAR-Schulbegleiter*in / Integrationsassistent*in – auf Türkisch – 05.09.2024 um 14:00 Uhr
DESCRIPTION:Schulbegleiter*innen leisten einen wichtigen Betrag zur schulischen Teilhabe junger Menschen! \nBerufliches Profil optimieren\nbis zu 100 % Förderung\n20 Schulungsstandorte in Deutschland\nTeilnahme auch von zu Hause aus möglich \n  \nSobald du das untenstehende Formular ausgefüllt hast\, erhältst du den Zoom-Link per E-Mail zugesandt. \nZoom Link:    https://us06web.zoom.us/j/83295052796
URL:https://evbtraining.de/webinar/webinar-3107-tr/
CATEGORIES:Infoveranstaltung,Schulbegleiter,Türkçe,Weiterbildungen
ATTACH;FMTTYPE=image/png:https://evbtraining.de/wp-content/uploads/2024/03/Webinar_SB_tr-e1711108804171.png
ORGANIZER;CN="Beratung T%C3%BCrkce":MAILTO:beratung-tr@evbtraining.de
LOCATION:https://evbtraining.de/webinar/webinar-3107-tr/
END:VEVENT
BEGIN:VEVENT
DTSTART;TZID=Europe/Berlin:20240905T190000
DTEND;TZID=Europe/Berlin:20240905T200000
DTSTAMP:20260423T091923
CREATED:20240717T121520Z
LAST-MODIFIED:20240904T084849Z
UID:10000306-1725562800-1725566400@evbtraining.de
SUMMARY:WEBINAR-Schulbegleiter*in / Integrationsassistent*in – auf Ukrainisch - Russisch – 05.09.2024 um 19:00 Uhr
DESCRIPTION:Schulbegleiter*innen leisten einen wichtigen Betrag zur schulischen Teilhabe junger Menschen! \nBerufliches Profil optimieren\nbis zu 100 % Förderung\n20 Schulungsstandorte in Deutschland\nTeilnahme auch von zu Hause aus möglich \n  \nZoom Link:   https://us06web.zoom.us/j/86499272395
URL:https://evbtraining.de/webinar/webinar-3107-ru/
CATEGORIES:Infoveranstaltung,Russisch,Schulbegleiter,Ukrainisch,Weiterbildungen
ATTACH;FMTTYPE=image/png:https://evbtraining.de/wp-content/uploads/2024/03/Webinar_SB_ukr-e1711108779574.png
ORGANIZER;CN="Beratung Russisch":MAILTO:Beratung-ukr@evbtraining.de
LOCATION:https://evbtraining.de/webinar/webinar-3107-ru/
END:VEVENT
BEGIN:VEVENT
DTSTART;TZID=Europe/Berlin:20240906T100000
DTEND;TZID=Europe/Berlin:20240906T110000
DTSTAMP:20260423T091923
CREATED:20240717T120908Z
LAST-MODIFIED:20240904T085610Z
UID:10000303-1725616800-1725620400@evbtraining.de
SUMMARY:WEBINAR-Schulbegleiter*in / Integrationsassistent*in – auf Persisch – 06.09.2024 um 10:00 Uhr
DESCRIPTION:Schulbegleiter*innen leisten einen wichtigen Betrag zur schulischen Teilhabe junger Menschen! \nBerufliches Profil optimieren\nbis zu 100 % Förderung\n20 Schulungsstandorte in Deutschland\nTeilnahme auch von zu Hause aus möglich \nSobald du das untenstehende Formular ausgefüllt hast\, erhältst du den Zoom-Link per E-Mail zugesandt. \n  \nZoom Link:   https://us06web.zoom.us/j/83544119107
URL:https://evbtraining.de/webinar/webinar-3107-fa/
CATEGORIES:Infoveranstaltung,Persisch,Schulbegleiter,Weiterbildungen
ATTACH;FMTTYPE=image/png:https://evbtraining.de/wp-content/uploads/2024/03/Webinar_SB_fa-e1711108822199.png
ORGANIZER;CN="Beratung Farsi":MAILTO:beratung-fa@evbtraining.de
LOCATION:https://evbtraining.de/webinar/webinar-3107-fa/
END:VEVENT
BEGIN:VEVENT
DTSTART;TZID=Europe/Berlin:20240909T140000
DTEND;TZID=Europe/Berlin:20240909T150000
DTSTAMP:20260423T091923
CREATED:20240717T120646Z
LAST-MODIFIED:20241011T093536Z
UID:10000302-1725890400-1725894000@evbtraining.de
SUMMARY:WEBINAR-Schulbegleiter*in - Integrationsassistent*in  – 09.09.2024 um 14:00 Uhr
DESCRIPTION:Schulbegleiter*innen leisten einen wichtigen Betrag zur schulischen Teilhabe junger Menschen! \nBerufliches Profil optimieren\nbis zu 100 % Förderung\n20 Schulungsstandorte in Deutschland\nTeilnahme auch von zu Hause aus möglich \nSobald du das untenstehende Formular ausgefüllt hast\, erhältst du den Zoom-Link per E-Mail zugesandt. \n  \nZoom Link:   https://us06web.zoom.us/j/81752978121
URL:https://evbtraining.de/webinar/webinar-3107/
CATEGORIES:Deutsch,Infoveranstaltung,Schulbegleiter,Weiterbildungen
ATTACH;FMTTYPE=image/png:https://evbtraining.de/wp-content/uploads/2024/03/Webinar_SB_de-e1728639320942.png
ORGANIZER;CN="Beratung Deutsch":MAILTO:beratung-de@evbtraining.de
LOCATION:https://evbtraining.de/webinar/webinar-3107/
END:VEVENT
BEGIN:VEVENT
DTSTART;TZID=Europe/Berlin:20240910T140000
DTEND;TZID=Europe/Berlin:20240910T150000
DTSTAMP:20260423T091923
CREATED:20240108T202612Z
LAST-MODIFIED:20240904T090613Z
UID:10000071-1725976800-1725980400@evbtraining.de
SUMMARY:WEBINAR- Einzelsprachtraining auf Deutsch - 10.09.2024 um 14:00 Uhr
DESCRIPTION:Unser Ziel ist es\, dass die Teilnehmenden durch Einzelcoachings in die Lage versetzt werden\, berufsbezogene Kenntnisse in der Zielsprache zu erlangen bzw. zu vertiefen. Die Sprachtrainings dienen in erster Linie dem Erwerb bzw. der Steigerung der kommunikativen Kompetenz im Berufsalltag. Hierfür steht dir ein erfahrener Sprach-Coach mit bis zu 150 Einheiten persönlich zur Seite. \nZoom Link:   https://us06web.zoom.us/j/81752978121
URL:https://evbtraining.de/webinar/webinar-einzelsprachtraining-auf-deutsch-24-01-2024-um-1400-uhr-2/
CATEGORIES:Deutsch,Infoveranstaltung,Weiterbildungen
ATTACH;FMTTYPE=image/jpeg:https://evbtraining.de/wp-content/uploads/2023/11/evb-training-weiterbildung-zur-paedagogischen-hilfskraft.jpg
ORGANIZER;CN="Beratung Deutsch":MAILTO:beratung-de@evbtraining.de
LOCATION:https://us06web.zoom.us/j/84856325806
END:VEVENT
BEGIN:VEVENT
DTSTART;TZID=Europe/Berlin:20240910T190000
DTEND;TZID=Europe/Berlin:20240910T200000
DTSTAMP:20260423T091923
CREATED:20240602T140054Z
LAST-MODIFIED:20240904T085055Z
UID:10000248-1725994800-1725998400@evbtraining.de
SUMMARY:WEBINAR- Einzelsprachtraining für den Beruf – auf Ukrainisch / Russisch – 10.09.2024 um 19:00 Uhr
DESCRIPTION:Einzelsprachtraining für den Beruf\n\n\n\n\nUnser Karrierecoaching und  Einzelsprachtraining sind dein Ticket zu neuen Horizonten. Wir fördern dich individuell nach deinen Wünschen und Vorstellungen. \n\n\n\n\nBei uns stehen individuelle Betreuung und maßgeschneidertes Lernen im Fokus. \n\n\n\n\nZoom Link:   https://us06web.zoom.us/j/86499272395
URL:https://evbtraining.de/webinar/webinar-0506-ukr/
CATEGORIES:Infoveranstaltung,Russisch,Ukrainisch,Weiterbildungen
ATTACH;FMTTYPE=image/png:https://evbtraining.de/wp-content/uploads/2024/06/Webinar_Einzel_ukr-1.png
LOCATION:https://evbtraining.de/webinar/webinar-0506-ukr/
END:VEVENT
BEGIN:VEVENT
DTSTART;TZID=Europe/Berlin:20240911T140000
DTEND;TZID=Europe/Berlin:20240911T150000
DTSTAMP:20260423T091923
CREATED:20240602T135204Z
LAST-MODIFIED:20240904T090149Z
UID:10000246-1726063200-1726066800@evbtraining.de
SUMMARY:WEBINAR- Einzelsprachtraining für den Beruf – auf Türkisch – 11.09.2024 um 14:00 Uhr
DESCRIPTION:Einzelsprachtraining für den Beruf\n\n\n\n\nUnser Karrierecoaching und  Einzelsprachtraining sind dein Ticket zu neuen Horizonten. Wir fördern dich individuell nach deinen Wünschen und Vorstellungen. \n\n\n\n\nBei uns stehen individuelle Betreuung und maßgeschneidertes Lernen im Fokus. \n  \nSobald du das untenstehende Formular ausgefüllt hast\, erhältst du den Zoom-Link per E-Mail zugesandt. \n\n\n\n\nZoom Link:   https://us06web.zoom.us/j/83295052796
URL:https://evbtraining.de/webinar/webinar-0506-tr/
CATEGORIES:Infoveranstaltung,Türkçe,Weiterbildungen
ATTACH;FMTTYPE=image/png:https://evbtraining.de/wp-content/uploads/2024/06/Webinar_Einzel_tr-1.png
LOCATION:https://evbtraining.de/webinar/webinar-0506-tr/
END:VEVENT
END:VCALENDAR