BEGIN:VCALENDAR
VERSION:2.0
PRODID:-//EVB Training - Weiterbildungen - Umschulungen - Coaching - Sprachen - ECPv6.15.17//NONSGML v1.0//EN
CALSCALE:GREGORIAN
METHOD:PUBLISH
X-ORIGINAL-URL:https://evbtraining.de
X-WR-CALDESC:Veranstaltungen für EVB Training - Weiterbildungen - Umschulungen - Coaching - Sprachen
REFRESH-INTERVAL;VALUE=DURATION:PT1H
X-Robots-Tag:noindex
X-PUBLISHED-TTL:PT1H
BEGIN:VTIMEZONE
TZID:Europe/Berlin
BEGIN:DAYLIGHT
TZOFFSETFROM:+0100
TZOFFSETTO:+0200
TZNAME:CEST
DTSTART:20230326T010000
END:DAYLIGHT
BEGIN:STANDARD
TZOFFSETFROM:+0200
TZOFFSETTO:+0100
TZNAME:CET
DTSTART:20231029T010000
END:STANDARD
BEGIN:DAYLIGHT
TZOFFSETFROM:+0100
TZOFFSETTO:+0200
TZNAME:CEST
DTSTART:20240331T010000
END:DAYLIGHT
BEGIN:STANDARD
TZOFFSETFROM:+0200
TZOFFSETTO:+0100
TZNAME:CET
DTSTART:20241027T010000
END:STANDARD
BEGIN:DAYLIGHT
TZOFFSETFROM:+0100
TZOFFSETTO:+0200
TZNAME:CEST
DTSTART:20250330T010000
END:DAYLIGHT
BEGIN:STANDARD
TZOFFSETFROM:+0200
TZOFFSETTO:+0100
TZNAME:CET
DTSTART:20251026T010000
END:STANDARD
END:VTIMEZONE
BEGIN:VEVENT
DTSTART;TZID=Europe/Berlin:20240717T140000
DTEND;TZID=Europe/Berlin:20240717T160000
DTSTAMP:20260420T044145
CREATED:20240717T094430Z
LAST-MODIFIED:20240717T115745Z
UID:10000288-1721224800-1721232000@evbtraining.de
SUMMARY:WEBINAR- Gewerbliche Umschulungen  – 17.07.2024 um 14:00 Uhr
DESCRIPTION:Der Beruf „Fachkraft für Lagerlogistik“ ist ein von der IHK anerkannter Ausbildungsberuf. Die Chancen auf dem Arbeitsmarkt für Absolventen einer Umschulung in der Lagerlogistik sind sehr gut. Durch die ständige Liefer- und Verkaufsbereitschaft der Unternehmen und der immer kürzer werdenden Lieferzeiten wird die Lagerlogistik immer gefragt sein. Der hohe Grad der Technologisierung der Lagerlogistik\, der sich gerade durchsetzt\, setzt eine fundierte Ausbildung und ständige Weiterbildung voraus. Fachkräfte für Lagerlogistik übernehmen vielseitige Aufgaben\, die weit über die Einlagerung von Waren und die Zusammenstellung von Bestellungen hinausreichen z.B. Arbeiten am PC oder Kontaktaufnahme mit Lieferanten etc. \n\n\nDer Beruf „Fachlagerist/in“ ist ein von der IHK anerkannter Ausbildungsberuf. Die Chancen auf dem Arbeitsmarkt für Absolventen einer Umschulung in der Lagerlogistik sind sehr gut. Durch die ständige Liefer- und Verkaufsbereitschaft der Unternehmen und der immer kürzer werdenden Lieferzeiten wird die Lagerlogistik immer gefragt sein. Der hohe Grad der Technologisierung der Lagerlogistik\, der sich gerade durchsetzt\, setzt eine fundierte Ausbildung und ständige Weiterbildung voraus. \nDie Inhalte der Umschulungen orientieren sich an der Ausbildungsverordnung und dem Rahmenlehrplan. Ein Bestandteil der Umschulung beinhaltet eine Praxisphase. Das Gelernte kann somit im Praktikum umgesetzt und vertieft werden. Dieser Kurs wird durch die IHK-Prüfung abgeschlossen. \nSobald du das untenstehende Formular ausgefüllt hast\, erhältst du den Zoom-Link per E-Mail zugesandt. \n  \n\nZoom Link:  https://us06web.zoom.us/j/81752978121 \n\n 
URL:https://evbtraining.de/webinar/webinar-1707/
CATEGORIES:Deutsch,Infoveranstaltung,Umschulungen
ATTACH;FMTTYPE=image/png:https://evbtraining.de/wp-content/uploads/2024/07/Webinar_Large_de.png
ORGANIZER;CN="Beratung Deutsch":MAILTO:beratung-de@evbtraining.de
END:VEVENT
BEGIN:VEVENT
DTSTART;TZID=Europe/Berlin:20240718T140000
DTEND;TZID=Europe/Berlin:20240718T160000
DTSTAMP:20260420T044145
CREATED:20240717T093942Z
LAST-MODIFIED:20240718T114110Z
UID:10000287-1721311200-1721318400@evbtraining.de
SUMMARY:WEBINAR- Umschulungen IT  – 18.07.2024 um 14:00 Uhr
DESCRIPTION:Traumjob durch berufliche Umschulung\n\n Sei bereit für eine neue Karriere als Fachinformatiker/in! \n\n\n\n Willst du in die Welt der IT eintauchen? Dann ist unsere Umschulung zum/zur Fachinformatiker/in bei der IHK genau das Richtige für dich! Mit Spezialisierungen in Systemintegration und Anwendungsentwicklung bieten wir dir das perfekte Sprungbrett für deine IT-Karriere.\n\n\n\nUnsere Vorteile für dich:\n Individuelles Mentoring\, um dein volles Potenzial zu entfalten\n Unterstützung bei der Praktikums- und Jobsuche für einen reibungslosen Start in die Arbeitswelt\n Vorbereitung auf die IHK Probeprüfung\, damit du bestens vorbereitet bist\n Und viele weitere Vorteile\, die auf dich warten!\n 150 Euro Weiterbildungsgeld pro Monat erhalten!\n\n\n\n 100% Förderung durch das Jobcenter oder die Agentur für Arbeit – starte deine Umschulung ohne finanzielle Sorgen!\n\n\n\n Nimm teil an unserem kostenfreien Webinar\, um mehr über unsere Umschulung zu erfahren und deine Fragen zu stellen.\n\nSobald du das untenstehende Formular ausgefüllt hast\, erhältst du den Zoom-Link per E-Mail zugesandt. \n  \nZoom Link:  https://us06web.zoom.us/j/81752978121 \n 
URL:https://evbtraining.de/webinar/webinar-1807/
CATEGORIES:Deutsch,Infoveranstaltung,Umschulungen
ATTACH;FMTTYPE=image/png:https://evbtraining.de/wp-content/uploads/2024/07/Umschulungen-IT_de.png
ORGANIZER;CN="Beratung Deutsch":MAILTO:beratung-de@evbtraining.de
LOCATION:https://us06web.zoom.us/j/86520332591
END:VEVENT
BEGIN:VEVENT
DTSTART;TZID=Europe/Berlin:20240719T140000
DTEND;TZID=Europe/Berlin:20240719T160000
DTSTAMP:20260420T044145
CREATED:20240717T095848Z
LAST-MODIFIED:20240717T120040Z
UID:10000289-1721397600-1721404800@evbtraining.de
SUMMARY:WEBINAR- Umschulungen Kaufmann/-frau  – 19.07.2024 um 14:00 Uhr
DESCRIPTION:Der Beruf „Kaufmann/-frau für Büromanagement” bietet eine vielseitige und fundierte Ausbildung in der alle relevanten Kompetenzen und Wissensgebiete abgedeckt werden. Dies umfasst unter anderem Themen wie Büroorganisation und -kommunikation\, kaufmännische Steuerung\, Informationsverarbeitung sowie spezialisierte Module wie Personalwirtschaft oder Assistenz und Sekretariat. \n\n\n\n\nWährend des Praktikums haben die Teilnehmerinnen und Teilnehmer die Möglichkeit\, das im Kurs erworbene Wissen direkt anzuwenden und in einem realen Arbeitsumfeld zu vertiefen. Diese praktische Erfahrung ist unerlässlich\, um die Brücke zwischen Theorie und Praxis zu schlagen und die Absolventen optimal auf den Berufsalltag vorzubereiten. \nDie Umschulung schließt mit der IHK-Prüfung ab\, welche die Teilnehmenden offiziell als Kaufleute für Büromanagement zertifiziert. Diese Qualifikation wird von Arbeitgebern geschätzt und öffnet Türen in verschiedenen Branchen und Unternehmen. Absolventen dieses Kurses sind somit bestens ausgerüstet\, um eine erfolgreiche Karriere in der Büroverwaltung und -organisation zu beginnen\, und besitzen das nötige Fachwissen\, um in einem modernen Büroumfeld effizient und professionell zu agieren.” \n\nSobald du das untenstehende Formular ausgefüllt hast\, erhältst du den Zoom-Link per E-Mail zugesandt. \n\n\nZoom Link:  https://us06web.zoom.us/j/81752978121 \n\n\n 
URL:https://evbtraining.de/webinar/webinar-1907/
CATEGORIES:Deutsch,Infoveranstaltung,Umschulungen
ATTACH;FMTTYPE=image/png:https://evbtraining.de/wp-content/uploads/2024/07/Webinar_Bueromanagement_de-1.png
ORGANIZER;CN="Beratung Deutsch":MAILTO:beratung-de@evbtraining.de
END:VEVENT
BEGIN:VEVENT
DTSTART;TZID=Europe/Berlin:20240725T140000
DTEND;TZID=Europe/Berlin:20240725T160000
DTSTAMP:20260420T044145
CREATED:20240717T112814Z
LAST-MODIFIED:20240717T112856Z
UID:10000298-1721916000-1721923200@evbtraining.de
SUMMARY:WEBINAR-Pädagogischen Hilfskraft im Bereich Soziale Arbeit auf Arabisch – 25.07.2024 um 14:00 Uhr
DESCRIPTION:برنامج التعليمي كمساعدة مرشدة اجتماعية الكورس مجاني في حال الحصول على تمويل من الجوب سنتر أو مؤسسة العمل برنامجنا التعليمي يقدم لك الفرصة المميزة لتطوير مهارتك النظرية بمجال العمل الاجتماعي و أيضا الخبرات العملية في هذا المجال. انضم إلينا وأبدأ مهنتك في مجال العمل الاجتماعي المتنوع اكتشف مجالات العمل الاجتماعي المتنوعة لمعلومات أكثر يمكنكم زيارة موقعنا الإلكتروني. إيجابيات الكورس: +لابتوب متاح للإعارة +تدريب +٥ شهادات +مساعدة في البحث عن عمل ندوة تعريفية مجانية : 25.07.2024 عند الساعة الثانية ظهرا للتسجيل هنا: https://evbtraining.de/webinar/webinar-2507-ar/\n\n\n.\n.\n.\n.\n\nDu hast zuvor bereits mit Menschen gearbeitet und vermisst den Arbeitsalltag mit Kindern\, Jugendlichen\, Erwachsenen oder Senioren? Dein Bildungsabschluss benötigt Erweiterung\, Fortbildung oder Praxiserfahrung\, um in den Arbeitsfeldern der Sozialen Arbeit arbeiten zu können? \nDie Weiterbildung kann dich in diesen Fällen für den Quereinstieg als pädagogische Hilfskraft in den Arbeitsfeldern der Sozialen Arbeit qualifizieren. \nDann mach mit bei unserem Weiterbildungsprogramm “Weiterbildung zur pädagogischen Hilfskraft“. \nNach erfolgreichem Abschluss unserer Weiterbildung stehen dir vielfältige Einsatzmöglichkeiten offen\, darunter: \n\n\n Ambulante Familienhilfe\nAsylhilfe und Integration\nFrauenhilfe und -förderung\nAufklärungshilfen\nStreetwork\nObdachlosenhilfe\nKinder- und Jugendschutz\nWohngruppen\nJugendzentrum\nHortbetreuung an der Grundschule\nAltenhilfe und -pflege\nGesundheitshilfe\nSuchthilfe\nuvm\n\n  \nSobald du das untenstehende Formular ausgefüllt hast\, erhältst du den Zoom-Link per E-Mail zugesandt. \n\nZoom Link:   https://us06web.zoom.us/j/82308522137
URL:https://evbtraining.de/webinar/webinar-2507-ar/
CATEGORIES:Arabisch,Infoveranstaltung,Weiterbildungen
ATTACH;FMTTYPE=image/png:https://evbtraining.de/wp-content/uploads/2024/03/Webinar_WPH_ar.png
ORGANIZER;CN="Beratung Arabisch":MAILTO:beratung-ar@evbtraining.de
LOCATION:https://us06web.zoom.us/j/82308522137
END:VEVENT
BEGIN:VEVENT
DTSTART;TZID=Europe/Berlin:20240725T140000
DTEND;TZID=Europe/Berlin:20240725T160000
DTSTAMP:20260420T044145
CREATED:20240717T113111Z
LAST-MODIFIED:20240717T113111Z
UID:10000299-1721916000-1721923200@evbtraining.de
SUMMARY:WEBINAR-Pädagogischen Hilfskraft im Bereich Soziale Arbeit auf Türkisch – 25.07.2024 um 14:00 Uhr
DESCRIPTION:Sosyal Hizmetler Alanında Pedagojik Yardımcı Olarak İleri Eğitim\n\n\n\n{Ücretsiz Kayıt}\n\n Sosyal Hizmetler alanında yeni kariyer fırsatlarını keşfedin! \n\n\n\nİleri Eğitim programımız “Pedagojik Yardımcı Olarak İleri Eğitim”\, bilgilerinizi genişletme ve pratik deneyim kazanma fırsatı sunar. Şimdi başvurun ve çeşitli bir iş sahasında kariyerinize başlayın!  Daha fazla bilgi için web sitemizi ziyaret edin. \n\n\n\nKatılım Avantajları:\n+Laptop (Ödünç alınabilir)\n+Staj imkanı\n+5 Belge ve Sertifika dahil\n+İş arama desteği\n\n\n\nWebinar Tarihi: 25.07.2024 – 14.00\n\n  \nDu hast zuvor bereits mit Menschen gearbeitet und vermisst den Arbeitsalltag mit Kindern\, Jugendlichen\, Erwachsenen oder Senioren? Dein Bildungsabschluss benötigt Erweiterung\, Fortbildung oder Praxiserfahrung\, um in den Arbeitsfeldern der Sozialen Arbeit arbeiten zu können? \nDie Weiterbildung kann dich in diesen Fällen für den Quereinstieg als pädagogische Hilfskraft in den Arbeitsfeldern der Sozialen Arbeit qualifizieren. \nDann mach mit bei unserem Weiterbildungsprogramm “Weiterbildung zur pädagogischen Hilfskraft“. \nNach erfolgreichem Abschluss unserer Weiterbildung stehen dir vielfältige Einsatzmöglichkeiten offen\, darunter: \n\n\n Ambulante Familienhilfe\nAsylhilfe und Integration\nFrauenhilfe und -förderung\nAufklärungshilfen\nStreetwork\nObdachlosenhilfe\nKinder- und Jugendschutz\nWohngruppen\nJugendzentrum\nHortbetreuung an der Grundschule\nAltenhilfe und -pflege\nGesundheitshilfe\nSuchthilfe\nuvm\n\n\n  \nSobald du das untenstehende Formular ausgefüllt hast\, erhältst du den Zoom-Link per E-Mail zugesandt. \n  \nZoom Link:   https://us06web.zoom.us/j/83295052796
URL:https://evbtraining.de/webinar/webinar-2507-tr/
CATEGORIES:Infoveranstaltung,Türkçe,Weiterbildungen
ATTACH;FMTTYPE=image/png:https://evbtraining.de/wp-content/uploads/2024/03/Webinar_WPH_tr.png
ORGANIZER;CN="Beratung T%C3%BCrkce":MAILTO:beratung-tr@evbtraining.de
LOCATION:https://us06web.zoom.us/j/88046619473
END:VEVENT
BEGIN:VEVENT
DTSTART;TZID=Europe/Berlin:20240725T140000
DTEND;TZID=Europe/Berlin:20240725T160000
DTSTAMP:20260420T044145
CREATED:20240717T113432Z
LAST-MODIFIED:20240717T113432Z
UID:10000300-1721916000-1721923200@evbtraining.de
SUMMARY:WEBINAR-Pädagogischen Hilfskraft im Bereich Soziale Arbeit  – 25.07.2024 um 14:00 Uhr
DESCRIPTION:Du hast zuvor bereits mit Menschen gearbeitet und vermisst den Arbeitsalltag mit Kindern\, Jugendlichen\, Erwachsenen oder Senioren? Dein Bildungsabschluss benötigt Erweiterung\, Fortbildung oder Praxiserfahrung\, um in den Arbeitsfeldern der Sozialen Arbeit arbeiten zu können? \nDie Weiterbildung kann dich in diesen Fällen für den Quereinstieg als pädagogische Hilfskraft in den Arbeitsfeldern der Sozialen Arbeit qualifizieren. \nDann mach mit bei unserem Weiterbildungsprogramm “Weiterbildung zur pädagogischen Hilfskraft“. \nNach erfolgreichem Abschluss unserer Weiterbildung stehen dir vielfältige Einsatzmöglichkeiten offen\, darunter: \n\n\n Ambulante Familienhilfe\nAsylhilfe und Integration\nFrauenhilfe und -förderung\nAufklärungshilfen\nStreetwork\nObdachlosenhilfe\nKinder- und Jugendschutz\nWohngruppen\nJugendzentrum\nHortbetreuung an der Grundschule\nAltenhilfe und -pflege\nGesundheitshilfe\nSuchthilfe\nuvm\n\n\nSobald du das untenstehende Formular ausgefüllt hast\, erhältst du den Zoom-Link per E-Mail zugesandt. \n  \nZoom Link:     https://us06web.zoom.us/j/81752978121
URL:https://evbtraining.de/webinar/webinar-2507/
CATEGORIES:Deutsch,Infoveranstaltung,Weiterbildungen
ATTACH;FMTTYPE=image/png:https://evbtraining.de/wp-content/uploads/2024/03/Webinar_WPH_de-e1744113503779.png
ORGANIZER;CN="Beratung Deutsch":MAILTO:beratung-de@evbtraining.de
LOCATION:https://us06web.zoom.us/j/84926994208
END:VEVENT
BEGIN:VEVENT
DTSTART;TZID=Europe/Berlin:20240725T190000
DTEND;TZID=Europe/Berlin:20240725T210000
DTSTAMP:20260420T044145
CREATED:20240717T113817Z
LAST-MODIFIED:20240717T113817Z
UID:10000301-1721934000-1721941200@evbtraining.de
SUMMARY:WEBINAR-Pädagogischen Hilfskraft im Bereich Soziale Arbeit auf Ukrainisch/Russisch – 25.07.2024 um 19:00 Uhr
DESCRIPTION:Du hast zuvor bereits mit Menschen gearbeitet und vermisst den Arbeitsalltag mit Kindern\, Jugendlichen\, Erwachsenen oder Senioren? Dein Bildungsabschluss benötigt Erweiterung\, Fortbildung oder Praxiserfahrung\, um in den Arbeitsfeldern der Sozialen Arbeit arbeiten zu können? \nDie Weiterbildung kann dich in diesen Fällen für den Quereinstieg als pädagogische Hilfskraft in den Arbeitsfeldern der Sozialen Arbeit qualifizieren. \nDann mach mit bei unserem Weiterbildungsprogramm “Weiterbildung zur pädagogischen Hilfskraft“. \nNach erfolgreichem Abschluss unserer Weiterbildung stehen dir vielfältige Einsatzmöglichkeiten offen\, darunter: \n\n\n Ambulante Familienhilfe\nAsylhilfe und Integration\nFrauenhilfe und -förderung\nAufklärungshilfen\nStreetwork\nObdachlosenhilfe\nKinder- und Jugendschutz\nWohngruppen\nJugendzentrum\nHortbetreuung an der Grundschule\nAltenhilfe und -pflege\nGesundheitshilfe\nSuchthilfe\nuvm\n\n\n  \nSobald du das untenstehende Formular ausgefüllt hast\, erhältst du den Zoom-Link per E-Mail zugesandt. \n  \nZoom Link:       https://us06web.zoom.us/j/86499272395 \n 
URL:https://evbtraining.de/webinar/webinar-2507-ru/
CATEGORIES:Infoveranstaltung,Russisch,Ukrainisch,Weiterbildungen
ATTACH;FMTTYPE=image/png:https://evbtraining.de/wp-content/uploads/2024/03/Webinar_WPH_ukr-1-e1711107973531.png
ORGANIZER;CN="Beratung Russisch":MAILTO:Beratung-ukr@evbtraining.de
LOCATION:https://us06web.zoom.us/j/86172935186
END:VEVENT
END:VCALENDAR