BEGIN:VCALENDAR
VERSION:2.0
PRODID:-//EVB Training - Weiterbildungen - Umschulungen - Coaching - Sprachen - ECPv6.15.20//NONSGML v1.0//EN
CALSCALE:GREGORIAN
METHOD:PUBLISH
X-WR-CALNAME:EVB Training - Weiterbildungen - Umschulungen - Coaching - Sprachen
X-ORIGINAL-URL:https://evbtraining.de
X-WR-CALDESC:Veranstaltungen für EVB Training - Weiterbildungen - Umschulungen - Coaching - Sprachen
REFRESH-INTERVAL;VALUE=DURATION:PT1H
X-Robots-Tag:noindex
X-PUBLISHED-TTL:PT1H
BEGIN:VTIMEZONE
TZID:Europe/Berlin
BEGIN:DAYLIGHT
TZOFFSETFROM:+0100
TZOFFSETTO:+0200
TZNAME:CEST
DTSTART:20230326T010000
END:DAYLIGHT
BEGIN:STANDARD
TZOFFSETFROM:+0200
TZOFFSETTO:+0100
TZNAME:CET
DTSTART:20231029T010000
END:STANDARD
BEGIN:DAYLIGHT
TZOFFSETFROM:+0100
TZOFFSETTO:+0200
TZNAME:CEST
DTSTART:20240331T010000
END:DAYLIGHT
BEGIN:STANDARD
TZOFFSETFROM:+0200
TZOFFSETTO:+0100
TZNAME:CET
DTSTART:20241027T010000
END:STANDARD
BEGIN:DAYLIGHT
TZOFFSETFROM:+0100
TZOFFSETTO:+0200
TZNAME:CEST
DTSTART:20250330T010000
END:DAYLIGHT
BEGIN:STANDARD
TZOFFSETFROM:+0200
TZOFFSETTO:+0100
TZNAME:CET
DTSTART:20251026T010000
END:STANDARD
END:VTIMEZONE
BEGIN:VEVENT
DTSTART;TZID=Europe/Berlin:20241031T100000
DTEND;TZID=Europe/Berlin:20241031T120000
DTSTAMP:20260423T142843
CREATED:20241029T130727Z
LAST-MODIFIED:20241029T130727Z
UID:10000362-1730368800-1730376000@evbtraining.de
SUMMARY:WEBINAR- Umschulungen IT – auf Persisch – 31.10.2024 um 10:00 Uhr
DESCRIPTION:Traumjob durch berufliche Umschulung\n\n Sei bereit für eine neue Karriere als Fachinformatiker/in! \n\n\n\n Willst du in die Welt der IT eintauchen? Dann ist unsere Umschulung zum/zur Fachinformatiker/in bei der IHK genau das Richtige für dich! Mit Spezialisierungen in Systemintegration und Anwendungsentwicklung bieten wir dir das perfekte Sprungbrett für deine IT-Karriere.\n\n\n\nUnsere Vorteile für dich:\n Individuelles Mentoring\, um dein volles Potenzial zu entfalten\n Unterstützung bei der Praktikums- und Jobsuche für einen reibungslosen Start in die Arbeitswelt\n Vorbereitung auf die IHK Probeprüfung\, damit du bestens vorbereitet bist\n Und viele weitere Vorteile\, die auf dich warten!\n 150 Euro Weiterbildungsgeld pro Monat erhalten!\n\n\n\n 100% Förderung durch das Jobcenter oder die Agentur für Arbeit – starte deine Umschulung ohne finanzielle Sorgen!\n\n\n\n Nimm teil an unserem kostenfreien Webinar\, um mehr über unsere Umschulung zu erfahren und deine Fragen zu stellen.\n\nSobald du das untenstehende Formular ausgefüllt hast\, erhältst du den Zoom-Link per E-Mail zugesandt. \n  \nZoom Link:  https://us06web.zoom.us/j/83544119107 \n  \n 
URL:https://evbtraining.de/webinar/webinar-3110-fa/
CATEGORIES:Infoveranstaltung,Persisch,Umschulungen
ORGANIZER;CN="Beratung Farsi":MAILTO:beratung-fa@evbtraining.de
END:VEVENT
BEGIN:VEVENT
DTSTART;TZID=Europe/Berlin:20241031T140000
DTEND;TZID=Europe/Berlin:20241031T160000
DTSTAMP:20260423T142843
CREATED:20241011T100850Z
LAST-MODIFIED:20241011T100850Z
UID:10000354-1730383200-1730390400@evbtraining.de
SUMMARY:WEBINAR-Pädagogischen Hilfskraft im Bereich Soziale Arbeit  – 31.10.2024 um 14:00 Uhr
DESCRIPTION:Du hast zuvor bereits mit Menschen gearbeitet und vermisst den Arbeitsalltag mit Kindern\, Jugendlichen\, Erwachsenen oder Senioren? Dein Bildungsabschluss benötigt Erweiterung\, Fortbildung oder Praxiserfahrung\, um in den Arbeitsfeldern der Sozialen Arbeit arbeiten zu können? \nDie Weiterbildung kann dich in diesen Fällen für den Quereinstieg als pädagogische Hilfskraft in den Arbeitsfeldern der Sozialen Arbeit qualifizieren. \nDann mach mit bei unserem Weiterbildungsprogramm “Weiterbildung zur pädagogischen Hilfskraft“. \nNach erfolgreichem Abschluss unserer Weiterbildung stehen dir vielfältige Einsatzmöglichkeiten offen\, darunter: \n\n\nAmbulante Familienhilfe\nAsylhilfe und Integration\nFrauenhilfe und -förderung\nAufklärungshilfen\nStreetwork\nObdachlosenhilfe\nKinder- und Jugendschutz\nWohngruppen\nJugendzentrum\nHortbetreuung an der Grundschule\nAltenhilfe und -pflege\nGesundheitshilfe\nSuchthilfe\nuvm\n\n\nSobald du das untenstehende Formular ausgefüllt hast\, erhältst du den Zoom-Link per E-Mail zugesandt. \n  \nZoom Link:     https://us06web.zoom.us/j/81752978121
URL:https://evbtraining.de/webinar/webinar-3110/
CATEGORIES:Deutsch,Infoveranstaltung,Weiterbildungen
ATTACH;FMTTYPE=image/png:https://evbtraining.de/wp-content/uploads/2024/03/Webinar_WPH_de-e1744113503779.png
ORGANIZER;CN="Beratung Deutsch":MAILTO:beratung-de@evbtraining.de
LOCATION:https://us06web.zoom.us/j/84926994208
END:VEVENT
BEGIN:VEVENT
DTSTART;TZID=Europe/Berlin:20241031T140000
DTEND;TZID=Europe/Berlin:20241031T160000
DTSTAMP:20260423T142843
CREATED:20241029T130204Z
LAST-MODIFIED:20241029T130318Z
UID:10000361-1730383200-1730390400@evbtraining.de
SUMMARY:WEBINAR- Umschulungen IT – auf Arabisch – 31.10.2024 um 14:00 Uhr
DESCRIPTION:Traumjob durch berufliche Umschulung\n\n Sei bereit für eine neue Karriere als Fachinformatiker/in! \n\n\n\n Willst du in die Welt der IT eintauchen? Dann ist unsere Umschulung zum/zur Fachinformatiker/in bei der IHK genau das Richtige für dich! Mit Spezialisierungen in Systemintegration und Anwendungsentwicklung bieten wir dir das perfekte Sprungbrett für deine IT-Karriere.\n\n\n\nUnsere Vorteile für dich:\n Individuelles Mentoring\, um dein volles Potenzial zu entfalten\n Unterstützung bei der Praktikums- und Jobsuche für einen reibungslosen Start in die Arbeitswelt\n Vorbereitung auf die IHK Probeprüfung\, damit du bestens vorbereitet bist\n Und viele weitere Vorteile\, die auf dich warten!\n 150 Euro Weiterbildungsgeld pro Monat erhalten!\n\n\n\n 100% Förderung durch das Jobcenter oder die Agentur für Arbeit – starte deine Umschulung ohne finanzielle Sorgen!\n\n\n\n Nimm teil an unserem kostenfreien Webinar\, um mehr über unsere Umschulung zu erfahren und deine Fragen zu stellen.\n\n\n\nSobald du das untenstehende Formular ausgefüllt hast\, erhältst du den Zoom-Link per E-Mail zugesandt. \n  \nZoom Link:   https://us06web.zoom.us/j/82308522137 \n  \n 
URL:https://evbtraining.de/webinar/webinar-3110-ar/
CATEGORIES:Arabisch,Infoveranstaltung,Umschulungen
ATTACH;FMTTYPE=image/png:https://evbtraining.de/wp-content/uploads/2024/04/Webinar_USFI_ar-2.png
ORGANIZER;CN="Beratung Arabisch":MAILTO:beratung-ar@evbtraining.de
LOCATION:https://evbtraining.de/webinar/webinar-3110-ar/
END:VEVENT
BEGIN:VEVENT
DTSTART;TZID=Europe/Berlin:20241031T190000
DTEND;TZID=Europe/Berlin:20241031T210000
DTSTAMP:20260423T142843
CREATED:20241029T131010Z
LAST-MODIFIED:20241029T131010Z
UID:10000363-1730401200-1730408400@evbtraining.de
SUMMARY:WEBINAR- Umschulungen IT - auf Ukrainisch/Russich - 31.10.2024 um 19:00 Uhr
DESCRIPTION:Traumjob durch berufliche Umschulung\n\n Sei bereit für eine neue Karriere als Fachinformatiker/in! \n\n\n\n Willst du in die Welt der IT eintauchen? Dann ist unsere Umschulung zum/zur Fachinformatiker/in bei der IHK genau das Richtige für dich! Mit Spezialisierungen in Systemintegration und Anwendungsentwicklung bieten wir dir das perfekte Sprungbrett für deine IT-Karriere.\n\n\n\nUnsere Vorteile für dich:\n Individuelles Mentoring\, um dein volles Potenzial zu entfalten\n Unterstützung bei der Praktikums- und Jobsuche für einen reibungslosen Start in die Arbeitswelt\n Vorbereitung auf die IHK Probeprüfung\, damit du bestens vorbereitet bist\n Und viele weitere Vorteile\, die auf dich warten!\n 150 Euro Weiterbildungsgeld pro Monat erhalten!\n\n\n\n 100% Förderung durch das Jobcenter oder die Agentur für Arbeit – starte deine Umschulung ohne finanzielle Sorgen!\n\n\n\n Nimm teil an unserem kostenfreien Webinar\, um mehr über unsere Umschulung zu erfahren und deine Fragen zu stellen.\n\nSobald du das untenstehende Formular ausgefüllt hast\, erhältst du den Zoom-Link per E-Mail zugesandt. \n  \nZoom Link:     https://us06web.zoom.us/j/86499272395
URL:https://evbtraining.de/webinar/webinar-3110-ru/
CATEGORIES:Infoveranstaltung,Russisch,Ukrainisch,Umschulungen
ATTACH;FMTTYPE=image/png:https://evbtraining.de/wp-content/uploads/2024/04/Webinar_USFI_ukr-1.png
ORGANIZER;CN="Beratung Russisch":MAILTO:Beratung-ukr@evbtraining.de
END:VEVENT
END:VCALENDAR