BEGIN:VCALENDAR
VERSION:2.0
PRODID:-//EVB Training - Weiterbildungen - Umschulungen - Coaching - Sprachen - ECPv6.15.20//NONSGML v1.0//EN
CALSCALE:GREGORIAN
METHOD:PUBLISH
X-WR-CALNAME:EVB Training - Weiterbildungen - Umschulungen - Coaching - Sprachen
X-ORIGINAL-URL:https://evbtraining.de
X-WR-CALDESC:Veranstaltungen für EVB Training - Weiterbildungen - Umschulungen - Coaching - Sprachen
REFRESH-INTERVAL;VALUE=DURATION:PT1H
X-Robots-Tag:noindex
X-PUBLISHED-TTL:PT1H
BEGIN:VTIMEZONE
TZID:Europe/Berlin
BEGIN:DAYLIGHT
TZOFFSETFROM:+0100
TZOFFSETTO:+0200
TZNAME:CEST
DTSTART:20230326T010000
END:DAYLIGHT
BEGIN:STANDARD
TZOFFSETFROM:+0200
TZOFFSETTO:+0100
TZNAME:CET
DTSTART:20231029T010000
END:STANDARD
BEGIN:DAYLIGHT
TZOFFSETFROM:+0100
TZOFFSETTO:+0200
TZNAME:CEST
DTSTART:20240331T010000
END:DAYLIGHT
BEGIN:STANDARD
TZOFFSETFROM:+0200
TZOFFSETTO:+0100
TZNAME:CET
DTSTART:20241027T010000
END:STANDARD
BEGIN:DAYLIGHT
TZOFFSETFROM:+0100
TZOFFSETTO:+0200
TZNAME:CEST
DTSTART:20250330T010000
END:DAYLIGHT
BEGIN:STANDARD
TZOFFSETFROM:+0200
TZOFFSETTO:+0100
TZNAME:CET
DTSTART:20251026T010000
END:STANDARD
END:VTIMEZONE
BEGIN:VEVENT
DTSTART;TZID=Europe/Berlin:20241030T100000
DTEND;TZID=Europe/Berlin:20241030T120000
DTSTAMP:20260423T142900
CREATED:20241029T125218Z
LAST-MODIFIED:20241029T125218Z
UID:10000359-1730282400-1730289600@evbtraining.de
SUMMARY:WEBINAR-Pädagogischen Hilfskraft im Bereich Soziale Arbeit auf Persisch – 30.10.2024 um 10:00 Uhr
DESCRIPTION:دوره آموزشی دستیار مدد کار اجتماعی \n[فرصت شغلی با این دوره آموزشی بدون پرداخت هیچ هزینه ای]\nدوره آموزشی دستیار مدد کار اجتماعی به شما این امکان را می‌دهد که در این زمینه مهارت و تجربه کسب کنید و بتوانید در این زمینه وارد بازار کار شوید.\nامتیازات شما در این دوره آموزشی:\n+ پنج مدرک و گواهی معتبر\n+ لپتاپ (به صورت امانتی)\n+ تجربه کاری از طریق کارآموزی\n+ هزینه این دوره برای شما €\,-0 میباشد\n+ حمایت برای پیدا کردن کار\n\nاین وبینار در تاریخ 2024.10.30 ساعت 10:00 شروع می شود و رایگان است.\n\n  \nDu hast zuvor bereits mit Menschen gearbeitet und vermisst den Arbeitsalltag mit Kindern\, Jugendlichen\, Erwachsenen oder Senioren? Dein Bildungsabschluss benötigt Erweiterung\, Fortbildung oder Praxiserfahrung\, um in den Arbeitsfeldern der Sozialen Arbeit arbeiten zu können? \nDie Weiterbildung kann dich in diesen Fällen für den Quereinstieg als pädagogische Hilfskraft in den Arbeitsfeldern der Sozialen Arbeit qualifizieren. \nDann mach mit bei unserem Weiterbildungsprogramm “Weiterbildung zur pädagogischen Hilfskraft“. \nNach erfolgreichem Abschluss unserer Weiterbildung stehen dir vielfältige Einsatzmöglichkeiten offen\, darunter: \n\n\n Ambulante Familienhilfe\nAsylhilfe und Integration\nFrauenhilfe und -förderung\nAufklärungshilfen\nStreetwork\nObdachlosenhilfe\nKinder- und Jugendschutz\nWohngruppen\nJugendzentrum\nHortbetreuung an der Grundschule\nAltenhilfe und -pflege\nGesundheitshilfe\nSuchthilfe\nuvm\n\n\nZoom Link:  https://us06web.zoom.us/j/83544119107
URL:https://evbtraining.de/webinar/webinar-3010-fa/
CATEGORIES:Infoveranstaltung,Persisch,Weiterbildungen
ATTACH;FMTTYPE=image/png:https://evbtraining.de/wp-content/uploads/2024/03/Webinar_WPH_fa.png
ORGANIZER;CN="Beratung Farsi":MAILTO:beratung-fa@evbtraining.de
LOCATION:https://us06web.zoom.us/j/83544119107
END:VEVENT
BEGIN:VEVENT
DTSTART;TZID=Europe/Berlin:20241030T140000
DTEND;TZID=Europe/Berlin:20241030T160000
DTSTAMP:20260423T142900
CREATED:20241011T100613Z
LAST-MODIFIED:20241011T100613Z
UID:10000353-1730296800-1730304000@evbtraining.de
SUMMARY:WEBINAR-Weiterbildung zur Kitahelfer*in / Erziehungshelfer*in - 30.10.2024 um 14:00 Uhr
DESCRIPTION:Wenn deine Leidenschaft die Arbeit mit Kindern ist\, dann bist du bei uns genau richtig. Wir bieten dir die Qualifikation und das Wissen\, um eine unterstützende Rolle in Kindertagesstätten und ähnlichen Einrichtungen erfolgreich auszufüllen. Beginne deine Reise in die aufregende Welt der Kinderbetreuung und gestalte die Zukunft unserer jüngsten Generation! \nDann mach mit bei unserem Weiterbildungsprogramm “Kitahelfer*in / Erziehungshelfer*in“. \nNach erfolgreichem Abschluss unserer Weiterbildung stehen dir vielfältige Berufsbezeichnungen offen\, darunter: \n\n\nPädagogische Hilfskraft\nErziehungshelfer*in\nKitahelfer*in\nSozialassistent*in\nSozialpädagogische Assistenz in der Krippe oder Kita\nHortbetreuer*in\nOGS-Betreuer*in\nKinderbetreuer*in\nKitabegleitung\nSchulbegleiter*in\nInklusionshelfer*in\nHauswirtschaftshelfer*in\nKitaassistenz\n\n\n  \nSobald du das untenstehende Formular ausgefüllt hast\, erhältst du den Zoom-Link per E-Mail zugesandt. \nZoom Link:    https://us06web.zoom.us/j/81752978121
URL:https://evbtraining.de/webinar/webinar-3010/
CATEGORIES:Deutsch,Infoveranstaltung,Weiterbildungen
ORGANIZER;CN="Beratung Deutsch":MAILTO:beratung-de@evbtraining.de
LOCATION:https://us06web.zoom.us/j/81752978121
END:VEVENT
BEGIN:VEVENT
DTSTART;TZID=Europe/Berlin:20241030T140000
DTEND;TZID=Europe/Berlin:20241030T160000
DTSTAMP:20260423T142900
CREATED:20241029T124302Z
LAST-MODIFIED:20241029T124302Z
UID:10000357-1730296800-1730304000@evbtraining.de
SUMMARY:WEBINAR-Pädagogischen Hilfskraft im Bereich Soziale Arbeit auf Arabisch – 30.10.2024 um 14:00 Uhr
DESCRIPTION:برنامج التعليمي كمساعدة مرشدة اجتماعية الكورس مجاني في حال الحصول على تمويل من الجوب سنتر أو مؤسسة العمل برنامجنا التعليمي يقدم لك الفرصة المميزة لتطوير مهارتك النظرية بمجال العمل الاجتماعي و أيضا الخبرات العملية في هذا المجال. انضم إلينا وأبدأ مهنتك في مجال العمل الاجتماعي المتنوع اكتشف مجالات العمل الاجتماعي المتنوعة لمعلومات أكثر يمكنكم زيارة موقعنا الإلكتروني. إيجابيات الكورس: +لابتوب متاح للإعارة +تدريب +٥ شهادات +مساعدة في البحث عن عمل ندوة تعريفية مجانية : 30.10.2024 عند الساعة الثانية ظهرا للتسجيل هنا: https://evbtraining.de/webinar/webinar-3010-ar/\n\n\n.\n.\n.\n.\n\nDu hast zuvor bereits mit Menschen gearbeitet und vermisst den Arbeitsalltag mit Kindern\, Jugendlichen\, Erwachsenen oder Senioren? Dein Bildungsabschluss benötigt Erweiterung\, Fortbildung oder Praxiserfahrung\, um in den Arbeitsfeldern der Sozialen Arbeit arbeiten zu können? \nDie Weiterbildung kann dich in diesen Fällen für den Quereinstieg als pädagogische Hilfskraft in den Arbeitsfeldern der Sozialen Arbeit qualifizieren. \nDann mach mit bei unserem Weiterbildungsprogramm “Weiterbildung zur pädagogischen Hilfskraft“. \nNach erfolgreichem Abschluss unserer Weiterbildung stehen dir vielfältige Einsatzmöglichkeiten offen\, darunter: \n\n\n Ambulante Familienhilfe\nAsylhilfe und Integration\nFrauenhilfe und -förderung\nAufklärungshilfen\nStreetwork\nObdachlosenhilfe\nKinder- und Jugendschutz\nWohngruppen\nJugendzentrum\nHortbetreuung an der Grundschule\nAltenhilfe und -pflege\nGesundheitshilfe\nSuchthilfe\nuvm\n\n  \nSobald du das untenstehende Formular ausgefüllt hast\, erhältst du den Zoom-Link per E-Mail zugesandt. \n\nZoom Link:   https://us06web.zoom.us/j/82308522137
URL:https://evbtraining.de/webinar/webinar-3010-ar/
CATEGORIES:Arabisch,Infoveranstaltung,Weiterbildungen
ATTACH;FMTTYPE=image/png:https://evbtraining.de/wp-content/uploads/2024/03/Webinar_WPH_ar.png
ORGANIZER;CN="Beratung Arabisch":MAILTO:beratung-ar@evbtraining.de
LOCATION:https://us06web.zoom.us/j/82308522137
END:VEVENT
BEGIN:VEVENT
DTSTART;TZID=Europe/Berlin:20241030T190000
DTEND;TZID=Europe/Berlin:20241030T210000
DTSTAMP:20260423T142900
CREATED:20241029T125656Z
LAST-MODIFIED:20241029T125656Z
UID:10000360-1730314800-1730322000@evbtraining.de
SUMMARY:WEBINAR-Pädagogischen Hilfskraft im Bereich Soziale Arbeit auf Ukrainisch/Russisch – 30.10.2024 um 19:00 Uhr
DESCRIPTION:Du hast zuvor bereits mit Menschen gearbeitet und vermisst den Arbeitsalltag mit Kindern\, Jugendlichen\, Erwachsenen oder Senioren? Dein Bildungsabschluss benötigt Erweiterung\, Fortbildung oder Praxiserfahrung\, um in den Arbeitsfeldern der Sozialen Arbeit arbeiten zu können? \nDie Weiterbildung kann dich in diesen Fällen für den Quereinstieg als pädagogische Hilfskraft in den Arbeitsfeldern der Sozialen Arbeit qualifizieren. \nDann mach mit bei unserem Weiterbildungsprogramm “Weiteerbildung zur pädagogischen Hilfskraft“. \nNach erfolgreichem Abschluss unserer Weiterbildung stehen dir vielfältige Einsatzmöglichkeiten offen\, darunter: \n\n\n Ambulante Familienhilfe\nAsylhilfe und Integration\nFrauenhilfe und -förderung\nAufklärungshilfen\nStreetwork\nObdachlosenhilfe\nKinder- und Jugendschutz\nWohngruppen\nJugendzentrum\nHortbetreuung an der Grundschule\nAltenhilfe und -pflege\nGesundheitshilfe\nSuchthilfe\nuvm\n\n\n  \nSobald du das untenstehende Formular ausgefüllt hast\, erhältst du den Zoom-Link per E-Mail zugesandt. \n  \nZoom Link:       https://us06web.zoom.us/j/86499272395 \n 
URL:https://evbtraining.de/webinar/webinar-3010-ru/
CATEGORIES:Infoveranstaltung,Russisch,Ukrainisch,Weiterbildungen
ATTACH;FMTTYPE=image/png:https://evbtraining.de/wp-content/uploads/2024/03/Webinar_WPH_ukr-1-e1711107973531.png
ORGANIZER;CN="Beratung Russisch":MAILTO:Beratung-ukr@evbtraining.de
END:VEVENT
END:VCALENDAR