BEGIN:VCALENDAR
VERSION:2.0
PRODID:-//EVB Training - Weiterbildungen - Umschulungen - Coaching - Sprachen - ECPv6.15.17//NONSGML v1.0//EN
CALSCALE:GREGORIAN
METHOD:PUBLISH
X-ORIGINAL-URL:https://evbtraining.de
X-WR-CALDESC:Veranstaltungen für EVB Training - Weiterbildungen - Umschulungen - Coaching - Sprachen
REFRESH-INTERVAL;VALUE=DURATION:PT1H
X-Robots-Tag:noindex
X-PUBLISHED-TTL:PT1H
BEGIN:VTIMEZONE
TZID:Europe/Berlin
BEGIN:DAYLIGHT
TZOFFSETFROM:+0100
TZOFFSETTO:+0200
TZNAME:CEST
DTSTART:20230326T010000
END:DAYLIGHT
BEGIN:STANDARD
TZOFFSETFROM:+0200
TZOFFSETTO:+0100
TZNAME:CET
DTSTART:20231029T010000
END:STANDARD
BEGIN:DAYLIGHT
TZOFFSETFROM:+0100
TZOFFSETTO:+0200
TZNAME:CEST
DTSTART:20240331T010000
END:DAYLIGHT
BEGIN:STANDARD
TZOFFSETFROM:+0200
TZOFFSETTO:+0100
TZNAME:CET
DTSTART:20241027T010000
END:STANDARD
BEGIN:DAYLIGHT
TZOFFSETFROM:+0100
TZOFFSETTO:+0200
TZNAME:CEST
DTSTART:20250330T010000
END:DAYLIGHT
BEGIN:STANDARD
TZOFFSETFROM:+0200
TZOFFSETTO:+0100
TZNAME:CET
DTSTART:20251026T010000
END:STANDARD
END:VTIMEZONE
BEGIN:VEVENT
DTSTART;TZID=Europe/Berlin:20241029T140000
DTEND;TZID=Europe/Berlin:20241029T160000
DTSTAMP:20260421T113719
CREATED:20241011T103714Z
LAST-MODIFIED:20241011T103714Z
UID:10000355-1730210400-1730217600@evbtraining.de
SUMMARY:WEBINAR-Qualifizierungsprogramm für internationale Lehrkräfte - 29.10.2024 um 14:00 Uhr
DESCRIPTION:Qualifizierungsprogramm für internationale Lehrkräfte\nWenn deine Leidenschaft die Arbeit mit Kindern ist\, dann bist du bei uns genau richtig. \n  \nBerufliches Profil optimieren\nbis zu 100 % Förderung\n20 Schulungsstandorte in Deutschland\nTeilnahme auch von zu Hause aus möglich \n  \nSobald du das untenstehende Formular ausgefüllt hast\, erhältst du den Zoom-Link per E-Mail zugesandt. \n  \nZoom Link:      https://us06web.zoom.us/j/81752978121
URL:https://evbtraining.de/webinar/webinar-2910/
CATEGORIES:Deutsch,Infoveranstaltung,Weiterbildungen
ATTACH;FMTTYPE=image/png:https://evbtraining.de/wp-content/uploads/2024/04/Webinar_Qintl_de-1-e1728642900860.png
ORGANIZER;CN="Beratung Deutsch":MAILTO:beratung-de@evbtraining.de
LOCATION:https://us06web.zoom.us/j/82708344523
END:VEVENT
BEGIN:VEVENT
DTSTART;TZID=Europe/Berlin:20241029T140000
DTEND;TZID=Europe/Berlin:20241029T160000
DTSTAMP:20260421T113719
CREATED:20241011T103942Z
LAST-MODIFIED:20241011T103942Z
UID:10000356-1730210400-1730217600@evbtraining.de
SUMMARY:WEBINAR-Pädagogische ergänzungskraftalltagshelfer’in in der OGS – 29.10.2024 um 14:00 Uhr
DESCRIPTION:Die Weiterbildung zur pädagogischen Ergänzungskraft/Alltagshelfer*in OGS qualifiziert dich für eine Tätigkeit im Nachmittagsbereich an der Schule und in der außerschulischen Betreuung von Kindern und Jugendlichen. \nWenn du gerne mit Kindern und Jugendlichen arbeiten möchtest und das Ziel hast\, an einer Schule zu arbeiten\, ist diese Weiterbildung für dich die richtige. \nDann mach mit bei unserem Weiterbildungsprogramm “Weiterbildung zur pädagogischen Ergänzungskraft/Alltagshelfer*in OGS“. \nNach erfolgreichem Abschluss unserer Weiterbildung stehen dir vielfältige Einsatzmöglichkeiten offen\, darunter: \n\nPädagogische Ergänzungskraft\nHortbetreuer*in\nOGS-Betreuer*in\nIntegrationskraft\nSchulbegleiter*in\n\nSobald du das untenstehende Formular ausgefüllt hast\, erhältst du den Zoom-Link per E-Mail zugesandt. \n  \nZoom Link:   https://us06web.zoom.us/j/81752978121
URL:https://evbtraining.de/webinar/webinar-2910-2/
CATEGORIES:Deutsch,Infoveranstaltung,Weiterbildungen
ATTACH;FMTTYPE=image/jpeg:https://evbtraining.de/wp-content/uploads/2024/03/Facebook-Post-Vorlage-OGS-de-e1728643159227.jpg
ORGANIZER;CN="Beratung Deutsch":MAILTO:beratung-de@evbtraining.de
LOCATION:https://evbtraining.de/webinar/webinar-2910-2/
END:VEVENT
END:VCALENDAR