BEGIN:VCALENDAR
VERSION:2.0
PRODID:-//EVB Training - Weiterbildungen - Umschulungen - Coaching - Sprachen - ECPv6.15.17//NONSGML v1.0//EN
CALSCALE:GREGORIAN
METHOD:PUBLISH
X-ORIGINAL-URL:https://evbtraining.de
X-WR-CALDESC:Veranstaltungen für EVB Training - Weiterbildungen - Umschulungen - Coaching - Sprachen
REFRESH-INTERVAL;VALUE=DURATION:PT1H
X-Robots-Tag:noindex
X-PUBLISHED-TTL:PT1H
BEGIN:VTIMEZONE
TZID:Europe/Berlin
BEGIN:DAYLIGHT
TZOFFSETFROM:+0100
TZOFFSETTO:+0200
TZNAME:CEST
DTSTART:20230326T010000
END:DAYLIGHT
BEGIN:STANDARD
TZOFFSETFROM:+0200
TZOFFSETTO:+0100
TZNAME:CET
DTSTART:20231029T010000
END:STANDARD
BEGIN:DAYLIGHT
TZOFFSETFROM:+0100
TZOFFSETTO:+0200
TZNAME:CEST
DTSTART:20240331T010000
END:DAYLIGHT
BEGIN:STANDARD
TZOFFSETFROM:+0200
TZOFFSETTO:+0100
TZNAME:CET
DTSTART:20241027T010000
END:STANDARD
BEGIN:DAYLIGHT
TZOFFSETFROM:+0100
TZOFFSETTO:+0200
TZNAME:CEST
DTSTART:20250330T010000
END:DAYLIGHT
BEGIN:STANDARD
TZOFFSETFROM:+0200
TZOFFSETTO:+0100
TZNAME:CET
DTSTART:20251026T010000
END:STANDARD
END:VTIMEZONE
BEGIN:VEVENT
DTSTART;TZID=Europe/Berlin:20240906T100000
DTEND;TZID=Europe/Berlin:20240906T110000
DTSTAMP:20260420T092435
CREATED:20240717T120908Z
LAST-MODIFIED:20240904T085610Z
UID:10000303-1725616800-1725620400@evbtraining.de
SUMMARY:WEBINAR-Schulbegleiter*in / Integrationsassistent*in – auf Persisch – 06.09.2024 um 10:00 Uhr
DESCRIPTION:Schulbegleiter*innen leisten einen wichtigen Betrag zur schulischen Teilhabe junger Menschen! \nBerufliches Profil optimieren\nbis zu 100 % Förderung\n20 Schulungsstandorte in Deutschland\nTeilnahme auch von zu Hause aus möglich \nSobald du das untenstehende Formular ausgefüllt hast\, erhältst du den Zoom-Link per E-Mail zugesandt. \n  \nZoom Link:   https://us06web.zoom.us/j/83544119107
URL:https://evbtraining.de/webinar/webinar-3107-fa/
CATEGORIES:Infoveranstaltung,Persisch,Schulbegleiter,Weiterbildungen
ATTACH;FMTTYPE=image/png:https://evbtraining.de/wp-content/uploads/2024/03/Webinar_SB_fa-e1711108822199.png
ORGANIZER;CN="Beratung Farsi":MAILTO:beratung-fa@evbtraining.de
LOCATION:https://evbtraining.de/webinar/webinar-3107-fa/
END:VEVENT
END:VCALENDAR