BEGIN:VCALENDAR
VERSION:2.0
PRODID:-//EVB Training - Weiterbildungen - Umschulungen - Coaching - Sprachen - ECPv6.15.17//NONSGML v1.0//EN
CALSCALE:GREGORIAN
METHOD:PUBLISH
X-WR-CALNAME:EVB Training - Weiterbildungen - Umschulungen - Coaching - Sprachen
X-ORIGINAL-URL:https://evbtraining.de
X-WR-CALDESC:Veranstaltungen für EVB Training - Weiterbildungen - Umschulungen - Coaching - Sprachen
REFRESH-INTERVAL;VALUE=DURATION:PT1H
X-Robots-Tag:noindex
X-PUBLISHED-TTL:PT1H
BEGIN:VTIMEZONE
TZID:Europe/Berlin
BEGIN:DAYLIGHT
TZOFFSETFROM:+0100
TZOFFSETTO:+0200
TZNAME:CEST
DTSTART:20230326T010000
END:DAYLIGHT
BEGIN:STANDARD
TZOFFSETFROM:+0200
TZOFFSETTO:+0100
TZNAME:CET
DTSTART:20231029T010000
END:STANDARD
BEGIN:DAYLIGHT
TZOFFSETFROM:+0100
TZOFFSETTO:+0200
TZNAME:CEST
DTSTART:20240331T010000
END:DAYLIGHT
BEGIN:STANDARD
TZOFFSETFROM:+0200
TZOFFSETTO:+0100
TZNAME:CET
DTSTART:20241027T010000
END:STANDARD
BEGIN:DAYLIGHT
TZOFFSETFROM:+0100
TZOFFSETTO:+0200
TZNAME:CEST
DTSTART:20250330T010000
END:DAYLIGHT
BEGIN:STANDARD
TZOFFSETFROM:+0200
TZOFFSETTO:+0100
TZNAME:CET
DTSTART:20251026T010000
END:STANDARD
END:VTIMEZONE
BEGIN:VEVENT
DTSTART;TZID=Europe/Berlin:20240815T140000
DTEND;TZID=Europe/Berlin:20240815T160000
DTSTAMP:20260420T092132
CREATED:20240717T135542Z
LAST-MODIFIED:20240717T135542Z
UID:10000316-1723730400-1723737600@evbtraining.de
SUMMARY:WEBINAR-Pädagogischen Hilfskraft im Bereich Soziale Arbeit  – 15.08.2024 um 14:00 Uhr
DESCRIPTION:Du hast zuvor bereits mit Menschen gearbeitet und vermisst den Arbeitsalltag mit Kindern\, Jugendlichen\, Erwachsenen oder Senioren? Dein Bildungsabschluss benötigt Erweiterung\, Fortbildung oder Praxiserfahrung\, um in den Arbeitsfeldern der Sozialen Arbeit arbeiten zu können? \nDie Weiterbildung kann dich in diesen Fällen für den Quereinstieg als pädagogische Hilfskraft in den Arbeitsfeldern der Sozialen Arbeit qualifizieren. \nDann mach mit bei unserem Weiterbildungsprogramm “Weiterbildung zur pädagogischen Hilfskraft“. \nNach erfolgreichem Abschluss unserer Weiterbildung stehen dir vielfältige Einsatzmöglichkeiten offen\, darunter: \n\n\n Ambulante Familienhilfe\nAsylhilfe und Integration\nFrauenhilfe und -förderung\nAufklärungshilfen\nStreetwork\nObdachlosenhilfe\nKinder- und Jugendschutz\nWohngruppen\nJugendzentrum\nHortbetreuung an der Grundschule\nAltenhilfe und -pflege\nGesundheitshilfe\nSuchthilfe\nuvm\n\n\nSobald du das untenstehende Formular ausgefüllt hast\, erhältst du den Zoom-Link per E-Mail zugesandt. \n  \nZoom Link:     https://us06web.zoom.us/j/81752978121
URL:https://evbtraining.de/webinar/webinar-1508/
CATEGORIES:Deutsch,Infoveranstaltung,Weiterbildungen
ATTACH;FMTTYPE=image/png:https://evbtraining.de/wp-content/uploads/2024/03/Webinar_WPH_de-e1744113503779.png
ORGANIZER;CN="Beratung Deutsch":MAILTO:beratung-de@evbtraining.de
LOCATION:https://us06web.zoom.us/j/84926994208
END:VEVENT
BEGIN:VEVENT
DTSTART;TZID=Europe/Berlin:20240815T140000
DTEND;TZID=Europe/Berlin:20240815T160000
DTSTAMP:20260420T092132
CREATED:20240717T135723Z
LAST-MODIFIED:20240717T135723Z
UID:10000317-1723730400-1723737600@evbtraining.de
SUMMARY:WEBINAR-Pädagogischen Hilfskraft im Bereich Soziale Arbeit auf Türkisch – 15.08.2024 um 14:00 Uhr
DESCRIPTION:Sosyal Hizmetler Alanında Pedagojik Yardımcı Olarak İleri Eğitim\n\n\n\n{Ücretsiz Kayıt}\n\n Sosyal Hizmetler alanında yeni kariyer fırsatlarını keşfedin! \n\n\n\nİleri Eğitim programımız “Pedagojik Yardımcı Olarak İleri Eğitim”\, bilgilerinizi genişletme ve pratik deneyim kazanma fırsatı sunar. Şimdi başvurun ve çeşitli bir iş sahasında kariyerinize başlayın!  Daha fazla bilgi için web sitemizi ziyaret edin. \n\n\n\nKatılım Avantajları:\n+Laptop (Ödünç alınabilir)\n+Staj imkanı\n+5 Belge ve Sertifika dahil\n+İş arama desteği\n\n\n\nWebinar Tarihi: 15.08.2024 – 14.00\n\n  \nDu hast zuvor bereits mit Menschen gearbeitet und vermisst den Arbeitsalltag mit Kindern\, Jugendlichen\, Erwachsenen oder Senioren? Dein Bildungsabschluss benötigt Erweiterung\, Fortbildung oder Praxiserfahrung\, um in den Arbeitsfeldern der Sozialen Arbeit arbeiten zu können? \nDie Weiterbildung kann dich in diesen Fällen für den Quereinstieg als pädagogische Hilfskraft in den Arbeitsfeldern der Sozialen Arbeit qualifizieren. \nDann mach mit bei unserem Weiterbildungsprogramm “Weiterbildung zur pädagogischen Hilfskraft“. \nNach erfolgreichem Abschluss unserer Weiterbildung stehen dir vielfältige Einsatzmöglichkeiten offen\, darunter: \n\n\n Ambulante Familienhilfe\nAsylhilfe und Integration\nFrauenhilfe und -förderung\nAufklärungshilfen\nStreetwork\nObdachlosenhilfe\nKinder- und Jugendschutz\nWohngruppen\nJugendzentrum\nHortbetreuung an der Grundschule\nAltenhilfe und -pflege\nGesundheitshilfe\nSuchthilfe\nuvm\n\n\n  \nSobald du das untenstehende Formular ausgefüllt hast\, erhältst du den Zoom-Link per E-Mail zugesandt. \n  \nZoom Link:   https://us06web.zoom.us/j/83295052796
URL:https://evbtraining.de/webinar/webinar-1508-tr/
CATEGORIES:Infoveranstaltung,Türkçe,Weiterbildungen
ATTACH;FMTTYPE=image/png:https://evbtraining.de/wp-content/uploads/2024/03/Webinar_WPH_tr.png
ORGANIZER;CN="Beratung T%C3%BCrkce":MAILTO:beratung-tr@evbtraining.de
LOCATION:https://us06web.zoom.us/j/88046619473
END:VEVENT
BEGIN:VEVENT
DTSTART;TZID=Europe/Berlin:20240815T140000
DTEND;TZID=Europe/Berlin:20240815T160000
DTSTAMP:20260420T092132
CREATED:20240717T135908Z
LAST-MODIFIED:20240717T135908Z
UID:10000318-1723730400-1723737600@evbtraining.de
SUMMARY:WEBINAR-Pädagogischen Hilfskraft im Bereich Soziale Arbeit auf Arabisch – 15.08.2024 um 14:00 Uhr
DESCRIPTION:برنامج التعليمي كمساعدة مرشدة اجتماعية الكورس مجاني في حال الحصول على تمويل من الجوب سنتر أو مؤسسة العمل برنامجنا التعليمي يقدم لك الفرصة المميزة لتطوير مهارتك النظرية بمجال العمل الاجتماعي و أيضا الخبرات العملية في هذا المجال. انضم إلينا وأبدأ مهنتك في مجال العمل الاجتماعي المتنوع اكتشف مجالات العمل الاجتماعي المتنوعة لمعلومات أكثر يمكنكم زيارة موقعنا الإلكتروني. إيجابيات الكورس: +لابتوب متاح للإعارة +تدريب +٥ شهادات +مساعدة في البحث عن عمل ندوة تعريفية مجانية : 15.08.2024 عند الساعة الثانية ظهرا للتسجيل هنا: https://evbtraining.de/webinar/webinar-1508-ar/\n\n\n.\n.\n.\n.\n\nDu hast zuvor bereits mit Menschen gearbeitet und vermisst den Arbeitsalltag mit Kindern\, Jugendlichen\, Erwachsenen oder Senioren? Dein Bildungsabschluss benötigt Erweiterung\, Fortbildung oder Praxiserfahrung\, um in den Arbeitsfeldern der Sozialen Arbeit arbeiten zu können? \nDie Weiterbildung kann dich in diesen Fällen für den Quereinstieg als pädagogische Hilfskraft in den Arbeitsfeldern der Sozialen Arbeit qualifizieren. \nDann mach mit bei unserem Weiterbildungsprogramm “Weiterbildung zur pädagogischen Hilfskraft“. \nNach erfolgreichem Abschluss unserer Weiterbildung stehen dir vielfältige Einsatzmöglichkeiten offen\, darunter: \n\n\n Ambulante Familienhilfe\nAsylhilfe und Integration\nFrauenhilfe und -förderung\nAufklärungshilfen\nStreetwork\nObdachlosenhilfe\nKinder- und Jugendschutz\nWohngruppen\nJugendzentrum\nHortbetreuung an der Grundschule\nAltenhilfe und -pflege\nGesundheitshilfe\nSuchthilfe\nuvm\n\n  \nSobald du das untenstehende Formular ausgefüllt hast\, erhältst du den Zoom-Link per E-Mail zugesandt. \n\nZoom Link:   https://us06web.zoom.us/j/82308522137
URL:https://evbtraining.de/webinar/webinar-1508-ar/
CATEGORIES:Arabisch,Infoveranstaltung,Weiterbildungen
ATTACH;FMTTYPE=image/png:https://evbtraining.de/wp-content/uploads/2024/03/Webinar_WPH_ar.png
ORGANIZER;CN="Beratung Arabisch":MAILTO:beratung-ar@evbtraining.de
LOCATION:https://us06web.zoom.us/j/82308522137
END:VEVENT
BEGIN:VEVENT
DTSTART;TZID=Europe/Berlin:20240815T190000
DTEND;TZID=Europe/Berlin:20240815T210000
DTSTAMP:20260420T092132
CREATED:20240717T140021Z
LAST-MODIFIED:20240717T140021Z
UID:10000319-1723748400-1723755600@evbtraining.de
SUMMARY:WEBINAR-Pädagogischen Hilfskraft im Bereich Soziale Arbeit auf Ukrainisch/Russisch – 15.08.2024 um 19:00 Uhr
DESCRIPTION:Du hast zuvor bereits mit Menschen gearbeitet und vermisst den Arbeitsalltag mit Kindern\, Jugendlichen\, Erwachsenen oder Senioren? Dein Bildungsabschluss benötigt Erweiterung\, Fortbildung oder Praxiserfahrung\, um in den Arbeitsfeldern der Sozialen Arbeit arbeiten zu können? \nDie Weiterbildung kann dich in diesen Fällen für den Quereinstieg als pädagogische Hilfskraft in den Arbeitsfeldern der Sozialen Arbeit qualifizieren. \nDann mach mit bei unserem Weiterbildungsprogramm “Weiterbildung zur pädagogischen Hilfskraft“. \nNach erfolgreichem Abschluss unserer Weiterbildung stehen dir vielfältige Einsatzmöglichkeiten offen\, darunter: \n\n\n Ambulante Familienhilfe\nAsylhilfe und Integration\nFrauenhilfe und -förderung\nAufklärungshilfen\nStreetwork\nObdachlosenhilfe\nKinder- und Jugendschutz\nWohngruppen\nJugendzentrum\nHortbetreuung an der Grundschule\nAltenhilfe und -pflege\nGesundheitshilfe\nSuchthilfe\nuvm\n\n\n  \nSobald du das untenstehende Formular ausgefüllt hast\, erhältst du den Zoom-Link per E-Mail zugesandt. \n  \nZoom Link:       https://us06web.zoom.us/j/86499272395 \n 
URL:https://evbtraining.de/webinar/webinar-1508-ru/
CATEGORIES:Infoveranstaltung,Russisch,Ukrainisch,Weiterbildungen
ATTACH;FMTTYPE=image/png:https://evbtraining.de/wp-content/uploads/2024/03/Webinar_WPH_ukr-1-e1711107973531.png
ORGANIZER;CN="Beratung Russisch":MAILTO:Beratung-ukr@evbtraining.de
LOCATION:https://us06web.zoom.us/j/86172935186
END:VEVENT
END:VCALENDAR