BEGIN:VCALENDAR
VERSION:2.0
PRODID:-//EVB Training - Weiterbildungen - Umschulungen - Coaching - Sprachen - ECPv6.15.17//NONSGML v1.0//EN
CALSCALE:GREGORIAN
METHOD:PUBLISH
X-WR-CALNAME:EVB Training - Weiterbildungen - Umschulungen - Coaching - Sprachen
X-ORIGINAL-URL:https://evbtraining.de
X-WR-CALDESC:Veranstaltungen für EVB Training - Weiterbildungen - Umschulungen - Coaching - Sprachen
REFRESH-INTERVAL;VALUE=DURATION:PT1H
X-Robots-Tag:noindex
X-PUBLISHED-TTL:PT1H
BEGIN:VTIMEZONE
TZID:Europe/Berlin
BEGIN:DAYLIGHT
TZOFFSETFROM:+0100
TZOFFSETTO:+0200
TZNAME:CEST
DTSTART:20230326T010000
END:DAYLIGHT
BEGIN:STANDARD
TZOFFSETFROM:+0200
TZOFFSETTO:+0100
TZNAME:CET
DTSTART:20231029T010000
END:STANDARD
BEGIN:DAYLIGHT
TZOFFSETFROM:+0100
TZOFFSETTO:+0200
TZNAME:CEST
DTSTART:20240331T010000
END:DAYLIGHT
BEGIN:STANDARD
TZOFFSETFROM:+0200
TZOFFSETTO:+0100
TZNAME:CET
DTSTART:20241027T010000
END:STANDARD
BEGIN:DAYLIGHT
TZOFFSETFROM:+0100
TZOFFSETTO:+0200
TZNAME:CEST
DTSTART:20250330T010000
END:DAYLIGHT
BEGIN:STANDARD
TZOFFSETFROM:+0200
TZOFFSETTO:+0100
TZNAME:CET
DTSTART:20251026T010000
END:STANDARD
END:VTIMEZONE
BEGIN:VEVENT
DTSTART;TZID=Europe/Berlin:20240514T140000
DTEND;TZID=Europe/Berlin:20240514T160000
DTSTAMP:20260419T202709
CREATED:20240405T161742Z
LAST-MODIFIED:20240508T093704Z
UID:10000190-1715695200-1715702400@evbtraining.de
SUMMARY:WEBINAR- Umschulungen IT – auf Persisch – 14.05.2024 um 14:00 Uhr
DESCRIPTION:Traumjob durch berufliche Umschulung\n\n Sei bereit für eine neue Karriere als Fachinformatiker/in! \n\n\n\n Willst du in die Welt der IT eintauchen? Dann ist unsere Umschulung zum/zur Fachinformatiker/in bei der IHK genau das Richtige für dich! Mit Spezialisierungen in Systemintegration und Anwendungsentwicklung bieten wir dir das perfekte Sprungbrett für deine IT-Karriere.\n\n\n\nUnsere Vorteile für dich:\n Individuelles Mentoring\, um dein volles Potenzial zu entfalten\n Unterstützung bei der Praktikums- und Jobsuche für einen reibungslosen Start in die Arbeitswelt\n Vorbereitung auf die IHK Probeprüfung\, damit du bestens vorbereitet bist\n Und viele weitere Vorteile\, die auf dich warten!\n 150 Euro Weiterbildungsgeld pro Monat erhalten!\n\n\n\n 100% Förderung durch das Jobcenter oder die Agentur für Arbeit – starte deine Umschulung ohne finanzielle Sorgen!\n\n\n\n Nimm teil an unserem kostenfreien Webinar\, um mehr über unsere Umschulung zu erfahren und deine Fragen zu stellen.\n\nSobald du das untenstehende Formular ausgefüllt hast\, erhältst du den Zoom-Link per E-Mail zugesandt. \n  \n\n	Hinweis: Für diesen Inhalt ist JavaScript erforderlich.
URL:https://evbtraining.de/webinar/webinar-1405-fa/
CATEGORIES:Infoveranstaltung,Persisch,Umschulungen
ORGANIZER;CN="Beratung Farsi":MAILTO:beratung-fa@evbtraining.de
LOCATION:https://us06web.zoom.us/j/86520332591
END:VEVENT
BEGIN:VEVENT
DTSTART;TZID=Europe/Berlin:20240514T140000
DTEND;TZID=Europe/Berlin:20240514T160000
DTSTAMP:20260419T202709
CREATED:20240408T115747Z
LAST-MODIFIED:20240508T142413Z
UID:10000191-1715695200-1715702400@evbtraining.de
SUMMARY:WEBINAR- Umschulungen IT – auf Arabisch – 14.05.2024 um 14:00 Uhr
DESCRIPTION:Traumjob durch berufliche Umschulung\n\n Sei bereit für eine neue Karriere als Fachinformatiker/in! \n\n\n\n Willst du in die Welt der IT eintauchen? Dann ist unsere Umschulung zum/zur Fachinformatiker/in bei der IHK genau das Richtige für dich! Mit Spezialisierungen in Systemintegration und Anwendungsentwicklung bieten wir dir das perfekte Sprungbrett für deine IT-Karriere.\n\n\n\nUnsere Vorteile für dich:\n Individuelles Mentoring\, um dein volles Potenzial zu entfalten\n Unterstützung bei der Praktikums- und Jobsuche für einen reibungslosen Start in die Arbeitswelt\n Vorbereitung auf die IHK Probeprüfung\, damit du bestens vorbereitet bist\n Und viele weitere Vorteile\, die auf dich warten!\n 150 Euro Weiterbildungsgeld pro Monat erhalten!\n\n\n\n 100% Förderung durch das Jobcenter oder die Agentur für Arbeit – starte deine Umschulung ohne finanzielle Sorgen!\n\n\n\n Nimm teil an unserem kostenfreien Webinar\, um mehr über unsere Umschulung zu erfahren und deine Fragen zu stellen.\n\n\nSobald du das untenstehende Formular ausgefüllt hast\, erhältst du den Zoom-Link per E-Mail zugesandt. \n  \n\n	Hinweis: Für diesen Inhalt ist JavaScript erforderlich.
URL:https://evbtraining.de/webinar/webinar-1405-ar/
CATEGORIES:Arabisch,Infoveranstaltung,Umschulungen
ATTACH;FMTTYPE=image/png:https://evbtraining.de/wp-content/uploads/2024/04/Webinar_USFI_ar-2.png
ORGANIZER;CN="Beratung Arabisch":MAILTO:beratung-ar@evbtraining.de
LOCATION:https://evbtraining.de/webinar/webinar-1405-ar/
END:VEVENT
BEGIN:VEVENT
DTSTART;TZID=Europe/Berlin:20240514T140000
DTEND;TZID=Europe/Berlin:20240514T160000
DTSTAMP:20260419T202709
CREATED:20240408T120014Z
LAST-MODIFIED:20240508T085611Z
UID:10000192-1715695200-1715702400@evbtraining.de
SUMMARY:WEBINAR- Umschulungen IT – auf Türkisch – 14.05.2024 um 14:00 Uhr
DESCRIPTION:Traumjob durch berufliche Umschulung\n\n Sei bereit für eine neue Karriere als Fachinformatiker/in! \n\n\n Willst du in die Welt der IT eintauchen? Dann ist unsere Umschulung zum/zur Fachinformatiker/in bei der IHK genau das Richtige für dich! Mit Spezialisierungen in Systemintegration und Anwendungsentwicklung bieten wir dir das perfekte Sprungbrett für deine IT-Karriere.\n\n\nUnsere Vorteile für dich:\n Individuelles Mentoring\, um dein volles Potenzial zu entfalten\n Unterstützung bei der Praktikums- und Jobsuche für einen reibungslosen Start in die Arbeitswelt\n Vorbereitung auf die IHK Probeprüfung\, damit du bestens vorbereitet bist\n Und viele weitere Vorteile\, die auf dich warten!\n 150 Euro Weiterbildungsgeld pro Monat erhalten!\n\n\n\n 100% Förderung durch das Jobcenter oder die Agentur für Arbeit – starte deine Umschulung ohne finanzielle Sorgen!\n\n\n\n Nimm teil an unserem kostenfreien Webinar\, um mehr über unsere Umschulung zu erfahren und deine Fragen zu stellen.\n\nSobald du das untenstehende Formular ausgefüllt hast\, erhältst du den Zoom-Link per E-Mail zugesandt. \n  \n\n	Hinweis: Für diesen Inhalt ist JavaScript erforderlich.
URL:https://evbtraining.de/webinar/webinar-1405-tr/
CATEGORIES:Infoveranstaltung,Türkçe,Umschulungen
ATTACH;FMTTYPE=image/png:https://evbtraining.de/wp-content/uploads/2024/04/Webinar_USFI_tr-1.png
ORGANIZER;CN="Beratung T%C3%BCrkce":MAILTO:beratung-tr@evbtraining.de
LOCATION:https://evbtraining.de/webinar/webinar-1405-tr/
END:VEVENT
BEGIN:VEVENT
DTSTART;TZID=Europe/Berlin:20240514T140000
DTEND;TZID=Europe/Berlin:20240514T160000
DTSTAMP:20260419T202709
CREATED:20240408T120207Z
LAST-MODIFIED:20240508T100825Z
UID:10000193-1715695200-1715702400@evbtraining.de
SUMMARY:WEBINAR- Umschulungen IT  – 14.05.2024 um 14:00 Uhr
DESCRIPTION:Traumjob durch berufliche Umschulung\n\n Sei bereit für eine neue Karriere als Fachinformatiker/in! \n\n\n\n Willst du in die Welt der IT eintauchen? Dann ist unsere Umschulung zum/zur Fachinformatiker/in bei der IHK genau das Richtige für dich! Mit Spezialisierungen in Systemintegration und Anwendungsentwicklung bieten wir dir das perfekte Sprungbrett für deine IT-Karriere.\n\n\n\nUnsere Vorteile für dich:\n Individuelles Mentoring\, um dein volles Potenzial zu entfalten\n Unterstützung bei der Praktikums- und Jobsuche für einen reibungslosen Start in die Arbeitswelt\n Vorbereitung auf die IHK Probeprüfung\, damit du bestens vorbereitet bist\n Und viele weitere Vorteile\, die auf dich warten!\n 150 Euro Weiterbildungsgeld pro Monat erhalten!\n\n\n\n 100% Förderung durch das Jobcenter oder die Agentur für Arbeit – starte deine Umschulung ohne finanzielle Sorgen!\n\n\n\n Nimm teil an unserem kostenfreien Webinar\, um mehr über unsere Umschulung zu erfahren und deine Fragen zu stellen.\n\nSobald du das untenstehende Formular ausgefüllt hast\, erhältst du den Zoom-Link per E-Mail zugesandt. \n  \n\n	Hinweis: Für diesen Inhalt ist JavaScript erforderlich.
URL:https://evbtraining.de/webinar/webinar-1405/
CATEGORIES:Deutsch,Infoveranstaltung,Umschulungen
ATTACH;FMTTYPE=image/png:https://evbtraining.de/wp-content/uploads/2024/04/Webinar_USFI_de-1-e1742221135613.png
ORGANIZER;CN="Beratung Deutsch":MAILTO:beratung-de@evbtraining.de
LOCATION:https://evbtraining.de/webinar/webinar-1405/
END:VEVENT
BEGIN:VEVENT
DTSTART;TZID=Europe/Berlin:20240514T190000
DTEND;TZID=Europe/Berlin:20240514T210000
DTSTAMP:20260419T202709
CREATED:20240509T154818Z
LAST-MODIFIED:20240509T163148Z
UID:10000214-1715713200-1715720400@evbtraining.de
SUMMARY:WEBINAR-Schulbegleiter*in / Integrationsassistent*in – auf Ukranisch - Russich – 14.05.2024 um 19:00 Uhr
DESCRIPTION:Schulbegleiter*innen leisten einen wichtigen Betrag zur schulischen Teilhabe junger Menschen! \nBerufliches Profil optimieren\nbis zu 100 % Förderung\n20 Schulungsstandorte in Deutschland\nTeilnahme auch von zu Hause aus möglich \n  \nSobald du das untenstehende Formular ausgefüllt hast\, erhältst du den Zoom-Link per E-Mail zugesandt. \n\n	Hinweis: Für diesen Inhalt ist JavaScript erforderlich.
URL:https://evbtraining.de/webinar/webinar-1405-ukr-2/
CATEGORIES:Infoveranstaltung,Schulbegleiter,Türkçe,Weiterbildungen
ATTACH;FMTTYPE=image/png:https://evbtraining.de/wp-content/uploads/2024/03/Webinar_SB_ukr-e1711108779574.png
LOCATION:https://evbtraining.de/webinar/webinar-1405-ukr-2/
END:VEVENT
END:VCALENDAR