BEGIN:VCALENDAR
VERSION:2.0
PRODID:-//EVB Training - Weiterbildungen - Umschulungen - Coaching - Sprachen - ECPv6.15.17//NONSGML v1.0//EN
CALSCALE:GREGORIAN
METHOD:PUBLISH
X-ORIGINAL-URL:https://evbtraining.de
X-WR-CALDESC:Veranstaltungen für EVB Training - Weiterbildungen - Umschulungen - Coaching - Sprachen
REFRESH-INTERVAL;VALUE=DURATION:PT1H
X-Robots-Tag:noindex
X-PUBLISHED-TTL:PT1H
BEGIN:VTIMEZONE
TZID:Europe/Berlin
BEGIN:DAYLIGHT
TZOFFSETFROM:+0100
TZOFFSETTO:+0200
TZNAME:CEST
DTSTART:20230326T010000
END:DAYLIGHT
BEGIN:STANDARD
TZOFFSETFROM:+0200
TZOFFSETTO:+0100
TZNAME:CET
DTSTART:20231029T010000
END:STANDARD
BEGIN:DAYLIGHT
TZOFFSETFROM:+0100
TZOFFSETTO:+0200
TZNAME:CEST
DTSTART:20240331T010000
END:DAYLIGHT
BEGIN:STANDARD
TZOFFSETFROM:+0200
TZOFFSETTO:+0100
TZNAME:CET
DTSTART:20241027T010000
END:STANDARD
BEGIN:DAYLIGHT
TZOFFSETFROM:+0100
TZOFFSETTO:+0200
TZNAME:CEST
DTSTART:20250330T010000
END:DAYLIGHT
BEGIN:STANDARD
TZOFFSETFROM:+0200
TZOFFSETTO:+0100
TZNAME:CET
DTSTART:20251026T010000
END:STANDARD
END:VTIMEZONE
BEGIN:VEVENT
DTSTART;TZID=Europe/Berlin:20240501T140000
DTEND;TZID=Europe/Berlin:20240501T160000
DTSTAMP:20260419T171322
CREATED:20240422T100817Z
LAST-MODIFIED:20240428T073528Z
UID:10000208-1714572000-1714579200@evbtraining.de
SUMMARY:WEBINAR-Pädagogische ergänzungskraftalltagshelfer’in in der OGS auf Arabisch – 01.05.2024 um 14:00 Uhr
DESCRIPTION:هل تود العمل بمجال الأطفال او المراهقين؟ برنامجنا التعليمي بمجال ال OGS يقدم لك الخبرة الكافية للعمل كمرافق يومي للطلاب والعديد من الإيجابيات الآخرى على سبيل المثال ٥ شهادات مع إمكانية إعارة لابتوب خلال فترة الكورس وتدريب ضمن المدرسة بعد إنهاء الكورس. برنامجنا التعليمي مجاني في حال الحصول على تمويل من الجوب سنتر او ال Agentur für Arbeit في حال الاهتمام بالكورس يمكنكم حضور الندوة التعريفية المجانية الخاصة به بتاريخ 01 شهر 05 2024 عن طريق برنامج ال Zoom عند تمام الساعة الثانية ظهرا . للتسجيل هنا: \n\nDie Weiterbildung zur pädagogischen Ergänzungskraft/Alltagshelfer*in OGS qualifiziert dich für eine Tätigkeit im Nachmittagsbereich an der Schule und in der außerschulischen Betreuung von Kindern und Jugendlichen. \nWenn du gerne mit Kindern und Jugendlichen arbeiten möchtest und das Ziel hast\, an einer Schule zu arbeiten\, ist diese Weiterbildung für dich die richtige. \nDann mach mit bei unserem Weiterbildungsprogramm “Weiterbildung zur pädagogischen Ergänzungskraft/Alltagshelfer*in OGS“. \nNach erfolgreichem Abschluss unserer Weiterbildung stehen dir vielfältige Einsatzmöglichkeiten offen\, darunter: \n\nPädagogische Ergänzungskraft\nHortbetreuer*in\nOGS-Betreuer*in\nIntegrationskraft\nSchulbegleiter*in
URL:https://evbtraining.de/webinar/webinar-0105-ar/
CATEGORIES:Arabisch,Infoveranstaltung,Weiterbildungen
ATTACH;FMTTYPE=image/jpeg:https://evbtraining.de/wp-content/uploads/2024/03/Facebook-Post-Vorlage-OGS-ar.jpg
ORGANIZER;CN="Beratung Arabisch":MAILTO:beratung-ar@evbtraining.de
LOCATION:https://us06web.zoom.us/j/82008281836
END:VEVENT
END:VCALENDAR