BEGIN:VCALENDAR
VERSION:2.0
PRODID:-//EVB Training - Weiterbildungen - Umschulungen - Coaching - Sprachen - ECPv6.15.17//NONSGML v1.0//EN
CALSCALE:GREGORIAN
METHOD:PUBLISH
X-ORIGINAL-URL:https://evbtraining.de
X-WR-CALDESC:Veranstaltungen für EVB Training - Weiterbildungen - Umschulungen - Coaching - Sprachen
REFRESH-INTERVAL;VALUE=DURATION:PT1H
X-Robots-Tag:noindex
X-PUBLISHED-TTL:PT1H
BEGIN:VTIMEZONE
TZID:Europe/Berlin
BEGIN:DAYLIGHT
TZOFFSETFROM:+0100
TZOFFSETTO:+0200
TZNAME:CEST
DTSTART:20230326T010000
END:DAYLIGHT
BEGIN:STANDARD
TZOFFSETFROM:+0200
TZOFFSETTO:+0100
TZNAME:CET
DTSTART:20231029T010000
END:STANDARD
BEGIN:DAYLIGHT
TZOFFSETFROM:+0100
TZOFFSETTO:+0200
TZNAME:CEST
DTSTART:20240331T010000
END:DAYLIGHT
BEGIN:STANDARD
TZOFFSETFROM:+0200
TZOFFSETTO:+0100
TZNAME:CET
DTSTART:20241027T010000
END:STANDARD
BEGIN:DAYLIGHT
TZOFFSETFROM:+0100
TZOFFSETTO:+0200
TZNAME:CEST
DTSTART:20250330T010000
END:DAYLIGHT
BEGIN:STANDARD
TZOFFSETFROM:+0200
TZOFFSETTO:+0100
TZNAME:CET
DTSTART:20251026T010000
END:STANDARD
END:VTIMEZONE
BEGIN:VEVENT
DTSTART;TZID=Europe/Berlin:20240430T140000
DTEND;TZID=Europe/Berlin:20240430T160000
DTSTAMP:20260419T202756
CREATED:20240405T125419Z
LAST-MODIFIED:20240426T042445Z
UID:10000175-1714485600-1714492800@evbtraining.de
SUMMARY:WEBINAR- Umschulungen IT - auf Arabisch - 30.04.2024  um 14:00 Uhr - كونوا على الموعد للمحاضرة التعريفية لمهنة المعلوماتية وتقنيات الحاسوب
DESCRIPTION:كونوا على الموعد للمحاضرة التعريفية لمهنة المعلوماتية وتقنيات الحاسوب \nهل تريد تغير مسار حياتك المهنية واقتحام عالم التقنيات والحاسوب؟\nإذاً ف دورة التأهيل المهنية مناسبة لك!\nهذه الدورة مختصة في مجال دمج الأنظمة و تطوير التطبيقات و معترف بها من قبل الIHK\nأي تعادل التدريب المهني “أوسبيلدونغ “\nمميزات الدورة:\nتوجيه فردي بما يناسب مقدراتك و يعزز خبراتك\nدعم و مساعدة بالبحث عن عمل و تدريب لبداية حياتك المهنية\n هدية لابتوب\nمساعدة بالتحضير لامتحان ال IHK\nوالكثير الكثير بانتظارك!\n100% ممول من قبل ال جوب سنتر ومكتب العمل!\nيمكنك البدء بدون القلق من التمويل والمصاريف!\nللمزيد من المعلومات يمكنك التسجيل بالندوة التعريفية 30.04.2024 الساعة 14:00\nوسيتم الإجابة عن الأسئلة و الاستفسارات!\nhttps://evbtraining.de/webinar/webinar-3004-ar
URL:https://evbtraining.de/webinar/webinar-3004-ar/
CATEGORIES:Arabisch,Infoveranstaltung,Umschulungen
ATTACH;FMTTYPE=image/png:https://evbtraining.de/wp-content/uploads/2024/04/Webinar_USFI_ar-2.png
ORGANIZER;CN="Beratung Arabisch":MAILTO:beratung-ar@evbtraining.de
LOCATION:https://us06web.zoom.us/j/81413353401
END:VEVENT
BEGIN:VEVENT
DTSTART;TZID=Europe/Berlin:20240430T140000
DTEND;TZID=Europe/Berlin:20240430T160000
DTSTAMP:20260419T202756
CREATED:20240405T141252Z
LAST-MODIFIED:20240426T043220Z
UID:10000176-1714485600-1714492800@evbtraining.de
SUMMARY:WEBINAR- Umschulungen IT - auf Türkisch - 30.04.2024  um 14:00 Uhr
DESCRIPTION:EVB-Training ile yeni bir kariyere adım atma zamanı! \n\n\n\n Bilgi teknolojileri yani IT dünyasına adım atmak ister misiniz? O zaman Almanya Eğitim Sisteminin bir parçası olan IHK’da Fachinformatiker/in olarak sertifikalandırılmak için doğru yerdesiniz! Systemintegration ve Anwendungsentwicklung alanlarında size IT kariyeriniz için mükemmel bir imkan sunuyoruz.\n\n\n\nSizler için sunduğumuz avantajlar:\n Tamamen kişiselleştirilmiş bir mentorluk programı ile tam potansiyelinizi keşfedin\n Staj ve iş arama sürecinizde destek alın\, iş dünyasına sorunsuz bir başlangıç yapın\n IHK Sınavı’na hazırlık grupları ile sınava en iyi şekilde hazırlanın\n Ve sizin için hazırladığımız diğer birçok avantaj!\n\n\n\n Agentür für Arbeit veya Jobcenter tarafından %100 destek – maddi endişeler olmadan eğitiminize başlayın!\n\n\n\n 30.04.2024 tarihinde saat 14:00’da düzenleyeceğimiz ücretsiz web seminerimize katılın\, eğitimimiz hakkında daha fazla bilgi edinin ve tüm sorularınıza cevap bulun.\n\n\n\n Daha fazla bilgi için https://evbtraining.de/webinar/webinar-3004-tr/
URL:https://evbtraining.de/webinar/webinar-3004-tr/
CATEGORIES:Infoveranstaltung,Türkçe,Umschulungen
ATTACH;FMTTYPE=image/png:https://evbtraining.de/wp-content/uploads/2024/04/Webinar_USFI_tr-1.png
ORGANIZER;CN="Beratung T%C3%BCrkce":MAILTO:beratung-tr@evbtraining.de
LOCATION:https://us06web.zoom.us/j/88476189316
END:VEVENT
BEGIN:VEVENT
DTSTART;TZID=Europe/Berlin:20240430T140000
DTEND;TZID=Europe/Berlin:20240430T160000
DTSTAMP:20260419T202756
CREATED:20240405T141526Z
LAST-MODIFIED:20240409T104241Z
UID:10000177-1714485600-1714492800@evbtraining.de
SUMMARY:WEBINAR- Umschulungen IT - 30.04.2024 um 14:00 Uhr
DESCRIPTION:Traumjob durch berufliche Umschulung\nGeförderte Umschulungen mit Bildungsgutschein. \n  \nAnerkannte IHK-Zertifizierung erwerben\nbis zu 100 % Förderung\n20 Schulungsstandorte in Deutschland\n150 Euro Weiterbildungsgeld pro Monat erhalten
URL:https://evbtraining.de/webinar/webinar-3004/
CATEGORIES:Deutsch,Infoveranstaltung,Umschulungen
ATTACH;FMTTYPE=image/png:https://evbtraining.de/wp-content/uploads/2024/04/Webinar_USFI_de-1-e1742221135613.png
ORGANIZER;CN="Beratung Deutsch":MAILTO:beratung-de@evbtraining.de
LOCATION:
END:VEVENT
BEGIN:VEVENT
DTSTART;TZID=Europe/Berlin:20240430T140000
DTEND;TZID=Europe/Berlin:20240430T160000
DTSTAMP:20260419T202756
CREATED:20240405T141806Z
LAST-MODIFIED:20240426T044005Z
UID:10000178-1714485600-1714492800@evbtraining.de
SUMMARY:WEBINAR- Umschulungen IT - auf Persisch - 30.04.2024  um 14:00 Uhr
DESCRIPTION:برای یک حرفه جدید به عنوان متخصص IT آماده باشید! \n\n\n\n آیا می خواهید خود را در دنیای IT غرق کنید؟ پس Umschulung ما برای تبدیل شدن به یک متخصص فناوری اطلاعات در IHK برای شما مناسب است! با تخصص در یکپارچه سازی سیستم و توسعه برنامه، ما راه عالی برای حرفه IT شما را به شما پیشنهاد می کنیم.\n\n\n\nمزایای ما برای شما:\n مشاوره فردی برای توسعه کامل پتانسیل شما\n پشتیبانی در یافتن کارآموزی و شغل برای شروعی آرام در دنیای کار\n هدیه لپ تاپ\nآمادگی برای آزمون آزمایشی IHK تا به خوبی آماده شوید\n و بسیاری مزایای دیگر در انتظار شماست!\n\n\n\n 100% بودجه از مرکز کاریابی یا آژانس کاریابی – اومشولونگ خود را بدون نگرانی مالی شروع کنید!\n\n\n\n در وبینار رایگان ما در 30 آوریل 2024 ساعت 14:00 شرکت کنید تا درباره اومشولونگ ما بیشتر بدانید و سوالات خود را بپرسید.\n\nhttps://evbtraining.de/webinar/webinar-3004-fa/
URL:https://evbtraining.de/webinar/webinar-3004-fa/
CATEGORIES:Infoveranstaltung,Persisch,Umschulungen
ORGANIZER;CN="Beratung Farsi":MAILTO:beratung-fa@evbtraining.de
LOCATION:https://us06web.zoom.us/j/89132332971
END:VEVENT
BEGIN:VEVENT
DTSTART;TZID=Europe/Berlin:20240430T190000
DTEND;TZID=Europe/Berlin:20240430T210000
DTSTAMP:20260419T202756
CREATED:20240405T125128Z
LAST-MODIFIED:20240409T104441Z
UID:10000174-1714503600-1714510800@evbtraining.de
SUMMARY:WEBINAR- Umschulungen IT - auf Ukrainisch/Russich - 30.04.2024 um 19:00 Uhr
DESCRIPTION:Traumjob durch berufliche Umschulung\nGeförderte Umschulungen mit Bildungsgutschein. \n  \nAnerkannte IHK-Zertifizierung erwerben\nbis zu 100 % Förderung\n20 Schulungsstandorte in Deutschland\n150 Euro Weiterbildungsgeld pro Monat erhalten
URL:https://evbtraining.de/webinar/webinar-3004-ukr/
CATEGORIES:Infoveranstaltung,Russisch,Ukrainisch,Umschulungen
ATTACH;FMTTYPE=image/png:https://evbtraining.de/wp-content/uploads/2024/04/Webinar_USFI_ukr-1.png
ORGANIZER;CN="Beratung Russisch":MAILTO:Beratung-ukr@evbtraining.de
LOCATION:https://us06web.zoom.us/j/84391343185
END:VEVENT
END:VCALENDAR