BEGIN:VCALENDAR
VERSION:2.0
PRODID:-//EVB Training - Weiterbildungen - Umschulungen - Coaching - Sprachen - ECPv6.15.17//NONSGML v1.0//EN
CALSCALE:GREGORIAN
METHOD:PUBLISH
X-WR-CALNAME:EVB Training - Weiterbildungen - Umschulungen - Coaching - Sprachen
X-ORIGINAL-URL:https://evbtraining.de
X-WR-CALDESC:Veranstaltungen für EVB Training - Weiterbildungen - Umschulungen - Coaching - Sprachen
REFRESH-INTERVAL;VALUE=DURATION:PT1H
X-Robots-Tag:noindex
X-PUBLISHED-TTL:PT1H
BEGIN:VTIMEZONE
TZID:Europe/Berlin
BEGIN:DAYLIGHT
TZOFFSETFROM:+0100
TZOFFSETTO:+0200
TZNAME:CEST
DTSTART:20230326T010000
END:DAYLIGHT
BEGIN:STANDARD
TZOFFSETFROM:+0200
TZOFFSETTO:+0100
TZNAME:CET
DTSTART:20231029T010000
END:STANDARD
BEGIN:DAYLIGHT
TZOFFSETFROM:+0100
TZOFFSETTO:+0200
TZNAME:CEST
DTSTART:20240331T010000
END:DAYLIGHT
BEGIN:STANDARD
TZOFFSETFROM:+0200
TZOFFSETTO:+0100
TZNAME:CET
DTSTART:20241027T010000
END:STANDARD
BEGIN:DAYLIGHT
TZOFFSETFROM:+0100
TZOFFSETTO:+0200
TZNAME:CEST
DTSTART:20250330T010000
END:DAYLIGHT
BEGIN:STANDARD
TZOFFSETFROM:+0200
TZOFFSETTO:+0100
TZNAME:CET
DTSTART:20251026T010000
END:STANDARD
END:VTIMEZONE
BEGIN:VEVENT
DTSTART;TZID=Europe/Berlin:20240423T140000
DTEND;TZID=Europe/Berlin:20240423T160000
DTSTAMP:20260419T172051
CREATED:20240405T100203Z
LAST-MODIFIED:20240414T203436Z
UID:10000161-1713880800-1713888000@evbtraining.de
SUMMARY:WEBINAR- Umschulungen IT - 23.04.2024 auf Persisch um 14:00 Uhr
DESCRIPTION:Traumjob durch berufliche Umschulung\nGeförderte Umschulungen mit Bildungsgutschein. \n  \nAnerkannte IHK-Zertifizierung erwerben\nbis zu 100 % Förderung\n20 Schulungsstandorte in Deutschland\n150 Euro Weiterbildungsgeld pro Monat erhalten
URL:https://evbtraining.de/webinar/webinar-2304-fa/
CATEGORIES:Infoveranstaltung,Persisch,Umschulungen
ORGANIZER;CN="Beratung Farsi":MAILTO:beratung-fa@evbtraining.de
LOCATION:https://us06web.zoom.us/j/87160932858
END:VEVENT
END:VCALENDAR