BEGIN:VCALENDAR
VERSION:2.0
PRODID:-//EVB Training - Weiterbildungen - Umschulungen - Coaching - Sprachen - ECPv6.15.17//NONSGML v1.0//EN
CALSCALE:GREGORIAN
METHOD:PUBLISH
X-WR-CALNAME:EVB Training - Weiterbildungen - Umschulungen - Coaching - Sprachen
X-ORIGINAL-URL:https://evbtraining.de
X-WR-CALDESC:Veranstaltungen für EVB Training - Weiterbildungen - Umschulungen - Coaching - Sprachen
REFRESH-INTERVAL;VALUE=DURATION:PT1H
X-Robots-Tag:noindex
X-PUBLISHED-TTL:PT1H
BEGIN:VTIMEZONE
TZID:Europe/Berlin
BEGIN:DAYLIGHT
TZOFFSETFROM:+0100
TZOFFSETTO:+0200
TZNAME:CEST
DTSTART:20230326T010000
END:DAYLIGHT
BEGIN:STANDARD
TZOFFSETFROM:+0200
TZOFFSETTO:+0100
TZNAME:CET
DTSTART:20231029T010000
END:STANDARD
BEGIN:DAYLIGHT
TZOFFSETFROM:+0100
TZOFFSETTO:+0200
TZNAME:CEST
DTSTART:20240331T010000
END:DAYLIGHT
BEGIN:STANDARD
TZOFFSETFROM:+0200
TZOFFSETTO:+0100
TZNAME:CET
DTSTART:20241027T010000
END:STANDARD
BEGIN:DAYLIGHT
TZOFFSETFROM:+0100
TZOFFSETTO:+0200
TZNAME:CEST
DTSTART:20250330T010000
END:DAYLIGHT
BEGIN:STANDARD
TZOFFSETFROM:+0200
TZOFFSETTO:+0100
TZNAME:CET
DTSTART:20251026T010000
END:STANDARD
END:VTIMEZONE
BEGIN:VEVENT
DTSTART;TZID=Europe/Berlin:20240404T140000
DTEND;TZID=Europe/Berlin:20240404T160000
DTSTAMP:20260419T172056
CREATED:20240319T100025Z
LAST-MODIFIED:20240322T103523Z
UID:10000149-1712239200-1712246400@evbtraining.de
SUMMARY:WEBINAR-Schulbegleiter*in / Integrationsassistent*in auf Persisch – 04.04.2024 um 14:00 Uhr
DESCRIPTION:Wenn du gerne mit Kindern oder Jugendlichen mit Förderbedarf arbeiten möchtest und das Ziel hast einen Beitrag zur schulischen Teilhabe junger Menschen zu leisten\, ist die Weiterbildung für dich richtig. \nDann mach mit bei unserem Weiterbildungsprogramm “Schulbegleiter*in / Integrationsassistent*in“. \nNach erfolgreichem Abschluss unserer Weiterbildung stehen dir vielfältige Einsatzmöglichkeiten offen\, darunter: \n\nSchulbegleiter*in\nIntegrationsassistent*in\nTeilhabeassistent*in\nIntegrationshelfer*in\nSchulassistent*in\nInklusionsassistent*in
URL:https://evbtraining.de/webinar/webinar-0404-fa/
CATEGORIES:Infoveranstaltung,Persisch,Weiterbildungen
ATTACH;FMTTYPE=image/png:https://evbtraining.de/wp-content/uploads/2024/03/Webinar_SB_fa-e1711108822199.png
ORGANIZER;CN="Beratung Farsi":MAILTO:beratung-fa@evbtraining.de
LOCATION:https://us06web.zoom.us/j/85029891046
END:VEVENT
BEGIN:VEVENT
DTSTART;TZID=Europe/Berlin:20240404T140000
DTEND;TZID=Europe/Berlin:20240404T160000
DTSTAMP:20260419T172056
CREATED:20240319T100604Z
LAST-MODIFIED:20240322T103539Z
UID:10000150-1712239200-1712246400@evbtraining.de
SUMMARY:WEBINAR-Schulbegleiter*in / Integrationsassistent*in auf Deutsch – 04.04.2024 um 14:00 Uhr
DESCRIPTION:Wenn du gerne mit Kindern oder Jugendlichen mit Förderbedarf arbeiten möchtest und das Ziel hast einen Beitrag zur schulischen Teilhabe junger Menschen zu leisten\, ist die Weiterbildung für dich richtig. \nDann mach mit bei unserem Weiterbildungsprogramm “Schulbegleiter*in / Integrationsassistent*in“. \nNach erfolgreichem Abschluss unserer Weiterbildung stehen dir vielfältige Einsatzmöglichkeiten offen\, darunter: \n\nSchulbegleiter*in\nIntegrationsassistent*in\nTeilhabeassistent*in\nIntegrationshelfer*in\nSchulassistent*in\nInklusionsassistent*in
URL:https://evbtraining.de/webinar/webinar-0404/
CATEGORIES:Deutsch,Infoveranstaltung,Weiterbildungen
ATTACH;FMTTYPE=image/png:https://evbtraining.de/wp-content/uploads/2024/03/Webinar_SB_de-e1728639320942.png
ORGANIZER;CN="Beratung Deutsch":MAILTO:beratung-de@evbtraining.de
LOCATION:https://us06web.zoom.us/j/85029891046
END:VEVENT
BEGIN:VEVENT
DTSTART;TZID=Europe/Berlin:20240404T140000
DTEND;TZID=Europe/Berlin:20240404T160000
DTSTAMP:20260419T172056
CREATED:20240319T100835Z
LAST-MODIFIED:20240322T103608Z
UID:10000151-1712239200-1712246400@evbtraining.de
SUMMARY:WEBINAR-Schulbegleiter*in / Integrationsassistent*in auf Türkisch – 04.04.2024 um 14:00 Uhr
DESCRIPTION:Wenn du gerne mit Kindern oder Jugendlichen mit Förderbedarf arbeiten möchtest und das Ziel hast einen Beitrag zur schulischen Teilhabe junger Menschen zu leisten\, ist die Weiterbildung für dich richtig. \nDann mach mit bei unserem Weiterbildungsprogramm “Schulbegleiter*in / Integrationsassistent*in“. \nNach erfolgreichem Abschluss unserer Weiterbildung stehen dir vielfältige Einsatzmöglichkeiten offen\, darunter: \n\nSchulbegleiter*in\nIntegrationsassistent*in\nTeilhabeassistent*in\nIntegrationshelfer*in\nSchulassistent*in\nInklusionsassistent*in
URL:https://evbtraining.de/webinar/webinar-0404-tr/
CATEGORIES:Infoveranstaltung,Türkçe,Weiterbildungen
ATTACH;FMTTYPE=image/png:https://evbtraining.de/wp-content/uploads/2024/03/Webinar_SB_tr-e1711108804171.png
ORGANIZER;CN="Beratung T%C3%BCrkce":MAILTO:beratung-tr@evbtraining.de
LOCATION:https://us06web.zoom.us/j/85029891046
END:VEVENT
BEGIN:VEVENT
DTSTART;TZID=Europe/Berlin:20240404T140000
DTEND;TZID=Europe/Berlin:20240404T160000
DTSTAMP:20260419T172056
CREATED:20240319T101309Z
LAST-MODIFIED:20240322T103410Z
UID:10000152-1712239200-1712246400@evbtraining.de
SUMMARY:WEBINAR-Schulbegleiter*in / Integrationsassistent*in auf Arabisch – 04.04.2024 um 14:00 Uhr
DESCRIPTION:Wenn du gerne mit Kindern oder Jugendlichen mit Förderbedarf arbeiten möchtest und das Ziel hast einen Beitrag zur schulischen Teilhabe junger Menschen zu leisten\, ist die Weiterbildung für dich richtig. \nDann mach mit bei unserem Weiterbildungsprogramm “Schulbegleiter*in / Integrationsassistent*in“. \nNach erfolgreichem Abschluss unserer Weiterbildung stehen dir vielfältige Einsatzmöglichkeiten offen\, darunter: \n\nSchulbegleiter*in\nIntegrationsassistent*in\nTeilhabeassistent*in\nIntegrationshelfer*in\nSchulassistent*in\nInklusionsassistent*in
URL:https://evbtraining.de/webinar/webinar-0404-ar/
CATEGORIES:Arabisch,Infoveranstaltung,Weiterbildungen
ATTACH;FMTTYPE=image/png:https://evbtraining.de/wp-content/uploads/2024/03/Webinar_SB_ar-e1711108863780.png
ORGANIZER;CN="Beratung Arabisch":MAILTO:beratung-ar@evbtraining.de
LOCATION:https://us06web.zoom.us/j/85029891046
END:VEVENT
BEGIN:VEVENT
DTSTART;TZID=Europe/Berlin:20240404T190000
DTEND;TZID=Europe/Berlin:20240404T210000
DTSTAMP:20260419T172056
CREATED:20240319T101625Z
LAST-MODIFIED:20240322T103508Z
UID:10000153-1712257200-1712264400@evbtraining.de
SUMMARY:WEBINAR-Schulbegleiter*in / Integrationsassistent*in auf Ukrainisch/Russisch – 04.04.2024 um 19:00 Uhr
DESCRIPTION:Wenn du gerne mit Kindern oder Jugendlichen mit Förderbedarf arbeiten möchtest und das Ziel hast einen Beitrag zur schulischen Teilhabe junger Menschen zu leisten\, ist die Weiterbildung für dich richtig. \nDann mach mit bei unserem Weiterbildungsprogramm “Schulbegleiter*in / Integrationsassistent*in“. \nNach erfolgreichem Abschluss unserer Weiterbildung stehen dir vielfältige Einsatzmöglichkeiten offen\, darunter: \n\nSchulbegleiter*in\nIntegrationsassistent*in\nTeilhabeassistent*in\nIntegrationshelfer*in\nSchulassistent*in\nInklusionsassistent*in
URL:https://evbtraining.de/webinar/webinar-0404-ukr/
CATEGORIES:Infoveranstaltung,Russisch,Ukrainisch,Weiterbildungen
ATTACH;FMTTYPE=image/png:https://evbtraining.de/wp-content/uploads/2024/03/Webinar_SB_ukr-e1711108779574.png
ORGANIZER;CN="Beratung Russisch":MAILTO:Beratung-ukr@evbtraining.de
LOCATION:https://us06web.zoom.us/j/85029891046
END:VEVENT
END:VCALENDAR