BEGIN:VCALENDAR
VERSION:2.0
PRODID:-//EVB Training - Weiterbildungen - Umschulungen - Coaching - Sprachen - ECPv6.15.20//NONSGML v1.0//EN
CALSCALE:GREGORIAN
METHOD:PUBLISH
X-ORIGINAL-URL:https://evbtraining.de
X-WR-CALDESC:Veranstaltungen für EVB Training - Weiterbildungen - Umschulungen - Coaching - Sprachen
REFRESH-INTERVAL;VALUE=DURATION:PT1H
X-Robots-Tag:noindex
X-PUBLISHED-TTL:PT1H
BEGIN:VTIMEZONE
TZID:Europe/Berlin
BEGIN:DAYLIGHT
TZOFFSETFROM:+0100
TZOFFSETTO:+0200
TZNAME:CEST
DTSTART:20230326T010000
END:DAYLIGHT
BEGIN:STANDARD
TZOFFSETFROM:+0200
TZOFFSETTO:+0100
TZNAME:CET
DTSTART:20231029T010000
END:STANDARD
BEGIN:DAYLIGHT
TZOFFSETFROM:+0100
TZOFFSETTO:+0200
TZNAME:CEST
DTSTART:20240331T010000
END:DAYLIGHT
BEGIN:STANDARD
TZOFFSETFROM:+0200
TZOFFSETTO:+0100
TZNAME:CET
DTSTART:20241027T010000
END:STANDARD
BEGIN:DAYLIGHT
TZOFFSETFROM:+0100
TZOFFSETTO:+0200
TZNAME:CEST
DTSTART:20250330T010000
END:DAYLIGHT
BEGIN:STANDARD
TZOFFSETFROM:+0200
TZOFFSETTO:+0100
TZNAME:CET
DTSTART:20251026T010000
END:STANDARD
END:VTIMEZONE
BEGIN:VEVENT
DTSTART;TZID=Europe/Berlin:20240502T140000
DTEND;TZID=Europe/Berlin:20240502T160000
DTSTAMP:20260423T072044
CREATED:20240405T150157Z
LAST-MODIFIED:20240405T150157Z
UID:10000183-1714658400-1714665600@evbtraining.de
SUMMARY:WEBINAR-Pädagogischen Hilfskraft im Bereich Soziale Arbeit  – 02.05.2024 um 14:00 Uhr
DESCRIPTION:Du hast zuvor bereits mit Menschen gearbeitet und vermisst den Arbeitsalltag mit Kindern\, Jugendlichen\, Erwachsenen oder Senioren? Dein Bildungsabschluss benötigt Erweiterung\, Fortbildung oder Praxiserfahrung\, um in den Arbeitsfeldern der Sozialen Arbeit arbeiten zu können? \nDie Weiterbildung kann dich in diesen Fällen für den Quereinstieg als pädagogische Hilfskraft in den Arbeitsfeldern der Sozialen Arbeit qualifizieren. \nDann mach mit bei unserem Weiterbildungsprogramm “Weiterbildung zur pädagogischen Hilfskraft“. \nNach erfolgreichem Abschluss unserer Weiterbildung stehen dir vielfältige Einsatzmöglichkeiten offen\, darunter: \n\n\n Ambulante Familienhilfe\nAsylhilfe und Integration\nFrauenhilfe und -förderung\nAufklärungshilfen\nStreetwork\nObdachlosenhilfe\nKinder- und Jugendschutz\nWohngruppen\nJugendzentrum\nHortbetreuung an der Grundschule\nAltenhilfe und -pflege\nGesundheitshilfe\nSuchthilfe\nuvm\n\n\n\n\n	Ähnliche Beiträge
URL:https://evbtraining.de/webinar/webinar-0205/
CATEGORIES:Deutsch,Infoveranstaltung,Weiterbildungen
ATTACH;FMTTYPE=image/png:https://evbtraining.de/wp-content/uploads/2024/03/Webinar_WPH_de-e1744113503779.png
ORGANIZER;CN="Beratung Deutsch":MAILTO:beratung-de@evbtraining.de
LOCATION:https://us06web.zoom.us/j/84926994208
END:VEVENT
BEGIN:VEVENT
DTSTART;TZID=Europe/Berlin:20240430T140000
DTEND;TZID=Europe/Berlin:20240430T160000
DTSTAMP:20260423T072044
CREATED:20240405T141526Z
LAST-MODIFIED:20240409T104241Z
UID:10000177-1714485600-1714492800@evbtraining.de
SUMMARY:WEBINAR- Umschulungen IT - 30.04.2024 um 14:00 Uhr
DESCRIPTION:Traumjob durch berufliche Umschulung\nGeförderte Umschulungen mit Bildungsgutschein. \n  \nAnerkannte IHK-Zertifizierung erwerben\nbis zu 100 % Förderung\n20 Schulungsstandorte in Deutschland\n150 Euro Weiterbildungsgeld pro Monat erhalten \n\n\n	Ähnliche Beiträge
URL:https://evbtraining.de/webinar/webinar-3004/
CATEGORIES:Deutsch,Infoveranstaltung,Umschulungen
ATTACH;FMTTYPE=image/png:https://evbtraining.de/wp-content/uploads/2024/04/Webinar_USFI_de-1-e1742221135613.png
ORGANIZER;CN="Beratung Deutsch":MAILTO:beratung-de@evbtraining.de
LOCATION:
END:VEVENT
BEGIN:VEVENT
DTSTART;TZID=Europe/Berlin:20240424T140000
DTEND;TZID=Europe/Berlin:20240424T160000
DTSTAMP:20260423T072044
CREATED:20240405T122457Z
LAST-MODIFIED:20240411T132330Z
UID:10000169-1713967200-1713974400@evbtraining.de
SUMMARY:WEBINAR-Pädagogische ergänzungskraftalltagshelfer’in in der OGS – 24.04.2024 um 14:00 Uhr
DESCRIPTION:Die Weiterbildung zur pädagogischen Ergänzungskraft/Alltagshelfer*in OGS qualifiziert dich für eine Tätigkeit im Nachmittagsbereich an der Schule und in der außerschulischen Betreuung von Kindern und Jugendlichen. \nWenn du gerne mit Kindern und Jugendlichen arbeiten möchtest und das Ziel hast\, an einer Schule zu arbeiten\, ist diese Weiterbildung für dich die richtige. \nDann mach mit bei unserem Weiterbildungsprogramm “Weiterbildung zur pädagogischen Ergänzungskraft/Alltagshelfer*in OGS“. \nNach erfolgreichem Abschluss unserer Weiterbildung stehen dir vielfältige Einsatzmöglichkeiten offen\, darunter: \n\nPädagogische Ergänzungskraft\nHortbetreuer*in\nOGS-Betreuer*in\nIntegrationskraft\nSchulbegleiter*in\n\n\n\n	Ähnliche Beiträge
URL:https://evbtraining.de/webinar/webinar-2404/
CATEGORIES:Deutsch,Infoveranstaltung,Weiterbildungen
ATTACH;FMTTYPE=image/jpeg:https://evbtraining.de/wp-content/uploads/2024/03/Facebook-Post-Vorlage-OGS-de-e1728643159227.jpg
ORGANIZER;CN="Beratung Deutsch":MAILTO:beratung-de@evbtraining.de
LOCATION:https://us06web.zoom.us/j/85933708557
END:VEVENT
BEGIN:VEVENT
DTSTART;TZID=Europe/Berlin:20240417T140000
DTEND;TZID=Europe/Berlin:20240417T160000
DTSTAMP:20260423T072044
CREATED:20240405T114734Z
LAST-MODIFIED:20240411T132048Z
UID:10000165-1713362400-1713369600@evbtraining.de
SUMMARY:WEBINAR-Qualifizierungsprogramm für internationale Lehrkräfte - 17.04.2014 um 14:00 Uhr
DESCRIPTION:Qualifizierungsprogramm für internationale Lehrkräfte\nWenn deine Leidenschaft die Arbeit mit Kindern ist\, dann bist du bei uns genau richtig. \n  \nBerufliches Profil optimieren\nbis zu 100 % Förderung\n20 Schulungsstandorte in Deutschland\nTeilnahme auch von zu Hause aus möglich \n\n\n	Ähnliche Beiträge
URL:https://evbtraining.de/webinar/webinar-1704/
CATEGORIES:Infoveranstaltung,Türkçe,Weiterbildungen
ATTACH;FMTTYPE=image/png:https://evbtraining.de/wp-content/uploads/2024/04/Webinar_Qintl_de-1-e1728642900860.png
ORGANIZER;CN="Beratung Deutsch":MAILTO:beratung-de@evbtraining.de
LOCATION:https://us06web.zoom.us/j/82708344523
END:VEVENT
BEGIN:VEVENT
DTSTART;TZID=Europe/Berlin:20240416T140000
DTEND;TZID=Europe/Berlin:20240416T160000
DTSTAMP:20260423T072044
CREATED:20240405T091158Z
LAST-MODIFIED:20240409T103800Z
UID:10000160-1713276000-1713283200@evbtraining.de
SUMMARY:WEBINAR- Umschulungen IT - 16.04.2024 um 14:00 Uhr
DESCRIPTION:Traumjob durch berufliche Umschulung\nGeförderte Umschulungen mit Bildungsgutschein. \n  \nAnerkannte IHK-Zertifizierung erwerben\nbis zu 100 % Förderung\n20 Schulungsstandorte in Deutschland\n150 Euro Weiterbildungsgeld pro Monat erhalten \n\n\n	Ähnliche Beiträge
URL:https://evbtraining.de/webinar/webinar-1604/
CATEGORIES:Deutsch,Infoveranstaltung,Umschulungen
ATTACH;FMTTYPE=image/png:https://evbtraining.de/wp-content/uploads/2024/04/Webinar_USFI_de-1-e1742221135613.png
ORGANIZER;CN="Beratung Deutsch":MAILTO:beratung-de@evbtraining.de
LOCATION:https://us06web.zoom.us/j/82816931987
END:VEVENT
BEGIN:VEVENT
DTSTART;TZID=Europe/Berlin:20240404T140000
DTEND;TZID=Europe/Berlin:20240404T160000
DTSTAMP:20260423T072044
CREATED:20240319T100604Z
LAST-MODIFIED:20240322T103539Z
UID:10000150-1712239200-1712246400@evbtraining.de
SUMMARY:WEBINAR-Schulbegleiter*in / Integrationsassistent*in auf Deutsch – 04.04.2024 um 14:00 Uhr
DESCRIPTION:Wenn du gerne mit Kindern oder Jugendlichen mit Förderbedarf arbeiten möchtest und das Ziel hast einen Beitrag zur schulischen Teilhabe junger Menschen zu leisten\, ist die Weiterbildung für dich richtig. \nDann mach mit bei unserem Weiterbildungsprogramm “Schulbegleiter*in / Integrationsassistent*in“. \nNach erfolgreichem Abschluss unserer Weiterbildung stehen dir vielfältige Einsatzmöglichkeiten offen\, darunter: \n\nSchulbegleiter*in\nIntegrationsassistent*in\nTeilhabeassistent*in\nIntegrationshelfer*in\nSchulassistent*in\nInklusionsassistent*in\n\n\n\n	Ähnliche Beiträge
URL:https://evbtraining.de/webinar/webinar-0404/
CATEGORIES:Deutsch,Infoveranstaltung,Weiterbildungen
ATTACH;FMTTYPE=image/png:https://evbtraining.de/wp-content/uploads/2024/03/Webinar_SB_de-e1728639320942.png
ORGANIZER;CN="Beratung Deutsch":MAILTO:beratung-de@evbtraining.de
LOCATION:https://us06web.zoom.us/j/85029891046
END:VEVENT
BEGIN:VEVENT
DTSTART;TZID=Europe/Berlin:20240403T140000
DTEND;TZID=Europe/Berlin:20240403T160000
DTSTAMP:20260423T072044
CREATED:20240319T091318Z
LAST-MODIFIED:20240322T115643Z
UID:10000138-1712152800-1712160000@evbtraining.de
SUMMARY:WEBINAR-Weiterbildung zur Kitahelfer*in / Erziehungshelfer*in auf Deutsch - 03.04.2024 um 14:00 Uhr
DESCRIPTION:Wenn deine Leidenschaft die Arbeit mit Kindern ist\, dann bist du bei uns genau richtig. Wir bieten dir die Qualifikation und das Wissen\, um eine unterstützende Rolle in Kindertagesstätten und ähnlichen Einrichtungen erfolgreich auszufüllen. Beginne deine Reise in die aufregende Welt der Kinderbetreuung und gestalte die Zukunft unserer jüngsten Generation! \nDann mach mit bei unserem Weiterbildungsprogramm “Kitahelfer*in / Erziehungshelfer*in“. \nNach erfolgreichem Abschluss unserer Weiterbildung stehen dir vielfältige Berufsbezeichnungen offen\, darunter: \n\n\nPädagogische Hilfskraft\nErziehungshelfer*in\nKitahelfer*in\nSozialassistent*in\nSozialpädagogische Assistenz in der Krippe oder Kita\nHortbetreuer*in\nOGS-Betreuer*in\nKinderbetreuer*in\nKitabegleitung\nSchulbegleiter*in\nInklusionshelfer*in\nHauswirtschaftshelfer*in\nKitaassistenz\n\n\n\n\n	Ähnliche Beiträge
URL:https://evbtraining.de/webinar/webinar-0304/
CATEGORIES:Deutsch,Infoveranstaltung,Weiterbildungen
ORGANIZER;CN="Beratung Deutsch":MAILTO:beratung-de@evbtraining.de
LOCATION:https://us06web.zoom.us/j/83838381344
END:VEVENT
BEGIN:VEVENT
DTSTART;TZID=Europe/Berlin:20240328T140000
DTEND;TZID=Europe/Berlin:20240328T160000
DTSTAMP:20260423T072044
CREATED:20240319T093543Z
LAST-MODIFIED:20240325T003928Z
UID:10000144-1711634400-1711641600@evbtraining.de
SUMMARY:WEBINAR-Weiterbildung zur Full-Stack-Web-Entwickler*in auf Deutsch – 28.03.2024 um 14.00 Uhr
DESCRIPTION:Unser Kurs Full-Stack-Web-Entwickler*in vermittelt fortgeschrittene Kenntnisse der Webentwicklung\, um Absolvent*innen in die Lage zu versetzen\, selbstständig größere Webprojekte zu konzipieren und umzusetzen. Dabei werden Kenntnisse von Frontend-\, Backend- und Datenbanksystemen behandelt. Hierbei wird ein bestimmter Technologie-Stack verwendet\, der bei Unternehmen in Deutschland\, Österreich und der Schweiz am gefragtesten ist. \nFrontend bis Backend heißt: \nDie Grundlagen des Webs verstehen\n• Verschaffe dir einen Überblick über die Funktionsweise des Internets und\nerfahre\, was es mit Begriffen wie URL\, HTTP\, DNS\, HTML\, CSS und Javascript\nauf sich hat.\nWebseitengestaltung und -interaktion\n• Alles\, was du über die Frontend-Entwicklung wissen solltest: Strukturieren mit\nHTML\, Gestaltung mit CSS\, Interaktion mit Javascript.\nBackend-Programmierung\n• Lerne die Grundlagen der gängigen Webarchitekturen und\nProgrammiersprachen kennen\, die hinter jeder modernen Webseite stehen. \n\n\n\n\n	Ähnliche Beiträge
URL:https://evbtraining.de/webinar/webinar-2803-2/
CATEGORIES:Deutsch,Infoveranstaltung,Weiterbildungen
ATTACH;FMTTYPE=image/png:https://evbtraining.de/wp-content/uploads/2024/03/Webinar_FSWE_de-e1711108055795.png
ORGANIZER;CN="Beratung Deutsch":MAILTO:beratung-de@evbtraining.de
LOCATION:
END:VEVENT
BEGIN:VEVENT
DTSTART;TZID=Europe/Berlin:20240125T140000
DTEND;TZID=Europe/Berlin:20240125T160000
DTSTAMP:20260423T072044
CREATED:20240108T204329Z
LAST-MODIFIED:20240119T135018Z
UID:10000076-1706191200-1706198400@evbtraining.de
SUMMARY:WEBINAR-Weiterbildung zur Alltagsbegleiter*in auf Deutsch - 25.01.2024 um 14:00 Uhr
DESCRIPTION:Die Weiterbildung „Alltagsbegleiter*in/Betreuungsassistent*in nach §§ 43b\, 53b SGB XI“ für Menschen\, die sich für eine unterstützende Tätigkeit im sozialpflegerischen Bereich qualifizieren möchten und einen abwechslungsreichen und verantwortungsvollen Job anstreben. Während der Weiterbildung werden Ihnen die Grundkenntnisse für das Tätigkeitsfeld Alltagsbegleiter*in nähergebracht\, außerdem absolvieren Sie ein Praktikum bei einem ambulanten/mobilen Pflegedienst\, um den theoretischen Input durch praktische Erfahrungen zu festigen und zu vertiefen. Ziel der Maßnahme ist es\, Ihnen den Zugang in eine Tätigkeit als Alltagsbegleiter*in zu ermöglichen. \nDas Kursangebot\, das zum Alltagsbegleiter qualifiziert\, richtet sich an Interessenten\,  \n\ndie sich beruflich neu orientieren möchten\,\ndie sich beruflich wieder eingliedern möchten\,\ndie mit oder ohne abgeschlossene Ausbildung arbeitssuchend sind\,\ndie psychisch belastbar sind und pflegebedürftige Menschen begleiten und unterstützen möchten\,  \n\nDas Angebot ist auch interessant für Menschen mit Migrationshintergrund\, die entweder aus dem sozialpflegerischem Bereich Erfahrungen mitbringen oder – ohne eine Ausbildung in dem Bereich- Interesse an der Arbeit mit pflegebedürftigen Menschen mit besonderen Bedürfnissen haben und nach beruflichen Einstiegsmöglichkeiten in Deutschland suchen. Dazu wird die Voraussetzung des Sprachzertifikats mit dem Niveau B1 festgelegt. \n\n\n	Ähnliche Beiträge
URL:https://evbtraining.de/webinar/webinar-2501-de/
CATEGORIES:Deutsch,Infoveranstaltung,Weiterbildungen
ATTACH;FMTTYPE=image/jpeg:https://evbtraining.de/wp-content/uploads/2024/01/Alltagsbegleiter-in.jpg
ORGANIZER;CN="Beratung Deutsch":MAILTO:beratung-de@evbtraining.de
LOCATION:https://us06web.zoom.us/j/87589204606
END:VEVENT
BEGIN:VEVENT
DTSTART;TZID=Europe/Berlin:20240118T140000
DTEND;TZID=Europe/Berlin:20240118T160000
DTSTAMP:20260423T072044
CREATED:20240108T195205Z
LAST-MODIFIED:20240109T124113Z
UID:10000066-1705586400-1705593600@evbtraining.de
SUMMARY:WEBINAR- Umschulung auf Deutsch - 18.01.2024 um 14:00 Uhr
DESCRIPTION:Traumjob durch berufliche Umschulung\n\n\n\n\nGeförderte Umschulungen mit Bildungsgutschein. \n\n\n\n\n\n\nAnerkannte IHK-Zertifizierung erwerben\nbis zu 100 % Förderung\n20 Schulungsstandorte in Deutschland\n150 Euro Weiterbildungsgeld pro Monat erhalten\n\n\n\n\n\n\n	Ähnliche Beiträge
URL:https://evbtraining.de/webinar/webinar-1801-de/
CATEGORIES:Deutsch,Infoveranstaltung,Umschulungen
ATTACH;FMTTYPE=image/jpeg:https://evbtraining.de/wp-content/uploads/2024/01/veranstaltung-evb-2024-umschulungen-de.jpg
ORGANIZER;CN="Beratung Deutsch":MAILTO:beratung-de@evbtraining.de
LOCATION:https://us06web.zoom.us/j/86220344048
END:VEVENT
BEGIN:VEVENT
DTSTART;TZID=Europe/Berlin:20240117T140000
DTEND;TZID=Europe/Berlin:20240117T160000
DTSTAMP:20260423T072044
CREATED:20240108T192443Z
LAST-MODIFIED:20240109T115426Z
UID:10000060-1705500000-1705507200@evbtraining.de
SUMMARY:WEBINAR-Weiterbildung zur pädagogischen Hilfskraft auf Deutsch - 17.01.2024 um 14:00 Uhr
DESCRIPTION:Du hast zuvor bereits mit Menschen gearbeitet und vermisst den Arbeitsalltag mit Kindern\, Jugendlichen\, Erwachsenen oder Senioren? Dein Bildungsabschluss benötigt Erweiterung\, Fortbildung oder Praxiserfahrung\, um in den Arbeitsfeldern der Sozialen Arbeit arbeiten zu können? \nDie Weiterbildung kann dich in diesen Fällen für den Quereinstieg als pädagogische Hilfskraft in den Arbeitsfeldern der Sozialen Arbeit qualifizieren. \nDann mach mit bei unserem Weiterbildungsprogramm “Weiterbildung zur pädagogischen Hilfskraft“. \nNach erfolgreichem Abschluss unserer Weiterbildung stehen dir vielfältige Einsatzmöglichkeiten offen\, darunter: \n\n\n Ambulante Familienhilfe\nAsylhilfe und Integration\nFrauenhilfe und -förderung\nAufklärungshilfen\nStreetwork\nObdachlosenhilfe\nKinder- und Jugendschutz\nWohngruppen\nJugendzentrum\nHortbetreuung an der Grundschule\nAltenhilfe und -pflege\nGesundheitshilfe\nSuchthilfe\nuvm\n\n\n\n\n	Ähnliche Beiträge
URL:https://evbtraining.de/webinar/webinar-1701/
CATEGORIES:Deutsch,Infoveranstaltung,Weiterbildungen
ATTACH;FMTTYPE=image/jpeg:https://evbtraining.de/wp-content/uploads/2024/01/veranstaltung-evb-2024-wph-de.jpg
ORGANIZER;CN="Beratung Deutsch":MAILTO:beratung-de@evbtraining.de
LOCATION:https://us06web.zoom.us/j/86528350498
END:VEVENT
BEGIN:VEVENT
DTSTART;TZID=Europe/Berlin:20240111T140000
DTEND;TZID=Europe/Berlin:20240111T160000
DTSTAMP:20260423T072044
CREATED:20240108T143147Z
LAST-MODIFIED:20240109T112158Z
UID:10000055-1704981600-1704988800@evbtraining.de
SUMMARY:WEBINAR-Weiterbildung zur Kitahelfer*in / Erziehungshelfer*in auf Deutsch - 11.01.2024 um 14:00 Uhr
DESCRIPTION:Wenn deine Leidenschaft die Arbeit mit Kindern ist\, dann bist du bei uns genau richtig. Wir bieten dir die Qualifikation und das Wissen\, um eine unterstützende Rolle in Kindertagesstätten und ähnlichen Einrichtungen erfolgreich auszufüllen. Beginne deine Reise in die aufregende Welt der Kinderbetreuung und gestalte die Zukunft unserer jüngsten Generation! \nDann mach mit bei unserem Weiterbildungsprogramm “Kitahelfer*in / Erziehungshelfer*in“. \nNach erfolgreichem Abschluss unserer Weiterbildung stehen dir vielfältige Berufsbezeichnungen offen\, darunter: \n\n\nPädagogische Hilfskraft\nErziehungshelfer*in\nKitahelfer*in\nSozialassistent*in\nSozialpädagogische Assistenz in der Krippe oder Kita\nHortbetreuer*in\nOGS-Betreuer*in\nKinderbetreuer*in\nKitabegleitung\nSchulbegleiter*in\nInklusionshelfer*in\nHauswirtschaftshelfer*in\nKitaassistenz\n\n\n\n\n	Ähnliche Beiträge
URL:https://evbtraining.de/webinar/webinar-1101/
CATEGORIES:Deutsch,Infoveranstaltung,Weiterbildungen
ATTACH;FMTTYPE=image/jpeg:https://evbtraining.de/wp-content/uploads/2024/01/veranstaltung-evb-2024-kita-de.jpg
ORGANIZER;CN="Beratung Deutsch":MAILTO:beratung-de@evbtraining.de
LOCATION:https://us06web.zoom.us/j/86809117114
END:VEVENT
BEGIN:VEVENT
DTSTART;TZID=Europe/Berlin:20240103T140000
DTEND;TZID=Europe/Berlin:20240103T170000
DTSTAMP:20260423T072044
CREATED:20231226T171406Z
LAST-MODIFIED:20240103T125150Z
UID:10000047-1704290400-1704301200@evbtraining.de
SUMMARY:WEBINAR-Schulbegleiter*in / Integrationsassistent*in auf Deutsch - 03.01.2023 um 14:00 Uhr
DESCRIPTION:Wenn du gerne mit Kindern oder Jugendlichen mit Förderbedarf arbeiten möchtest und das Ziel hast einen Beitrag zur schulischen Teilhabe junger Menschen zu leisten\, ist die Weiterbildung für dich richtig. \nDann mach mit bei unserem Weiterbildungsprogramm “Schulbegleiter*in / Integrationsassistent*in“. \nNach erfolgreichem Abschluss unserer Weiterbildung stehen dir vielfältige Einsatzmöglichkeiten offen\, darunter: \n\nSchulbegleiter*in\nIntegrationsassistent*in\nTeilhabeassistent*in\nIntegrationshelfer*in\nSchulassistent*in\nInklusionsassistent*in\n\n\n\n	Ähnliche Beiträge
URL:https://evbtraining.de/webinar/webinar-0301/
CATEGORIES:Deutsch,Infoveranstaltung,Weiterbildungen
ATTACH;FMTTYPE=image/jpeg:https://evbtraining.de/wp-content/uploads/2023/12/veranstaltung-evb-schulbegleiter-de.jpg
ORGANIZER;CN="Beratung Deutsch":MAILTO:beratung-de@evbtraining.de
LOCATION:https://us06web.zoom.us/j/81213370791
END:VEVENT
END:VCALENDAR